{"text_format":"1","workbook":"xlsx","n_sheets":5,"sheets":["summary","dataExtract","dataTable","dataExternalFacebook","information"],"not_rendered":{"charts":6,"images":1,"macros":1,"external_links":0,"defined_names":15,"comments":0,"pivot_tables":0},"unopened":[],"bounds":{"document_bytes":16777216,"sheet_cells":100000,"rows_first":2000,"rows_last":500,"rows_between":2000,"halvings":0,"cell_chars":16384,"cell_head_chars":4096},"cells_cut":0,"cells_raw":0,"read":"whole","date_system":"1900"}

{"sheet":"summary","index":0,"n_rows":9,"n_cols":12,"rows_kept":9,"cut":false,"hidden":false,"merged":[]}
[null,null,null,null,null,null,null,null,null,null,"Operational Dashboard"]
[]
[null,null,null,null,null,null,null,null,null,"Date:",{"$f":"reportDate","v":"2019-03-27"}]
[null,null,null,null,null,null,null,null,null,null,null,"1. Step"]
[]
[]
[]
[]
[null,null,null,null,null,null,null,null,null,null,null,"2.Step 2"]

{"sheet":"dataExtract","index":1,"n_rows":366,"n_cols":27,"rows_kept":366,"cut":false,"hidden":true,"merged":[]}
["Day","Visits",null,null,"Week","Orders (p)",null,"Week","Product","Orders (p)",null,null,null,"Day","Visits","Visits Lower Bound","Visits Expected","Visits Upper Bound",null,null,"Metrics","Orders (p)","Orders (p)","Orders (p)","Orders (p)","Orders (p)","Orders (p)"]
["2018-11-01",7661,null,null,"2019-01-27",2754,null,"2019-01-27","Basic High Waist Jean",53,null,null,null,"2018-11-01",9823,6363,8158,9954,null,null,"Product Department","Womens","Mens","Beauty & Fragrance","Jewelry & Accessories","Children & Toys","::unspecified::"]
["2018-11-02",9292,null,null,"2019-02-03",2749,null,"2019-02-03","Basic High Waist Jean",46,null,null,null,"2018-11-02",8513,7894,9746,11599,null,null,43551.151388888888,6,4,0,8,4,0]
["2018-11-03",6870,null,null,"2019-02-10",2735,null,"2019-02-10","Basic High Waist Jean",41,null,null,null,"2018-11-03",4659,3265,5135,7005,null,null,43551.193055555559,14,12,2,4,0,0]
["2018-11-04",4532,null,null,"2019-02-17",2795,null,"2019-02-17","Basic High Waist Jean",53,null,null,null,"2018-11-04",5327,3044,4895,6747,null,null,43551.234722222223,18,8,4,4,4,0]
["2018-11-05",5870,null,null,"2019-02-24",2694,null,"2019-02-24","Basic High Waist Jean",43,null,null,null,"2018-11-05",8926,7085,8917,10750,null,null,43551.276388888888,30,28,6,2,6,0]
["2018-11-06",8404,null,null,"2019-03-03",2702,null,"2019-03-03","Basic High Waist Jean",52,null,null,null,"2018-11-06",8464,7624,9434,11243,null,null,43551.318055555559,28,28,16,12,14,2]
["2018-11-07",8201,null,null,"2019-03-10",2566,null,"2019-03-10","Basic High Waist Jean",46,null,null,null,"2018-11-07",8628,7037,8849,10660,null,null,43551.359722222223,24,16,12,6,20,2]
["2018-11-08",8182,null,null,"2019-03-17",2819,null,"2019-03-17","Basic High Waist Jean",38,null,null,null,"2018-11-08",8958,7115,8907,10698,null,null,43551.401388888888,40,16,20,6,20,0]
["2018-11-09",8458,null,null,null,null,null,null,null,null,null,null,null,"2018-11-09",8411,7111,8881,10651,null,null,43551.443055555559,30,38,18,12,10,0]
["2018-11-10",6929,null,null,null,null,null,null,null,null,null,null,null,"2018-11-10",4785,3278,5033,6789,null,null,43551.484722222223,42,24,20,12,4,0]
["2018-11-11",4536,null,null,null,null,null,null,null,null,null,null,null,"2018-11-11",5019,3284,5021,6759,null,null,43551.526388888888,30,18,20,12,10,0]
["2018-11-12",5845,null,null,null,null,null,null,null,null,null,null,null,"2018-11-12",9107,6890,8609,10327,null,null,43551.568055555559,36,20,24,24,18,0]
["2018-11-13",8698,null,null,null,null,null,null,null,null,null,null,null,"2018-11-13",8817,7908,9614,11320,null,null,43551.609722222223,42,6,12,16,4,0]
["2018-11-14",9056,null,null,null,null,null,null,null,null,null,null,null,"2018-11-14",11485,7318,9021,10724]
["2018-11-15",11387,null,null,null,null,null,null,null,null,null,null,null,"2018-11-15",12677,9677,11429,13181]
["2018-11-16",12179,null,null,null,null,null,null,null,null,null,null,null,"2018-11-16",11604,10592,12361,14129]
["2018-11-17",9928,null,null,null,null,null,null,null,null,null,null,null,"2018-11-17",6010,6419,8182,9946]
["2018-11-18",5627,null,null,null,null,null,null,null,null,null,null,null,"2018-11-18",6082,4935,6746,8557]
["2018-11-19",7239,null,null,null,null,null,null,null,null,null,null,null,"2018-11-19",12213,8058,9860,11663]
["2018-11-20",11954,null,null,null,null,null,null,null,null,null,null,null,"2018-11-20",11455,9975,11825,13674]
["2018-11-21",11002,null,null,null,null,null,null,null,null,null,null,null,"2018-11-21",11787,10126,11961,13796]
["2018-11-22",11572,null,null,null,null,null,null,null,null,null,null,null,"2018-11-22",11958,10808,12628,14447]
["2018-11-23",11675,null,null,null,null,null,null,null,null,null,null,null,"2018-11-23",12036,9633,11445,13256]
["2018-11-24",10178,null,null,null,null,null,null,null,null,null,null,null,"2018-11-24",5742,6544,8346,10148]
["2018-11-25",5743,null,null,null,null,null,null,null,null,null,null,null,"2018-11-25",6261,4976,6821,8666]
["2018-11-26",7402,null,null,null,null,null,null,null,null,null,null,null,"2018-11-26",12336,8555,10390,12225]
["2018-11-27",11895,null,null,null,null,null,null,null,null,null,null,null,"2018-11-27",11230,10288,12166,14043]
["2018-11-28",11082,null,null,null,null,null,null,null,null,null,null,null,"2018-11-28",11772,9884,11760,13637]
["2018-11-29",11290,null,null,null,null,null,null,null,null,null,null,null,"2018-11-29",11980,10619,12480,14342]
["2018-11-30",11840,null,null,null,null,null,null,null,null,null,null,null,"2018-11-30",11910,9835,11686,13537]
["2018-12-01",10191,null,null,null,null,null,null,null,null,null,null,null,"2018-12-01",6582,6385,8223,10060]
["2018-12-02",6436,null,null,null,null,null,null,null,null,null,null,null,"2018-12-02",6274,5000,6867,8733]
["2018-12-03",7464,null,null,null,null,null,null,null,null,null,null,null,"2018-12-03",12507,8708,10566,12424]
["2018-12-04",12168,null,null,null,null,null,null,null,null,null,null,null,"2018-12-04",11817,10242,12138,14034]
["2018-12-05",11365,null,null,null,null,null,null,null,null,null,null,null,"2018-12-05",11365,10400,12284,14168]
["2018-12-06",10961,null,null,null,null,null,null,null,null,null,null,null,"2018-12-06",12056,10097,11980,13862]
["2018-12-07",11670,null,null,null,null,null,null,null,null,null,null,null,"2018-12-07",11700,9983,11852,13722]
["2018-12-08",10211,null,null,null,null,null,null,null,null,null,null,null,"2018-12-08",6092,5990,7847,9703]
["2018-12-09",5708,null,null,null,null,null,null,null,null,null,null,null,"2018-12-09",6085,4558,6446,8333]
["2018-12-10",7400,null,null,null,null,null,null,null,null,null,null,null,"2018-12-10",12344,8806,10682,12559]
["2018-12-11",12081,null,null,null,null,null,null,null,null,null,null,null,"2018-12-11",11852,9885,11787,13688]
["2018-12-12",11457,null,null,null,null,null,null,null,null,null,null,null,"2018-12-12",11587,10332,12221,14110]
["2018-12-13",11153,null,null,null,null,null,null,null,null,null,null,null,"2018-12-13",12113,10429,12311,14193]
["2018-12-14",11810,null,null,null,null,null,null,null,null,null,null,null,"2018-12-14",11734,9893,11764,13634]
["2018-12-15",10013,null,null,null,null,null,null,null,null,null,null,null,"2018-12-15",6003,5850,7708,9567]
["2018-12-16",5835,null,null,null,null,null,null,null,null,null,null,null,"2018-12-16",6171,4541,6425,8309]
["2018-12-17",7176,null,null,null,null,null,null,null,null,null,null,null,"2018-12-17",11933,8880,10754,12627]
["2018-12-18",11764,null,null,null,null,null,null,null,null,null,null,null,"2018-12-18",11433,9605,11484,13364]
["2018-12-19",11197,null,null,null,null,null,null,null,null,null,null,null,"2018-12-19",11510,9957,11825,13693]
["2018-12-20",11174,null,null,null,null,null,null,null,null,null,null,null,"2018-12-20",12246,10297,12156,14014]
["2018-12-21",11867,null,null,null,null,null,null,null,null,null,null,null,"2018-12-21",11992,9977,11824,13671]
["2018-12-22",10242,null,null,null,null,null,null,null,null,null,null,null,"2018-12-22",6102,6062,7899,9736]
["2018-12-23",5871,null,null,null,null,null,null,null,null,null,null,null,"2018-12-23",6118,4697,6562,8427]
["2018-12-24",7381,null,null,null,null,null,null,null,null,null,null,null,"2018-12-24",12372,8907,10763,12620]
["2018-12-25",12180,null,null,null,null,null,null,null,null,null,null,null,"2018-12-25",11701,9925,11801,13677]
["2018-12-26",11184,null,null,null,null,null,null,null,null,null,null,null,"2018-12-26",11577,10237,12103,13969]
["2018-12-27",11194,null,null,null,null,null,null,null,null,null,null,null,"2018-12-27",11863,10422,12281,14139]
["2018-12-28",11612,null,null,null,null,null,null,null,null,null,null,null,"2018-12-28",11862,9722,11572,13423]
["2018-12-29",10245,null,null,null,null,null,null,null,null,null,null,null,"2018-12-29",5414,4354,6195,8037]
["2018-12-30",4789,null,null,null,null,null,null,null,null,null,null,null,"2018-12-30",3980,4192,6030,7868]
["2018-12-31",4967,null,null,null,null,null,null,null,null,null,null,null,"2018-12-31",9140,9315,11181,13046]
["2019-01-01",9036,null,null,null,null,null,null,null,null,null,null,null,"2019-01-01",9178,7622,9515,11408]
["2019-01-02",8871,null,null,null,null,null,null,null,null,null,null,null,"2019-01-02",8934,7370,9254,11139]
["2019-01-03",8919,null,null,null,null,null,null,null,null,null,null,null,"2019-01-03",9286,7726,9602,11478]
["2019-01-04",9269,null,null,null,null,null,null,null,null,null,null,null,"2019-01-04",8864,7451,9318,11186]
["2019-01-05",8127,null,null,null,null,null,null,null,null,null,null,null,"2019-01-05",4711,1231,3092,4952]
["2019-01-06",4900,null,null,null,null,null,null,null,null,null,null,null,"2019-01-06",4784,1992,3870,5748]
["2019-01-07",5519,null,null,null,null,null,null,null,null,null,null,null,"2019-01-07",9220,8692,10569,12446]
["2019-01-08",9128,null,null,null,null,null,null,null,null,null,null,null,"2019-01-08",9452,7891,9777,11663]
["2019-01-09",9388,null,null,null,null,null,null,null,null,null,null,null,"2019-01-09",9599,7651,9529,11407]
["2019-01-10",9507,null,null,null,null,null,null,null,null,null,null,null,"2019-01-10",9387,8230,10099,11968]
["2019-01-11",9203,null,null,null,null,null,null,null,null,null,null,null,"2019-01-11",9392,7674,9539,11404]
["2019-01-12",8724,null,null,null,null,null,null,null,null,null,null,null,"2019-01-12",4668,2417,4274,6130]
["2019-01-13",4521,null,null,null,null,null,null,null,null,null,null,null,"2019-01-13",4097,2242,4091,5940]
["2019-01-14",5039,null,null,null,null,null,null,null,null,null,null,null,"2019-01-14",9143,7576,9417,11257]
["2019-01-15",8858,null,null,null,null,null,null,null,null,null,null,null,"2019-01-15",9113,7788,9622,11455]
["2019-01-16",9376,null,null,null,null,null,null,null,null,null,null,null,"2019-01-16",9316,7592,9420,11247]
["2019-01-17",9431,null,null,null,null,null,null,null,null,null,null,null,"2019-01-17",9682,7775,9594,11414]
["2019-01-18",9498,null,null,null,null,null,null,null,null,null,null,null,"2019-01-18",9583,7890,9701,11513]
["2019-01-19",8740,null,null,null,null,null,null,null,null,null,null,null,"2019-01-19",4721,2854,4658,6461]
["2019-01-20",4537,null,null,null,null,null,null,null,null,null,null,null,"2019-01-20",4025,2344,4140,5936]
["2019-01-21",4697,null,null,null,null,null,null,null,null,null,null,null,"2019-01-21",9192,7503,9291,11079]
["2019-01-22",9171,null,null,null,null,null,null,null,null,null,null,null,"2019-01-22",9046,7725,9505,11286]
["2019-01-23",8965,null,null,null,null,null,null,null,null,null,null,null,"2019-01-23",9338,7710,9485,11260]
["2019-01-24",9526,null,null,null,null,null,null,null,null,null,null,null,"2019-01-24",9310,7940,9708,11475]
["2019-01-25",9208,null,null,null,null,null,null,null,null,null,null,null,"2019-01-25",9648,7700,9462,11223]
["2019-01-26",8758,null,null,null,null,null,null,null,null,null,null,null,"2019-01-26",4585,2905,4659,6414]
["2019-01-27",4681,null,null,null,null,null,null,null,null,null,null,null,"2019-01-27",4490,2249,3996,5744]
["2019-01-28",5097,null,null,null,null,null,null,null,null,null,null,null,"2019-01-28",9245,7755,9498,11240]
["2019-01-29",9111,null,null,null,null,null,null,null,null,null,null,null,"2019-01-29",9382,7752,9488,11224]
["2019-01-30",9384,null,null,null,null,null,null,null,null,null,null,null,"2019-01-30",9047,8057,9786,11516]
["2019-01-31",8968,null,null,null,null,null,null,null,null,null,null,null,"2019-01-31",8894,7851,9579,11306]
["2019-02-01",9109,null,null,null,null,null,null,null,null,null,null,null,"2019-02-01",10055,7667,9392,11116]
["2019-02-02",8939,null,null,null,null,null,null,null,null,null,null,null,"2019-02-02",4730,3039,4760,6482]
["2019-02-03",4878,null,null,null,null,null,null,null,null,null,null,null,"2019-02-03",3957,2623,4338,6053]
["2019-02-04",4706,null,null,null,null,null,null,null,null,null,null,null,"2019-02-04",9308,7351,9061,10770]
["2019-02-05",9122,null,null,null,null,null,null,null,null,null,null,null,"2019-02-05",8500,7686,9390,11093]
["2019-02-06",8332,null,null,null,null,null,null,null,null,null,null,null,"2019-02-06",9078,7300,9004,10708]
["2019-02-07",9162,null,null,null,null,null,null,null,null,null,null,null,"2019-02-07",9320,7580,9277,10975]
["2019-02-08",9269,null,null,null,null,null,null,null,null,null,null,null,"2019-02-08",9241,8323,10014,11705]
["2019-02-09",8589,null,null,null,null,null,null,null,null,null,null,null,"2019-02-09",4975,2616,4306,5996]
["2019-02-10",4837,null,null,null,null,null,null,null,null,null,null,null,"2019-02-10",4472,2459,4146,5834]
["2019-02-11",5060,null,null,null,null,null,null,null,null,null,null,null,"2019-02-11",8858,7825,9507,11190]
["2019-02-12",8980,null,null,null,null,null,null,null,null,null,null,null,"2019-02-12",9003,7217,8897,10577]
["2019-02-13",8830,null,null,null,null,null,null,null,null,null,null,null,"2019-02-13",9086,7767,9441,11114]
["2019-02-14",8913,null,null,null,null,null,null,null,null,null,null,null,"2019-02-14",8847,7791,9459,11128]
["2019-02-15",8970,null,null,null,null,null,null,null,null,null,null,null,"2019-02-15",8921,7850,9515,11181]
["2019-02-16",8067,null,null,null,null,null,null,null,null,null,null,null,"2019-02-16",4629,2793,4456,6119]
["2019-02-17",4642,null,null,null,null,null,null,null,null,null,null,null,"2019-02-17",4220,2228,3885,5542]
["2019-02-18",4875,null,null,null,null,null,null,null,null,null,null,null,"2019-02-18",9039,7228,8881,10533]
["2019-02-19",9199,null,null,null,null,null,null,null,null,null,null,null,"2019-02-19",9445,7367,9014,10661]
["2019-02-20",9282,null,null,null,null,null,null,null,null,null,null,null,"2019-02-20",9094,7924,9567,11209]
["2019-02-21",9233,null,null,null,null,null,null,null,null,null,null,null,"2019-02-21",9172,7782,9421,11059]
["2019-02-22",9130,null,null,null,null,null,null,null,null,null,null,null,"2019-02-22",9480,8055,9689,11323]
["2019-02-23",8498,null,null,null,null,null,null,null,null,null,null,null,"2019-02-23",4629,3511,5139,6768]
["2019-02-24",4514,null,null,null,null,null,null,null,null,null,null,null,"2019-02-24",4119,2618,4243,5868]
["2019-02-25",4947,null,null,null,null,null,null,null,null,null,null,null,"2019-02-25",8950,7292,8912,10532]
["2019-02-26",8863,null,null,null,null,null,null,null,null,null,null,null,"2019-02-26",9344,7466,9081,10695]
["2019-02-27",9359,null,null,null,null,null,null,null,null,null,null,null,"2019-02-27",8981,7585,9195,10805]
["2019-02-28",8794,null,null,null,null,null,null,null,null,null,null,null,"2019-02-28",8681,7675,9280,10885]
["2019-03-01",8838,null,null,null,null,null,null,null,null,null,null,null,"2019-03-01",9645,7763,9365,10968]
["2019-03-02",8985,null,null,null,null,null,null,null,null,null,null,null,"2019-03-02",4708,3380,4978,6576]
["2019-03-03",4578,null,null,null,null,null,null,null,null,null,null,null,"2019-03-03",4377,2766,4364,5962]
["2019-03-04",5133,null,null,null,null,null,null,null,null,null,null,null,"2019-03-04",9088,7574,9172,10770]
["2019-03-05",8767,null,null,null,null,null,null,null,null,null,null,null,"2019-03-05",8794,7759,9357,10955]
["2019-03-06",8855,null,null,null,null,null,null,null,null,null,null,null,"2019-03-06",9597,7224,8822,10421]
["2019-03-07",9737,null,null,null,null,null,null,null,null,null,null,null,"2019-03-07",9264,7723,9321,10919]
["2019-03-08",9148,null,null,null,null,null,null,null,null,null,null,null,"2019-03-08",9433,8449,10047,11645]
["2019-03-09",8783,null,null,null,null,null,null,null,null,null,null,null,"2019-03-09",4724,3347,4945,6543]
["2019-03-10",4202,null,null,null,null,null,null,null,null,null,null,null,"2019-03-10",3778,2868,4466,6064]
["2019-03-11",4931,null,null,null,null,null,null,null,null,null,null,null,"2019-03-11",8622,7242,8840,10439]
["2019-03-12",8570,null,null,null,null,null,null,null,null,null,null,null,"2019-03-12",8900,7169,8767,10366]
["2019-03-13",9036,null,null,null,null,null,null,null,null,null,null,null,"2019-03-13",9146,7536,9134,10733]
["2019-03-14",9028,null,null,null,null,null,null,null,null,null,null,null,"2019-03-14",9209,7287,8885,10483]
["2019-03-15",9067,null,null,null,null,null,null,null,null,null,null,null,"2019-03-15",9340,8017,9615,11213]
["2019-03-16",8533,null,null,null,null,null,null,null,null,null,null,null,"2019-03-16",4137,3256,4854,6452]
["2019-03-17",4114,null,null,null,null,null,null,null,null,null,null,null,"2019-03-17",4611,2319,3917,5515]
["2019-03-18",4736,null,null,null,null,null,null,null,null,null,null,null,"2019-03-18",6595,7544,9142,10740]
["2019-03-19",7128,null,null,null,null,null,null,null,null,null,null,null,"2019-03-19",9241,6882,8481,10079]
["2019-03-20",9161,null,null,null,null,null,null,null,null,null,null,null,"2019-03-20",8669,7493,9091,10689]
["2019-03-21",9069,null,null,null,null,null,null,null,null,null,null,null,"2019-03-21",9834,7116,8714,10312]
["2019-03-22",9555,null,null,null,null,null,null,null,null,null,null,null,"2019-03-22",9861,8004,9602,11200]
["2019-03-23",9118,null,null,null,null,null,null,null,null,null,null,null,"2019-03-23",4748,3318,4917,6515]
["2019-03-24",4429,null,null,null,null,null,null,null,null,null,null,null,"2019-03-24",4264,3146,4744,6342]
["2019-03-25",4823,null,null,null,null,null,null,null,null,null,null,null,"2019-03-25",8461,6963,8561,10159]
["2019-03-26",8859,null,null,null,null,null,null,null,null,null,null,null,"2019-03-26",9356,7882,9480,11078]
["2019-03-27",9082,null,null,null,null,null,null,null,null,null,null,null,"2019-03-27",5296,7609,9207,10805]
["2019-03-28",2555,null,null,null,null,null,null,null,null,null,null,null,"2019-03-28",0,7189,8787,10385]
["2019-03-29",0,null,null,null,null,null,null,null,null,null,null,null,"2019-03-29",0,6320,7918,9516]
["2019-03-30",0,null,null,null,null,null,null,null,null,null,null,null,"2019-03-30",0,436,2034,3632]
["2019-03-31",0,null,null,null,null,null,null,null,null,null,null,null,"2019-03-31",0,0,958,2556]
["2019-04-01",0,null,null,null,null,null,null,null,null,null,null,null,"2019-04-01",0,2839,4437,6035]
["2019-04-02",0,null,null,null,null,null,null,null,null,null,null,null,"2019-04-02",0,1601,3202,4802]
["2019-04-03",0,null,null,null,null,null,null,null,null,null,null,null,"2019-04-03",0,0,1465,3078]
["2019-04-04",0,null,null,null,null,null,null,null,null,null,null,null,"2019-04-04",0,0,571,2193]
["2019-04-05",0,null,null,null,null,null,null,null,null,null,null,null,"2019-04-05",0,0,0,1476]
["2019-04-06",0,null,null,null,null,null,null,null,null,null,null,null,"2019-04-06",0,0,0,0]
["2019-04-07",0,null,null,null,null,null,null,null,null,null,null,null,"2019-04-07",0,0,0,0]
["2019-04-08",0,null,null,null,null,null,null,null,null,null,null,null,"2019-04-08",0,0,1319,2958]
["2019-04-09",0,null,null,null,null,null,null,null,null,null,null,null,"2019-04-09",0,0,11,1656]
["2019-04-10",0,null,null,null,null,null,null,null,null,null,null,null,"2019-04-10",0,0,0,1444]
["2019-04-11",0,null,null,null,null,null,null,null,null,null,null,null,"2019-04-11",0,0,110,1748]
["2019-04-12",0,null,null,null,null,null,null,null,null,null,null,null,"2019-04-12",0,0,0,1337]
["2019-04-13",0,null,null,null,null,null,null,null,null,null,null,null,"2019-04-13",0,0,0,0]
["2019-04-14",0,null,null,null,null,null,null,null,null,null,null,null,"2019-04-14",0,0,0,0]
["2019-04-15",0,null,null,null,null,null,null,null,null,null,null,null,"2019-04-15",0,0,346,1999]
["2019-04-16",0,null,null,null,null,null,null,null,null,null,null,null,"2019-04-16",0,0,477,2127]
["2019-04-17",0,null,null,null,null,null,null,null,null,null,null,null,"2019-04-17",0,0,0,1500]
["2019-04-18",0,null,null,null,null,null,null,null,null,null,null,null,"2019-04-18",0,0,189,1832]
["2019-04-19",0,null,null,null,null,null,null,null,null,null,null,null,"2019-04-19",0,0,153,1793]
["2019-04-20",0,null,null,null,null,null,null,null,null,null,null,null,"2019-04-20",0,0,0,0]
["2019-04-21",0,null,null,null,null,null,null,null,null,null,null,null,"2019-04-21",0,0,0,0]
["2019-04-22",0,null,null,null,null,null,null,null,null,null,null,null,"2019-04-22",0,0,714,2372]
["2019-04-23",0,null,null,null,null,null,null,null,null,null,null,null,"2019-04-23",0,0,590,2246]
["2019-04-24",0,null,null,null,null,null,null,null,null,null,null,null,"2019-04-24",0,0,167,1822]
["2019-04-25",0,null,null,null,null,null,null,null,null,null,null,null,"2019-04-25",0,0,231,1882]
["2019-04-26",0,null,null,null,null,null,null,null,null,null,null,null,"2019-04-26",0,0,234,1881]
["2019-04-27",0,null,null,null,null,null,null,null,null,null,null,null,"2019-04-27",0,0,0,0]
["2019-04-28",0,null,null,null,null,null,null,null,null,null,null,null,"2019-04-28",0,0,0,0]
["2019-04-29",0,null,null,null,null,null,null,null,null,null,null,null,"2019-04-29",0,0,528,2194]
["2019-04-30",0,null,null,null,null,null,null,null,null,null,null,null,"2019-04-30",0,0,511,2174]
["2019-05-01",0,null,null,null,null,null,null,null,null,null,null,null,"2019-05-01",0,0,320,1981]
["2019-05-02",0,null,null,null,null,null,null,null,null,null,null,null,"2019-05-02",0,0,291,1948]
["2019-05-03",0,null,null,null,null,null,null,null,null,null,null,null,"2019-05-03",0,0,301,1955]
["2019-05-04",0,null,null,null,null,null,null,null,null,null,null,null,"2019-05-04",0,0,0,0]
["2019-05-05",0,null,null,null,null,null,null,null,null,null,null,null,"2019-05-05",0,0,0,572]
["2019-05-06",0,null,null,null,null,null,null,null,null,null,null,null,"2019-05-06",0,0,273,1937]
["2019-05-07",0,null,null,null,null,null,null,null,null,null,null,null,"2019-05-07",0,0,391,2051]
["2019-05-08",0,null,null,null,null,null,null,null,null,null,null,null,"2019-05-08",0,0,348,2005]
["2019-05-09",0,null,null,null,null,null,null,null,null,null,null,null,"2019-05-09",0,0,320,1975]
["2019-05-10",0,null,null,null,null,null,null,null,null,null,null,null,"2019-05-10",0,0,326,1977]
["2019-05-11",0,null,null,null,null,null,null,null,null,null,null,null,"2019-05-11",0,0,0,76]
["2019-05-12",0,null,null,null,null,null,null,null,null,null,null,null,"2019-05-12",0,0,0,1139]
["2019-05-13",0,null,null,null,null,null,null,null,null,null,null,null,"2019-05-13",0,0,0,1611]
["2019-05-14",0,null,null,null,null,null,null,null,null,null,null,null,"2019-05-14",0,0,225,1877]
["2019-05-15",0,null,null,null,null,null,null,null,null,null,null,null,"2019-05-15",0,0,313,1961]
["2019-05-16",0,null,null,null,null,null,null,null,null,null,null,null,"2019-05-16",0,0,334,1979]
["2019-05-17",0,null,null,null,null,null,null,null,null,null,null,null,"2019-05-17",0,0,345,1987]
["2019-05-18",0,null,null,null,null,null,null,null,null,null,null,null,"2019-05-18",0,0,0,870]
["2019-05-19",0,null,null,null,null,null,null,null,null,null,null,null,"2019-05-19",0,0,0,1019]
["2019-05-20",0,null,null,null,null,null,null,null,null,null,null,null,"2019-05-20",0,0,0,1360]
["2019-05-21",0,null,null,null,null,null,null,null,null,null,null,null,"2019-05-21",0,0,27,1661]
["2019-05-22",0,null,null,null,null,null,null,null,null,null,null,null,"2019-05-22",0,0,207,1837]
["2019-05-23",0,null,null,null,null,null,null,null,null,null,null,null,"2019-05-23",0,0,295,1922]
["2019-05-24",0,null,null,null,null,null,null,null,null,null,null,null,"2019-05-24",0,0,338,1963]
["2019-05-25",0,null,null,null,null,null,null,null,null,null,null,null,"2019-05-25",0,0,0,1321]
["2019-05-26",0,null,null,null,null,null,null,null,null,null,null,null,"2019-05-26",0,0,0,1136]
["2019-05-27",0,null,null,null,null,null,null,null,null,null,null,null,"2019-05-27",0,0,0,1258]
["2019-05-28",0,null,null,null,null,null,null,null,null,null,null,null,"2019-05-28",0,0,0,1487]
["2019-05-29",0,null,null,null,null,null,null,null,null,null,null,null,"2019-05-29",0,0,78,1688]
["2019-05-30",0,null,null,null,null,null,null,null,null,null,null,null,"2019-05-30",0,0,215,1822]
["2019-05-31",0,null,null,null,null,null,null,null,null,null,null,null,"2019-05-31",0,0,299,1903]
["2019-06-01",0,null,null,null,null,null,null,null,null,null,null,null,"2019-06-01",0,0,0,1558]
["2019-06-02",0,null,null,null,null,null,null,null,null,null,null,null,"2019-06-02",0,0,0,1303]
["2019-06-03",0,null,null,null,null,null,null,null,null,null,null,null,"2019-06-03",0,0,0,1270]
["2019-06-04",0,null,null,null,null,null,null,null,null,null,null,null,"2019-06-04",0,0,0,1393]
["2019-06-05",0,null,null,null,null,null,null,null,null,null,null,null,"2019-06-05",0,0,0,1564]
["2019-06-06",0,null,null,null,null,null,null,null,null,null,null,null,"2019-06-06",0,0,120,1718]
["2019-06-07",0,null,null,null,null,null,null,null,null,null,null,null,"2019-06-07",0,0,234,1832]
["2019-06-08",0,null,null,null,null,null,null,null,null,null,null,null,"2019-06-08",0,0,80,1678]
["2019-06-09",0,null,null,null,null,null,null,null,null,null,null,null,"2019-06-09",0,0,0,1465]
["2019-06-10",0,null,null,null,null,null,null,null,null,null,null,null,"2019-06-10",0,0,0,1355]
["2019-06-11",0,null,null,null,null,null,null,null,null,null,null,null,"2019-06-11",0,0,0,1380]
["2019-06-12",0,null,null,null,null,null,null,null,null,null,null,null,"2019-06-12",0,0,0,1492]
["2019-06-13",0,null,null,null,null,null,null,null,null,null,null,null,"2019-06-13",0,0,32,1630]
["2019-06-14",0,null,null,null,null,null,null,null,null,null,null,null,"2019-06-14",0,0,157,1755]
["2019-06-15",0,null,null,null,null,null,null,null,null,null,null,null,"2019-06-15",0,0,119,1718]
["2019-06-16",0,null,null,null,null,null,null,null,null,null,null,null,"2019-06-16",0,0,0,1575]
["2019-06-17",0,null,null,null,null,null,null,null,null,null,null,null,"2019-06-17",0,0,0,1450]
["2019-06-18",0,null,null,null,null,null,null,null,null,null,null,null,"2019-06-18",0,0,0,1412]
["2019-06-19",0,null,null,null,null,null,null,null,null,null,null,null,"2019-06-19",0,0,0,1462]
["2019-06-20",0,null,null,null,null,null,null,null,null,null,null,null,"2019-06-20",0,0,0,1564]
["2019-06-21",0,null,null,null,null,null,null,null,null,null,null,null,"2019-06-21",0,0,83,1681]
["2019-06-22",0,null,null,null,null,null,null,null,null,null,null,null,"2019-06-22",0,0,110,1708]
["2019-06-23",0,null,null,null,null,null,null,null,null,null,null,null,"2019-06-23",0,0,38,1636]
["2019-06-24",0,null,null,null,null,null,null,null,null,null,null,null,"2019-06-24",0,0,0,1531]
["2019-06-25",0,null,null,null,null,null,null,null,null,null,null,null,"2019-06-25",0,0,0,1464]
["2019-06-26",0,null,null,null,null,null,null,null,null,null,null,null,"2019-06-26",0,0,0,1465]
["2019-06-27",0,null,null,null,null,null,null,null,null,null,null,null,"2019-06-27",0,0,0,1526]
["2019-06-28",0,null,null,null,null,null,null,null,null,null,null,null,"2019-06-28",0,0,22,1621]
["2019-06-29",0,null,null,null,null,null,null,null,null,null,null,null,"2019-06-29",0,0,78,1676]
["2019-06-30",0,null,null,null,null,null,null,null,null,null,null,null,"2019-06-30",0,0,59,1657]
["2019-07-01",0,null,null,null,null,null,null,null,null,null,null,null,"2019-07-01",0,0,0,1587]
["2019-07-02",0,null,null,null,null,null,null,null,null,null,null,null,"2019-07-02",0,0,0,1518]
["2019-07-03",0,null,null,null,null,null,null,null,null,null,null,null,"2019-07-03",0,0,0,1489]
["2019-07-04",0,null,null,null,null,null,null,null,null,null,null,null,"2019-07-04",0,0,0,1513]
["2019-07-05",0,null,null,null,null,null,null,null,null,null,null,null,"2019-07-05",0,0,0,1579]
["2019-07-06",0,null,null,null,null,null,null,null,null,null,null,null,"2019-07-06",0,0,41,1639]
["2019-07-07",0,null,null,null,null,null,null,null,null,null,null,null,"2019-07-07",0,0,55,1653]
["2019-07-08",0,null,null,null,null,null,null,null,null,null,null,null,"2019-07-08",0,0,20,1618]
["2019-07-09",0,null,null,null,null,null,null,null,null,null,null,null,"2019-07-09",0,0,0,1562]
["2019-07-10",0,null,null,null,null,null,null,null,null,null,null,null,"2019-07-10",0,0,0,1521]
["2019-07-11",0,null,null,null,null,null,null,null,null,null,null,null,"2019-07-11",0,0,0,1518]
["2019-07-12",0,null,null,null,null,null,null,null,null,null,null,null,"2019-07-12",0,0,0,1555]
["2019-07-13",0,null,null,null,null,null,null,null,null,null,null,null,"2019-07-13",0,0,9,1607]
["2019-07-14",0,null,null,null,null,null,null,null,null,null,null,null,"2019-07-14",0,0,39,1637]
["2019-07-15",0,null,null,null,null,null,null,null,null,null,null,null,"2019-07-15",0,0,30,1629]
["2019-07-16",0,null,null,null,null,null,null,null,null,null,null,null,"2019-07-16",0,0,0,1592]
["2019-07-17",0,null,null,null,null,null,null,null,null,null,null,null,"2019-07-17",0,0,0,1553]
["2019-07-18",0,null,null,null,null,null,null,null,null,null,null,null,"2019-07-18",0,0,0,1534]
["2019-07-19",0,null,null,null,null,null,null,null,null,null,null,null,"2019-07-19",0,0,0,1548]
["2019-07-20",0,null,null,null,null,null,null,null,null,null,null,null,"2019-07-20",0,0,0,1584]
["2019-07-21",0,null,null,null,null,null,null,null,null,null,null,null,"2019-07-21",0,0,19,1617]
["2019-07-22",0,null,null,null,null,null,null,null,null,null,null,null,"2019-07-22",0,0,28,1626]
["2019-07-23",0,null,null,null,null,null,null,null,null,null,null,null,"2019-07-23",0,0,10,1608]
["2019-07-24",0,null,null,null,null,null,null,null,null,null,null,null,"2019-07-24",0,0,0,1578]
["2019-07-25",0,null,null,null,null,null,null,null,null,null,null,null,"2019-07-25",0,0,0,1553]
["2019-07-26",0,null,null,null,null,null,null,null,null,null,null,null,"2019-07-26",0,0,0,1552]
["2019-07-27",0,null,null,null,null,null,null,null,null,null,null,null,"2019-07-27",0,0,0,1572]
["2019-07-28",0,null,null,null,null,null,null,null,null,null,null,null,"2019-07-28",0,0,2,1600]
["2019-07-29",0,null,null,null,null,null,null,null,null,null,null,null,"2019-07-29",0,0,19,1617]
["2019-07-30",0,null,null,null,null,null,null,null,null,null,null,null,"2019-07-30",0,0,16,1614]
["2019-07-31",0,null,null,null,null,null,null,null,null,null,null,null,"2019-07-31",0,0,0,1594]
["2019-08-01",0,null,null,null,null,null,null,null,null,null,null,null,"2019-08-01",0,0,0,1572]
["2019-08-02",0,null,null,null,null,null,null,null,null,null,null,null,"2019-08-02",0,0,0,1561]
["2019-08-03",0,null,null,null,null,null,null,null,null,null,null,null,"2019-08-03",0,0,0,1568]
["2019-08-04",0,null,null,null,null,null,null,null,null,null,null,null,"2019-08-04",0,0,0,1588]
["2019-08-05",0,null,null,null,null,null,null,null,null,null,null,null,"2019-08-05",0,0,8,1606]
["2019-08-06",0,null,null,null,null,null,null,null,null,null,null,null,"2019-08-06",0,0,14,1612]
["2019-08-07",0,null,null,null,null,null,null,null,null,null,null,null,"2019-08-07",0,0,5,1603]
["2019-08-08",0,null,null,null,null,null,null,null,null,null,null,null,"2019-08-08",0,0,0,1586]
["2019-08-09",0,null,null,null,null,null,null,null,null,null,null,null,"2019-08-09",0,0,0,1572]
["2019-08-10",0,null,null,null,null,null,null,null,null,null,null,null,"2019-08-10",0,0,0,1571]
["2019-08-11",0,null,null,null,null,null,null,null,null,null,null,null,"2019-08-11",0,0,0,1582]
["2019-08-12",0,null,null,null,null,null,null,null,null,null,null,null,"2019-08-12",0,0,0,1597]
["2019-08-13",0,null,null,null,null,null,null,null,null,null,null,null,"2019-08-13",0,0,9,1607]
["2019-08-14",0,null,null,null,null,null,null,null,null,null,null,null,"2019-08-14",0,0,8,1606]
["2019-08-15",0,null,null,null,null,null,null,null,null,null,null,null,"2019-08-15",0,0,0,1595]
["2019-08-16",0,null,null,null,null,null,null,null,null,null,null,null,"2019-08-16",0,0,0,1583]
["2019-08-17",0,null,null,null,null,null,null,null,null,null,null,null,"2019-08-17",0,0,0,1577]
["2019-08-18",0,null,null,null,null,null,null,null,null,null,null,null,"2019-08-18",0,0,0,1580]
["2019-08-19",0,null,null,null,null,null,null,null,null,null,null,null,"2019-08-19",0,0,0,1591]
["2019-08-20",0,null,null,null,null,null,null,null,null,null,null,null,"2019-08-20",0,0,3,1601]
["2019-08-21",0,null,null,null,null,null,null,null,null,null,null,null,"2019-08-21",0,0,7,1605]
["2019-08-22",0,null,null,null,null,null,null,null,null,null,null,null,"2019-08-22",0,0,2,1600]
["2019-08-23",0,null,null,null,null,null,null,null,null,null,null,null,"2019-08-23",0,0,0,1591]
["2019-08-24",0,null,null,null,null,null,null,null,null,null,null,null,"2019-08-24",0,0,0,1583]
["2019-08-25",0,null,null,null,null,null,null,null,null,null,null,null,"2019-08-25",0,0,0,1582]
["2019-08-26",0,null,null,null,null,null,null,null,null,null,null,null,"2019-08-26",0,0,0,1588]
["2019-08-27",0,null,null,null,null,null,null,null,null,null,null,null,"2019-08-27",0,0,0,1597]
["2019-08-28",0,null,null,null,null,null,null,null,null,null,null,null,"2019-08-28",0,0,4,1602]
["2019-08-29",0,null,null,null,null,null,null,null,null,null,null,null,"2019-08-29",0,0,4,1602]
["2019-08-30",0,null,null,null,null,null,null,null,null,null,null,null,"2019-08-30",0,0,0,1596]
["2019-08-31",0,null,null,null,null,null,null,null,null,null,null,null,"2019-08-31",0,0,0,1589]
["2019-09-01",0,null,null,null,null,null,null,null,null,null,null,null,"2019-09-01",0,0,0,1585]
["2019-09-02",0,null,null,null,null,null,null,null,null,null,null,null,"2019-09-02",0,0,0,1587]
["2019-09-03",0,null,null,null,null,null,null,null,null,null,null,null,"2019-09-03",0,0,0,1593]
["2019-09-04",0,null,null,null,null,null,null,null,null,null,null,null,"2019-09-04",0,0,1,1599]
["2019-09-05",0,null,null,null,null,null,null,null,null,null,null,null,"2019-09-05",0,0,3,1601]
["2019-09-06",0,null,null,null,null,null,null,null,null,null,null,null,"2019-09-06",0,0,1,1599]
["2019-09-07",0,null,null,null,null,null,null,null,null,null,null,null,"2019-09-07",0,0,0,1594]
["2019-09-08",0,null,null,null,null,null,null,null,null,null,null,null,"2019-09-08",0,0,0,1589]
["2019-09-09",0,null,null,null,null,null,null,null,null,null,null,null,"2019-09-09",0,0,0,1589]
["2019-09-10",0,null,null,null,null,null,null,null,null,null,null,null,"2019-09-10",0,0,0,1592]
["2019-09-11",0,null,null,null,null,null,null,null,null,null,null,null,"2019-09-11",0,0,0,1597]
["2019-09-12",0,null,null,null,null,null,null,null,null,null,null,null,"2019-09-12",0,0,2,1600]
["2019-09-13",0,null,null,null,null,null,null,null,null,null,null,null,"2019-09-13",0,0,2,1600]
["2019-09-14",0,null,null,null,null,null,null,null,null,null,null,null,"2019-09-14",0,0,0,1597]
["2019-09-15",0,null,null,null,null,null,null,null,null,null,null,null,"2019-09-15",0,0,0,1593]
["2019-09-16",0,null,null,null,null,null,null,null,null,null,null,null,"2019-09-16",0,0,0,1591]
["2019-09-17",0,null,null,null,null,null,null,null,null,null,null,null,"2019-09-17",0,0,0,1592]
["2019-09-18",0,null,null,null,null,null,null,null,null,null,null,null,"2019-09-18",0,0,0,1595]
["2019-09-19",0,null,null,null,null,null,null,null,null,null,null,null,"2019-09-19",0,0,0,1598]
["2019-09-20",0,null,null,null,null,null,null,null,null,null,null,null,"2019-09-20",0,0,1,1599]
["2019-09-21",0,null,null,null,null,null,null,null,null,null,null,null,"2019-09-21",0,0,0,1598]
["2019-09-22",0,null,null,null,null,null,null,null,null,null,null,null,"2019-09-22",0,0,0,1595]
["2019-09-23",0,null,null,null,null,null,null,null,null,null,null,null,"2019-09-23",0,0,0,1593]
["2019-09-24",0,null,null,null,null,null,null,null,null,null,null,null,"2019-09-24",0,0,0,1592]
["2019-09-25",0,null,null,null,null,null,null,null,null,null,null,null,"2019-09-25",0,0,0,1594]
["2019-09-26",0,null,null,null,null,null,null,null,null,null,null,null,"2019-09-26",0,0,0,1597]
["2019-09-27",0,null,null,null,null,null,null,null,null,null,null,null,"2019-09-27",0,0,1,1599]
["2019-09-28",0,null,null,null,null,null,null,null,null,null,null,null,"2019-09-28",0,0,1,1599]
["2019-09-29",0,null,null,null,null,null,null,null,null,null,null,null,"2019-09-29",0,0,0,1597]
["2019-09-30",0,null,null,null,null,null,null,null,null,null,null,null,"2019-09-30",0,0,0,1595]
["2019-10-01",0,null,null,null,null,null,null,null,null,null,null,null,"2019-10-01",0,0,0,1594]
["2019-10-02",0,null,null,null,null,null,null,null,null,null,null,null,"2019-10-02",0,0,0,1594]
["2019-10-03",0,null,null,null,null,null,null,null,null,null,null,null,"2019-10-03",0,0,0,1596]
["2019-10-04",0,null,null,null,null,null,null,null,null,null,null,null,"2019-10-04",0,0,0,1598]
["2019-10-05",0,null,null,null,null,null,null,null,null,null,null,null,"2019-10-05",0,0,0,1599]
["2019-10-06",0,null,null,null,null,null,null,null,null,null,null,null,"2019-10-06",0,0,0,1598]
["2019-10-07",0,null,null,null,null,null,null,null,null,null,null,null,"2019-10-07",0,0,0,1596]
["2019-10-08",0,null,null,null,null,null,null,null,null,null,null,null,"2019-10-08",0,0,0,1595]
["2019-10-09",0,null,null,null,null,null,null,null,null,null,null,null,"2019-10-09",0,0,0,1595]
["2019-10-10",0,null,null,null,null,null,null,null,null,null,null,null,"2019-10-10",0,0,0,1596]
["2019-10-11",0,null,null,null,null,null,null,null,null,null,null,null,"2019-10-11",0,0,0,1597]
["2019-10-12",0,null,null,null,null,null,null,null,null,null,null,null,"2019-10-12",0,0,0,1598]
["2019-10-13",0,null,null,null,null,null,null,null,null,null,null,null,"2019-10-13",0,0,0,1598]
["2019-10-14",0,null,null,null,null,null,null,null,null,null,null,null,"2019-10-14",0,0,0,1597]
["2019-10-15",0,null,null,null,null,null,null,null,null,null,null,null,"2019-10-15",0,0,0,1596]
["2019-10-16",0,null,null,null,null,null,null,null,null,null,null,null,"2019-10-16",0,0,0,1595]
["2019-10-17",0,null,null,null,null,null,null,null,null,null,null,null,"2019-10-17",0,0,0,1596]
["2019-10-18",0,null,null,null,null,null,null,null,null,null,null,null,"2019-10-18",0,0,0,1597]
["2019-10-19",0,null,null,null,null,null,null,null,null,null,null,null,"2019-10-19",0,0,0,1598]
["2019-10-20",0,null,null,null,null,null,null,null,null,null,null,null,"2019-10-20",0,0,0,1598]
["2019-10-21",0,null,null,null,null,null,null,null,null,null,null,null,"2019-10-21",0,0,0,1598]
["2019-10-22",0,null,null,null,null,null,null,null,null,null,null,null,"2019-10-22",0,0,0,1597]
["2019-10-23",0,null,null,null,null,null,null,null,null,null,null,null,"2019-10-23",0,0,0,1596]
["2019-10-24",0,null,null,null,null,null,null,null,null,null,null,null,"2019-10-24",0,0,0,1596]
["2019-10-25",0,null,null,null,null,null,null,null,null,null,null,null,"2019-10-25",0,0,0,1597]
["2019-10-26",0,null,null,null,null,null,null,null,null,null,null,null,"2019-10-26",0,0,0,1597]
["2019-10-27",0,null,null,null,null,null,null,null,null,null,null,null,"2019-10-27",0,0,0,1598]
["2019-10-28",0,null,null,null,null,null,null,null,null,null,null,null,"2019-10-28",0,0,0,1598]
["2019-10-29",0,null,null,null,null,null,null,null,null,null,null,null,"2019-10-29",0,0,0,1598]
["2019-10-30",0,null,null,null,null,null,null,null,null,null,null,null,"2019-10-30",0,0,0,1597]
["2019-10-31",0,null,null,null,null,null,null,null,null,null,null,null,"2019-10-31",0,0,0,1597]

{"sheet":"dataTable","index":2,"n_rows":366,"n_cols":34,"rows_kept":366,"cut":false,"hidden":true,"merged":[]}
["Date","Visits","=IF(dataExtract!B2=0,NA(),dataExtract!B2)",null,"Week","Date","Orders","4 Weeks Prior Orders",null,null,null,"Date","Orders",null,null,"Day","Organic Reach","Paid Reach","Total Reach",null,"Day","Visits",null,"Visits Expected","Visits Upper Bound","Expected Range",null,null,"Orders",{"$f":"+dataExtract!V2","v":"Womens"},{"$f":"+dataExtract!W2","v":"Mens"},{"$f":"+dataExtract!X2","v":"Beauty & Fragrance"},{"$f":"+dataExtract!Y2","v":"Jewelry & Accessories"},{"$f":"+dataExtract!Z2","v":"Children & Toys"}]
[{"$f":"dataExtract!A2","v":"2018-11-01"},{"$f":"IF(dataExtract!B2=0,NA(),IF(A2>=todayDate,NA(),dataExtract!B2))","v":7661},"=IF(dataExtract!B2=0,NA(),IF(A2>=todayDate,NA(),dataExtract!B2))",null,1,{"$f":"F3-7","v":"2019-02-24"},{"$f":"VLOOKUP(F2,dataExtract!E:F,2,FALSE)","v":2694},{"$f":"VLOOKUP(reportWeekStart-(8-E2)*7,dataExtract!$E:$F,2,FALSE)","v":2754},null,null,null,{"$f":"+dataExtract!H2","v":"2019-01-27"},{"$f":"+dataExtract!J2","v":53},null,null,{"$f":"dataExtract!A2","v":"2018-11-01"},{"$f":"VLOOKUP(P2,dataExternalFacebook!A:M,13,FALSE)","v":76756},{"$f":"S2-Q2","v":20881.600000000006},{"$f":"VLOOKUP(P2,dataExternalFacebook!A:M,10,FALSE)","v":97637.6},null,{"$f":"+dataExtract!N2","v":"2018-11-01"},{"$f":"+dataExtract!O2","v":9823},{"$f":"+dataExtract!P2","v":6363},{"$f":"+dataExtract!Q2","v":8158},{"$f":"+dataExtract!R2","v":9954},{"$f":"Y2-W2","v":3591},null,null,{"$f":"dataExtract!U3","v":43551.151388888888},{"$f":"+dataExtract!V3","v":6},{"$f":"+dataExtract!W3","v":4},{"$f":"+dataExtract!X3","v":0},{"$f":"+dataExtract!Y3","v":8},{"$f":"+dataExtract!Z3","v":4}]
[{"$f":"dataExtract!A3","v":"2018-11-02"},{"$f":"IF(dataExtract!B3=0,NA(),IF(A3>=todayDate,NA(),dataExtract!B3))","v":9292},null,null,2,{"$f":"F4-7","v":"2019-03-03"},{"$f":"VLOOKUP(F3,dataExtract!E:F,2,FALSE)","v":2702},{"$f":"VLOOKUP(reportWeekStart-(8-E3)*7,dataExtract!$E:$F,2,FALSE)","v":2749},null,null,null,{"$f":"+dataExtract!H3","v":"2019-02-03"},{"$f":"+dataExtract!J3","v":46},null,null,{"$f":"dataExtract!A3","v":"2018-11-02"},{"$f":"VLOOKUP(P3,dataExternalFacebook!A:M,13,FALSE)","v":76880},{"$f":"S3-Q3","v":20915.080000000002},{"$f":"VLOOKUP(P3,dataExternalFacebook!A:M,10,FALSE)","v":97795.08},null,{"$f":"+dataExtract!N3","v":"2018-11-02"},{"$f":"+dataExtract!O3","v":8513},{"$f":"+dataExtract!P3","v":7894},{"$f":"+dataExtract!Q3","v":9746},{"$f":"+dataExtract!R3","v":11599},{"$f":"Y3-W3","v":3705},null,null,{"$f":"dataExtract!U4","v":43551.193055555559},{"$f":"+dataExtract!V4","v":14},{"$f":"+dataExtract!W4","v":12},{"$f":"+dataExtract!X4","v":2},{"$f":"+dataExtract!Y4","v":4},{"$f":"+dataExtract!Z4","v":0}]
[{"$f":"dataExtract!A4","v":"2018-11-03"},{"$f":"IF(dataExtract!B4=0,NA(),IF(A4>=todayDate,NA(),dataExtract!B4))","v":6870},null,null,3,{"$f":"F5-7","v":"2019-03-10"},{"$f":"VLOOKUP(F4,dataExtract!E:F,2,FALSE)","v":2566},{"$f":"VLOOKUP(reportWeekStart-(8-E4)*7,dataExtract!$E:$F,2,FALSE)","v":2735},null,null,null,{"$f":"+dataExtract!H4","v":"2019-02-10"},{"$f":"+dataExtract!J4","v":41},null,null,{"$f":"dataExtract!A4","v":"2018-11-03"},{"$f":"VLOOKUP(P4,dataExternalFacebook!A:M,13,FALSE)","v":76880},20915.080000000002,{"$f":"VLOOKUP(P4,dataExternalFacebook!A:M,10,FALSE)","v":97795.08},null,{"$f":"+dataExtract!N4","v":"2018-11-03"},{"$f":"+dataExtract!O4","v":4659},{"$f":"+dataExtract!P4","v":3265},{"$f":"+dataExtract!Q4","v":5135},{"$f":"+dataExtract!R4","v":7005},3740,null,null,{"$f":"dataExtract!U5","v":43551.234722222223},{"$f":"+dataExtract!V5","v":18},{"$f":"+dataExtract!W5","v":8},{"$f":"+dataExtract!X5","v":4},{"$f":"+dataExtract!Y5","v":4},{"$f":"+dataExtract!Z5","v":4}]
[{"$f":"dataExtract!A5","v":"2018-11-04"},{"$f":"IF(dataExtract!B5=0,NA(),IF(A5>=todayDate,NA(),dataExtract!B5))","v":4532},null,null,4,{"$f":"reportWeekStart","v":"2019-03-17"},{"$f":"VLOOKUP(F5,dataExtract!E:F,2,FALSE)","v":2819},{"$f":"VLOOKUP(reportWeekStart-(8-E5)*7,dataExtract!$E:$F,2,FALSE)","v":2795},null,null,null,{"$f":"+dataExtract!H5","v":"2019-02-17"},{"$f":"+dataExtract!J5","v":53},null,null,{"$f":"dataExtract!A5","v":"2018-11-04"},{"$f":"VLOOKUP(P5,dataExternalFacebook!A:M,13,FALSE)","v":76880},21230.040000000008,{"$f":"VLOOKUP(P5,dataExternalFacebook!A:M,10,FALSE)","v":98110.040000000008},null,{"$f":"+dataExtract!N5","v":"2018-11-04"},{"$f":"+dataExtract!O5","v":5327},{"$f":"+dataExtract!P5","v":3044},{"$f":"+dataExtract!Q5","v":4895},{"$f":"+dataExtract!R5","v":6747},3703,null,null,{"$f":"dataExtract!U6","v":43551.276388888888},{"$f":"+dataExtract!V6","v":30},{"$f":"+dataExtract!W6","v":28},{"$f":"+dataExtract!X6","v":6},{"$f":"+dataExtract!Y6","v":2},{"$f":"+dataExtract!Z6","v":6}]
[{"$f":"dataExtract!A6","v":"2018-11-05"},{"$f":"IF(dataExtract!B6=0,NA(),IF(A6>=todayDate,NA(),dataExtract!B6))","v":5870},null,null,null,null,null,null,null,null,null,{"$f":"+dataExtract!H6","v":"2019-02-24"},{"$f":"+dataExtract!J6","v":43},null,null,{"$f":"dataExtract!A6","v":"2018-11-05"},{"$f":"VLOOKUP(P6,dataExternalFacebook!A:M,13,FALSE)","v":76880},21230.040000000008,{"$f":"VLOOKUP(P6,dataExternalFacebook!A:M,10,FALSE)","v":98110.040000000008},null,{"$f":"+dataExtract!N6","v":"2018-11-05"},{"$f":"+dataExtract!O6","v":8926},{"$f":"+dataExtract!P6","v":7085},{"$f":"+dataExtract!Q6","v":8917},{"$f":"+dataExtract!R6","v":10750},3665,null,null,{"$f":"dataExtract!U7","v":43551.318055555559},{"$f":"+dataExtract!V7","v":28},{"$f":"+dataExtract!W7","v":28},{"$f":"+dataExtract!X7","v":16},{"$f":"+dataExtract!Y7","v":12},{"$f":"+dataExtract!Z7","v":14}]
[{"$f":"dataExtract!A7","v":"2018-11-06"},{"$f":"IF(dataExtract!B7=0,NA(),IF(A7>=todayDate,NA(),dataExtract!B7))","v":8404},null,null,null,null,null,null,null,null,null,{"$f":"+dataExtract!H7","v":"2019-03-03"},{"$f":"+dataExtract!J7","v":52},null,null,{"$f":"dataExtract!A7","v":"2018-11-06"},{"$f":"VLOOKUP(P7,dataExternalFacebook!A:M,13,FALSE)","v":76756},21039.08,{"$f":"VLOOKUP(P7,dataExternalFacebook!A:M,10,FALSE)","v":97795.08},null,{"$f":"+dataExtract!N7","v":"2018-11-06"},{"$f":"+dataExtract!O7","v":8464},{"$f":"+dataExtract!P7","v":7624},{"$f":"+dataExtract!Q7","v":9434},{"$f":"+dataExtract!R7","v":11243},3619,null,null,{"$f":"dataExtract!U8","v":43551.359722222223},{"$f":"+dataExtract!V8","v":24},{"$f":"+dataExtract!W8","v":16},{"$f":"+dataExtract!X8","v":12},{"$f":"+dataExtract!Y8","v":6},{"$f":"+dataExtract!Z8","v":20}]
[{"$f":"dataExtract!A8","v":"2018-11-07"},{"$f":"IF(dataExtract!B8=0,NA(),IF(A8>=todayDate,NA(),dataExtract!B8))","v":8201},null,null,null,null,null,null,null,null,null,{"$f":"+dataExtract!H8","v":"2019-03-10"},{"$f":"+dataExtract!J8","v":46},null,null,{"$f":"dataExtract!A8","v":"2018-11-07"},{"$f":"VLOOKUP(P8,dataExternalFacebook!A:M,13,FALSE)","v":76756},20881.600000000006,{"$f":"VLOOKUP(P8,dataExternalFacebook!A:M,10,FALSE)","v":97637.6},null,{"$f":"+dataExtract!N8","v":"2018-11-07"},{"$f":"+dataExtract!O8","v":8628},{"$f":"+dataExtract!P8","v":7037},{"$f":"+dataExtract!Q8","v":8849},{"$f":"+dataExtract!R8","v":10660},3623,null,null,{"$f":"dataExtract!U9","v":43551.401388888888},{"$f":"+dataExtract!V9","v":40},{"$f":"+dataExtract!W9","v":16},{"$f":"+dataExtract!X9","v":20},{"$f":"+dataExtract!Y9","v":6},{"$f":"+dataExtract!Z9","v":20}]
[{"$f":"dataExtract!A9","v":"2018-11-08"},{"$f":"IF(dataExtract!B9=0,NA(),IF(A9>=todayDate,NA(),dataExtract!B9))","v":8182},null,null,null,null,null,null,null,null,null,{"$f":"+dataExtract!H9","v":"2019-03-17"},{"$f":"+dataExtract!J9","v":38},null,null,{"$f":"dataExtract!A9","v":"2018-11-08"},{"$f":"VLOOKUP(P9,dataExternalFacebook!A:M,13,FALSE)","v":76756},20881.600000000006,{"$f":"VLOOKUP(P9,dataExternalFacebook!A:M,10,FALSE)","v":97637.6},null,{"$f":"+dataExtract!N9","v":"2018-11-08"},{"$f":"+dataExtract!O9","v":8958},{"$f":"+dataExtract!P9","v":7115},{"$f":"+dataExtract!Q9","v":8907},{"$f":"+dataExtract!R9","v":10698},3583,null,null,{"$f":"dataExtract!U10","v":43551.443055555559},{"$f":"+dataExtract!V10","v":30},{"$f":"+dataExtract!W10","v":38},{"$f":"+dataExtract!X10","v":18},{"$f":"+dataExtract!Y10","v":12},{"$f":"+dataExtract!Z10","v":10}]
[{"$f":"dataExtract!A10","v":"2018-11-09"},{"$f":"IF(dataExtract!B10=0,NA(),IF(A10>=todayDate,NA(),dataExtract!B10))","v":8458},null,null,null,null,null,null,null,null,null,null,null,null,null,{"$f":"dataExtract!A10","v":"2018-11-09"},{"$f":"VLOOKUP(P10,dataExternalFacebook!A:M,13,FALSE)","v":81344},22120.36,{"$f":"VLOOKUP(P10,dataExternalFacebook!A:M,10,FALSE)","v":103464.36},null,{"$f":"+dataExtract!N10","v":"2018-11-09"},{"$f":"+dataExtract!O10","v":8411},{"$f":"+dataExtract!P10","v":7111},{"$f":"+dataExtract!Q10","v":8881},{"$f":"+dataExtract!R10","v":10651},3540,null,null,{"$f":"dataExtract!U11","v":43551.484722222223},{"$f":"+dataExtract!V11","v":42},{"$f":"+dataExtract!W11","v":24},{"$f":"+dataExtract!X11","v":20},{"$f":"+dataExtract!Y11","v":12},{"$f":"+dataExtract!Z11","v":4}]
[{"$f":"dataExtract!A11","v":"2018-11-10"},{"$f":"IF(dataExtract!B11=0,NA(),IF(A11>=todayDate,NA(),dataExtract!B11))","v":6929},null,null,null,null,null,null,null,null,null,null,null,null,null,{"$f":"dataExtract!A11","v":"2018-11-10"},{"$f":"VLOOKUP(P11,dataExternalFacebook!A:M,13,FALSE)","v":84692},23181.800000000003,{"$f":"VLOOKUP(P11,dataExternalFacebook!A:M,10,FALSE)","v":107873.8},null,{"$f":"+dataExtract!N11","v":"2018-11-10"},{"$f":"+dataExtract!O11","v":4785},{"$f":"+dataExtract!P11","v":3278},{"$f":"+dataExtract!Q11","v":5033},{"$f":"+dataExtract!R11","v":6789},3511,null,null,{"$f":"dataExtract!U12","v":43551.526388888888},{"$f":"+dataExtract!V12","v":30},{"$f":"+dataExtract!W12","v":18},{"$f":"+dataExtract!X12","v":20},{"$f":"+dataExtract!Y12","v":12},{"$f":"+dataExtract!Z12","v":10}]
[{"$f":"dataExtract!A12","v":"2018-11-11"},{"$f":"IF(dataExtract!B12=0,NA(),IF(A12>=todayDate,NA(),dataExtract!B12))","v":4536},null,null,null,null,null,null,null,null,null,null,null,null,null,{"$f":"dataExtract!A12","v":"2018-11-11"},{"$f":"VLOOKUP(P12,dataExternalFacebook!A:M,13,FALSE)","v":85436},23225.199999999997,{"$f":"VLOOKUP(P12,dataExternalFacebook!A:M,10,FALSE)","v":108661.2},null,{"$f":"+dataExtract!N12","v":"2018-11-11"},{"$f":"+dataExtract!O12","v":5019},{"$f":"+dataExtract!P12","v":3284},{"$f":"+dataExtract!Q12","v":5021},{"$f":"+dataExtract!R12","v":6759},3475,null,null,{"$f":"dataExtract!U13","v":43551.568055555559},{"$f":"+dataExtract!V13","v":36},{"$f":"+dataExtract!W13","v":20},{"$f":"+dataExtract!X13","v":24},{"$f":"+dataExtract!Y13","v":24},{"$f":"+dataExtract!Z13","v":18}]
[{"$f":"dataExtract!A13","v":"2018-11-12"},{"$f":"IF(dataExtract!B13=0,NA(),IF(A13>=todayDate,NA(),dataExtract!B13))","v":5845},null,null,null,null,null,null,null,null,null,null,null,null,null,{"$f":"dataExtract!A13","v":"2018-11-12"},{"$f":"VLOOKUP(P13,dataExternalFacebook!A:M,13,FALSE)","v":85560},23416.160000000003,{"$f":"VLOOKUP(P13,dataExternalFacebook!A:M,10,FALSE)","v":108976.16},null,{"$f":"+dataExtract!N13","v":"2018-11-12"},{"$f":"+dataExtract!O13","v":9107},{"$f":"+dataExtract!P13","v":6890},{"$f":"+dataExtract!Q13","v":8609},{"$f":"+dataExtract!R13","v":10327},3437,null,null,{"$f":"dataExtract!U14","v":43551.609722222223},{"$f":"+dataExtract!V14","v":42},{"$f":"+dataExtract!W14","v":6},{"$f":"+dataExtract!X14","v":12},{"$f":"+dataExtract!Y14","v":16},{"$f":"+dataExtract!Z14","v":4}]
[{"$f":"dataExtract!A14","v":"2018-11-13"},{"$f":"IF(dataExtract!B14=0,NA(),IF(A14>=todayDate,NA(),dataExtract!B14))","v":8698},null,null,null,null,null,null,null,null,null,null,null,null,null,{"$f":"dataExtract!A14","v":"2018-11-13"},{"$f":"VLOOKUP(P14,dataExternalFacebook!A:M,13,FALSE)","v":79236},21551.199999999997,{"$f":"VLOOKUP(P14,dataExternalFacebook!A:M,10,FALSE)","v":100787.2},null,{"$f":"+dataExtract!N14","v":"2018-11-13"},{"$f":"+dataExtract!O14","v":8817},{"$f":"+dataExtract!P14","v":7908},{"$f":"+dataExtract!Q14","v":9614},{"$f":"+dataExtract!R14","v":11320},3412]
[{"$f":"dataExtract!A15","v":"2018-11-14"},{"$f":"IF(dataExtract!B15=0,NA(),IF(A15>=todayDate,NA(),dataExtract!B15))","v":9056},null,null,null,null,null,null,null,null,null,null,null,null,null,{"$f":"dataExtract!A15","v":"2018-11-14"},{"$f":"VLOOKUP(P15,dataExternalFacebook!A:M,13,FALSE)","v":78368},21474.320000000007,{"$f":"VLOOKUP(P15,dataExternalFacebook!A:M,10,FALSE)","v":99842.32},null,{"$f":"+dataExtract!N15","v":"2018-11-14"},{"$f":"+dataExtract!O15","v":11485},{"$f":"+dataExtract!P15","v":7318},{"$f":"+dataExtract!Q15","v":9021},{"$f":"+dataExtract!R15","v":10724},3406]
[{"$f":"dataExtract!A16","v":"2018-11-15"},{"$f":"IF(dataExtract!B16=0,NA(),IF(A16>=todayDate,NA(),dataExtract!B16))","v":11387},null,null,null,null,null,null,null,null,null,null,null,null,null,{"$f":"dataExtract!A16","v":"2018-11-15"},{"$f":"VLOOKUP(P16,dataExternalFacebook!A:M,13,FALSE)","v":77376},21049,{"$f":"VLOOKUP(P16,dataExternalFacebook!A:M,10,FALSE)","v":98425},null,{"$f":"+dataExtract!N16","v":"2018-11-15"},{"$f":"+dataExtract!O16","v":12677},{"$f":"+dataExtract!P16","v":9677},{"$f":"+dataExtract!Q16","v":11429},{"$f":"+dataExtract!R16","v":13181},3504]
[{"$f":"dataExtract!A17","v":"2018-11-16"},{"$f":"IF(dataExtract!B17=0,NA(),IF(A17>=todayDate,NA(),dataExtract!B17))","v":12179},null,null,null,null,null,null,null,null,null,null,null,null,null,{"$f":"dataExtract!A17","v":"2018-11-16"},{"$f":"VLOOKUP(P17,dataExternalFacebook!A:M,13,FALSE)","v":78244},21125.880000000005,{"$f":"VLOOKUP(P17,dataExternalFacebook!A:M,10,FALSE)","v":99369.88},null,{"$f":"+dataExtract!N17","v":"2018-11-16"},{"$f":"+dataExtract!O17","v":11604},{"$f":"+dataExtract!P17","v":10592},{"$f":"+dataExtract!Q17","v":12361},{"$f":"+dataExtract!R17","v":14129},3537]
[{"$f":"dataExtract!A18","v":"2018-11-17"},{"$f":"IF(dataExtract!B18=0,NA(),IF(A18>=todayDate,NA(),dataExtract!B18))","v":9928},null,null,null,null,null,null,null,null,null,null,null,null,null,{"$f":"dataExtract!A18","v":"2018-11-17"},{"$f":"VLOOKUP(P18,dataExternalFacebook!A:M,13,FALSE)","v":81964},22130.28,{"$f":"VLOOKUP(P18,dataExternalFacebook!A:M,10,FALSE)","v":104094.28},null,{"$f":"+dataExtract!N18","v":"2018-11-17"},{"$f":"+dataExtract!O18","v":6010},{"$f":"+dataExtract!P18","v":6419},{"$f":"+dataExtract!Q18","v":8182},{"$f":"+dataExtract!R18","v":9946},3527]
[{"$f":"dataExtract!A19","v":"2018-11-18"},{"$f":"IF(dataExtract!B19=0,NA(),IF(A19>=todayDate,NA(),dataExtract!B19))","v":5627},null,null,null,null,null,null,null,null,null,null,null,null,null,{"$f":"dataExtract!A19","v":"2018-11-18"},{"$f":"VLOOKUP(P19,dataExternalFacebook!A:M,13,FALSE)","v":84568},22833.360000000001,{"$f":"VLOOKUP(P19,dataExternalFacebook!A:M,10,FALSE)","v":107401.36},null,{"$f":"+dataExtract!N19","v":"2018-11-18"},{"$f":"+dataExtract!O19","v":6082},{"$f":"+dataExtract!P19","v":4935},{"$f":"+dataExtract!Q19","v":6746},{"$f":"+dataExtract!R19","v":8557},3622]
[{"$f":"dataExtract!A20","v":"2018-11-19"},{"$f":"IF(dataExtract!B20=0,NA(),IF(A20>=todayDate,NA(),dataExtract!B20))","v":7239},null,null,null,null,null,null,null,null,null,null,null,null,null,{"$f":"dataExtract!A20","v":"2018-11-19"},{"$f":"VLOOKUP(P20,dataExternalFacebook!A:M,13,FALSE)","v":85064},22967.279999999999,{"$f":"VLOOKUP(P20,dataExternalFacebook!A:M,10,FALSE)","v":108031.28},null,{"$f":"+dataExtract!N20","v":"2018-11-19"},{"$f":"+dataExtract!O20","v":12213},{"$f":"+dataExtract!P20","v":8058},{"$f":"+dataExtract!Q20","v":9860},{"$f":"+dataExtract!R20","v":11663},3605]
[{"$f":"dataExtract!A21","v":"2018-11-20"},{"$f":"IF(dataExtract!B21=0,NA(),IF(A21>=todayDate,NA(),dataExtract!B21))","v":11954},null,null,null,null,null,null,null,null,null,null,null,null,null,{"$f":"dataExtract!A21","v":"2018-11-20"},{"$f":"VLOOKUP(P21,dataExternalFacebook!A:M,13,FALSE)","v":87916},23737.320000000007,{"$f":"VLOOKUP(P21,dataExternalFacebook!A:M,10,FALSE)","v":111653.32},null,{"$f":"+dataExtract!N21","v":"2018-11-20"},{"$f":"+dataExtract!O21","v":11455},{"$f":"+dataExtract!P21","v":9975},{"$f":"+dataExtract!Q21","v":11825},{"$f":"+dataExtract!R21","v":13674},3699]
[{"$f":"dataExtract!A22","v":"2018-11-21"},{"$f":"IF(dataExtract!B22=0,NA(),IF(A22>=todayDate,NA(),dataExtract!B22))","v":11002},null,null,null,null,null,null,null,null,null,null,null,null,null,{"$f":"dataExtract!A22","v":"2018-11-21"},{"$f":"VLOOKUP(P22,dataExternalFacebook!A:M,13,FALSE)","v":87916},23737.320000000007,{"$f":"VLOOKUP(P22,dataExternalFacebook!A:M,10,FALSE)","v":111653.32},null,{"$f":"+dataExtract!N22","v":"2018-11-21"},{"$f":"+dataExtract!O22","v":11787},{"$f":"+dataExtract!P22","v":10126},{"$f":"+dataExtract!Q22","v":11961},{"$f":"+dataExtract!R22","v":13796},3670]
[{"$f":"dataExtract!A23","v":"2018-11-22"},{"$f":"IF(dataExtract!B23=0,NA(),IF(A23>=todayDate,NA(),dataExtract!B23))","v":11572},null,null,null,null,null,null,null,null,null,null,null,null,null,{"$f":"dataExtract!A23","v":"2018-11-22"},{"$f":"VLOOKUP(P23,dataExternalFacebook!A:M,13,FALSE)","v":88164},23804.28,{"$f":"VLOOKUP(P23,dataExternalFacebook!A:M,10,FALSE)","v":111968.28},null,{"$f":"+dataExtract!N23","v":"2018-11-22"},{"$f":"+dataExtract!O23","v":11958},{"$f":"+dataExtract!P23","v":10808},{"$f":"+dataExtract!Q23","v":12628},{"$f":"+dataExtract!R23","v":14447},3639]
[{"$f":"dataExtract!A24","v":"2018-11-23"},{"$f":"IF(dataExtract!B24=0,NA(),IF(A24>=todayDate,NA(),dataExtract!B24))","v":11675},null,null,null,null,null,null,null,null,null,null,null,null,null,{"$f":"dataExtract!A24","v":"2018-11-23"},{"$f":"VLOOKUP(P24,dataExternalFacebook!A:M,13,FALSE)","v":88164},23804.28,{"$f":"VLOOKUP(P24,dataExternalFacebook!A:M,10,FALSE)","v":111968.28},null,{"$f":"+dataExtract!N24","v":"2018-11-23"},{"$f":"+dataExtract!O24","v":12036},{"$f":"+dataExtract!P24","v":9633},{"$f":"+dataExtract!Q24","v":11445},{"$f":"+dataExtract!R24","v":13256},3623]
[{"$f":"dataExtract!A25","v":"2018-11-24"},{"$f":"IF(dataExtract!B25=0,NA(),IF(A25>=todayDate,NA(),dataExtract!B25))","v":10178},null,null,null,null,null,null,null,null,null,null,null,null,null,{"$f":"dataExtract!A25","v":"2018-11-24"},{"$f":"VLOOKUP(P25,dataExternalFacebook!A:M,13,FALSE)","v":88164},23804.28,{"$f":"VLOOKUP(P25,dataExternalFacebook!A:M,10,FALSE)","v":111968.28},null,{"$f":"+dataExtract!N25","v":"2018-11-24"},{"$f":"+dataExtract!O25","v":5742},{"$f":"+dataExtract!P25","v":6544},{"$f":"+dataExtract!Q25","v":8346},{"$f":"+dataExtract!R25","v":10148},3604]
[{"$f":"dataExtract!A26","v":"2018-11-25"},{"$f":"IF(dataExtract!B26=0,NA(),IF(A26>=todayDate,NA(),dataExtract!B26))","v":5743},null,null,null,null,null,null,null,null,null,null,null,null,null,{"$f":"dataExtract!A26","v":"2018-11-25"},{"$f":"VLOOKUP(P26,dataExternalFacebook!A:M,13,FALSE)","v":90520},24440.400000000009,{"$f":"VLOOKUP(P26,dataExternalFacebook!A:M,10,FALSE)","v":114960.40000000001},null,{"$f":"+dataExtract!N26","v":"2018-11-25"},{"$f":"+dataExtract!O26","v":6261},{"$f":"+dataExtract!P26","v":4976},{"$f":"+dataExtract!Q26","v":6821},{"$f":"+dataExtract!R26","v":8666},3690]
[{"$f":"dataExtract!A27","v":"2018-11-26"},{"$f":"IF(dataExtract!B27=0,NA(),IF(A27>=todayDate,NA(),dataExtract!B27))","v":7402},null,null,null,null,null,null,null,null,null,null,null,null,null,{"$f":"dataExtract!A27","v":"2018-11-26"},{"$f":"VLOOKUP(P27,dataExternalFacebook!A:M,13,FALSE)","v":87172},23536.440000000002,{"$f":"VLOOKUP(P27,dataExternalFacebook!A:M,10,FALSE)","v":110708.44},null,{"$f":"+dataExtract!N27","v":"2018-11-26"},{"$f":"+dataExtract!O27","v":12336},{"$f":"+dataExtract!P27","v":8555},{"$f":"+dataExtract!Q27","v":10390},{"$f":"+dataExtract!R27","v":12225},3670]
[{"$f":"dataExtract!A28","v":"2018-11-27"},{"$f":"IF(dataExtract!B28=0,NA(),IF(A28>=todayDate,NA(),dataExtract!B28))","v":11895},null,null,null,null,null,null,null,null,null,null,null,null,null,{"$f":"dataExtract!A28","v":"2018-11-27"},{"$f":"VLOOKUP(P28,dataExternalFacebook!A:M,13,FALSE)","v":79112},21360.240000000005,{"$f":"VLOOKUP(P28,dataExternalFacebook!A:M,10,FALSE)","v":100472.24},null,{"$f":"+dataExtract!N28","v":"2018-11-27"},{"$f":"+dataExtract!O28","v":11230},{"$f":"+dataExtract!P28","v":10288},{"$f":"+dataExtract!Q28","v":12166},{"$f":"+dataExtract!R28","v":14043},3755]
[{"$f":"dataExtract!A29","v":"2018-11-28"},{"$f":"IF(dataExtract!B29=0,NA(),IF(A29>=todayDate,NA(),dataExtract!B29))","v":11082},null,null,null,null,null,null,null,null,null,null,null,null,null,{"$f":"dataExtract!A29","v":"2018-11-28"},{"$f":"VLOOKUP(P29,dataExternalFacebook!A:M,13,FALSE)","v":75888},20489.759999999995,{"$f":"VLOOKUP(P29,dataExternalFacebook!A:M,10,FALSE)","v":96377.76},null,{"$f":"+dataExtract!N29","v":"2018-11-28"},{"$f":"+dataExtract!O29","v":11772},{"$f":"+dataExtract!P29","v":9884},{"$f":"+dataExtract!Q29","v":11760},{"$f":"+dataExtract!R29","v":13637},3753]
[{"$f":"dataExtract!A30","v":"2018-11-29"},{"$f":"IF(dataExtract!B30=0,NA(),IF(A30>=todayDate,NA(),dataExtract!B30))","v":11290},null,null,null,null,null,null,null,null,null,null,null,null,null,{"$f":"dataExtract!A30","v":"2018-11-29"},{"$f":"VLOOKUP(P30,dataExternalFacebook!A:M,13,FALSE)","v":77500},20925,{"$f":"VLOOKUP(P30,dataExternalFacebook!A:M,10,FALSE)","v":98425},null,{"$f":"+dataExtract!N30","v":"2018-11-29"},{"$f":"+dataExtract!O30","v":11980},{"$f":"+dataExtract!P30","v":10619},{"$f":"+dataExtract!Q30","v":12480},{"$f":"+dataExtract!R30","v":14342},3723]
[{"$f":"dataExtract!A31","v":"2018-11-30"},{"$f":"IF(dataExtract!B31=0,NA(),IF(A31>=todayDate,NA(),dataExtract!B31))","v":11840},null,null,null,null,null,null,null,null,null,null,null,null,null,{"$f":"dataExtract!A31","v":"2018-11-30"},{"$f":"VLOOKUP(P31,dataExternalFacebook!A:M,13,FALSE)","v":77748},20991.960000000006,{"$f":"VLOOKUP(P31,dataExternalFacebook!A:M,10,FALSE)","v":98739.96},null,{"$f":"+dataExtract!N31","v":"2018-11-30"},{"$f":"+dataExtract!O31","v":11910},{"$f":"+dataExtract!P31","v":9835},{"$f":"+dataExtract!Q31","v":11686},{"$f":"+dataExtract!R31","v":13537},3702]
[{"$f":"dataExtract!A32","v":"2018-12-01"},{"$f":"IF(dataExtract!B32=0,NA(),IF(A32>=todayDate,NA(),dataExtract!B32))","v":10191},null,null,null,null,null,null,null,null,null,null,null,null,null,{"$f":"dataExtract!A32","v":"2018-12-01"},{"$f":"VLOOKUP(P32,dataExternalFacebook!A:M,13,FALSE)","v":77748},20991.960000000006,{"$f":"VLOOKUP(P32,dataExternalFacebook!A:M,10,FALSE)","v":98739.96},null,{"$f":"+dataExtract!N32","v":"2018-12-01"},{"$f":"+dataExtract!O32","v":6582},{"$f":"+dataExtract!P32","v":6385},{"$f":"+dataExtract!Q32","v":8223},{"$f":"+dataExtract!R32","v":10060},3675]
[{"$f":"dataExtract!A33","v":"2018-12-02"},{"$f":"IF(dataExtract!B33=0,NA(),IF(A33>=todayDate,NA(),dataExtract!B33))","v":6436},null,null,null,null,null,null,null,null,null,null,null,null,null,{"$f":"dataExtract!A33","v":"2018-12-02"},{"$f":"VLOOKUP(P33,dataExternalFacebook!A:M,13,FALSE)","v":77500},20925,{"$f":"VLOOKUP(P33,dataExternalFacebook!A:M,10,FALSE)","v":98425},null,{"$f":"+dataExtract!N33","v":"2018-12-02"},{"$f":"+dataExtract!O33","v":6274},{"$f":"+dataExtract!P33","v":5000},{"$f":"+dataExtract!Q33","v":6867},{"$f":"+dataExtract!R33","v":8733},3733]
[{"$f":"dataExtract!A34","v":"2018-12-03"},{"$f":"IF(dataExtract!B34=0,NA(),IF(A34>=todayDate,NA(),dataExtract!B34))","v":7464},null,null,null,null,null,null,null,null,null,null,null,null,null,{"$f":"dataExtract!A34","v":"2018-12-03"},{"$f":"VLOOKUP(P34,dataExternalFacebook!A:M,13,FALSE)","v":77376},20891.520000000004,{"$f":"VLOOKUP(P34,dataExternalFacebook!A:M,10,FALSE)","v":98267.520000000004},null,{"$f":"+dataExtract!N34","v":"2018-12-03"},{"$f":"+dataExtract!O34","v":12507},{"$f":"+dataExtract!P34","v":8708},{"$f":"+dataExtract!Q34","v":10566},{"$f":"+dataExtract!R34","v":12424},3716]
[{"$f":"dataExtract!A35","v":"2018-12-04"},{"$f":"IF(dataExtract!B35=0,NA(),IF(A35>=todayDate,NA(),dataExtract!B35))","v":12168},null,null,null,null,null,null,null,null,null,null,null,null,null,{"$f":"dataExtract!A35","v":"2018-12-04"},{"$f":"VLOOKUP(P35,dataExternalFacebook!A:M,13,FALSE)","v":77376},20891.520000000004,{"$f":"VLOOKUP(P35,dataExternalFacebook!A:M,10,FALSE)","v":98267.520000000004},null,{"$f":"+dataExtract!N35","v":"2018-12-04"},{"$f":"+dataExtract!O35","v":11817},{"$f":"+dataExtract!P35","v":10242},{"$f":"+dataExtract!Q35","v":12138},{"$f":"+dataExtract!R35","v":14034},3792]
[{"$f":"dataExtract!A36","v":"2018-12-05"},{"$f":"IF(dataExtract!B36=0,NA(),IF(A36>=todayDate,NA(),dataExtract!B36))","v":11365},null,null,null,null,null,null,null,null,null,null,null,null,null,{"$f":"dataExtract!A36","v":"2018-12-05"},{"$f":"VLOOKUP(P36,dataExternalFacebook!A:M,13,FALSE)","v":77376},20891.520000000004,{"$f":"VLOOKUP(P36,dataExternalFacebook!A:M,10,FALSE)","v":98267.520000000004},null,{"$f":"+dataExtract!N36","v":"2018-12-05"},{"$f":"+dataExtract!O36","v":11365},{"$f":"+dataExtract!P36","v":10400},{"$f":"+dataExtract!Q36","v":12284},{"$f":"+dataExtract!R36","v":14168},3768]
[{"$f":"dataExtract!A37","v":"2018-12-06"},{"$f":"IF(dataExtract!B37=0,NA(),IF(A37>=todayDate,NA(),dataExtract!B37))","v":10961},null,null,null,null,null,null,null,null,null,null,null,null,null,{"$f":"dataExtract!A37","v":"2018-12-06"},{"$f":"VLOOKUP(P37,dataExternalFacebook!A:M,13,FALSE)","v":83204},22465.08,{"$f":"VLOOKUP(P37,dataExternalFacebook!A:M,10,FALSE)","v":105669.08},null,{"$f":"+dataExtract!N37","v":"2018-12-06"},{"$f":"+dataExtract!O37","v":12056},{"$f":"+dataExtract!P37","v":10097},{"$f":"+dataExtract!Q37","v":11980},{"$f":"+dataExtract!R37","v":13862},3765]
[{"$f":"dataExtract!A38","v":"2018-12-07"},{"$f":"IF(dataExtract!B38=0,NA(),IF(A38>=todayDate,NA(),dataExtract!B38))","v":11670},null,null,null,null,null,null,null,null,null,null,null,null,null,{"$f":"dataExtract!A38","v":"2018-12-07"},{"$f":"VLOOKUP(P38,dataExternalFacebook!A:M,13,FALSE)","v":90892},24540.839999999997,{"$f":"VLOOKUP(P38,dataExternalFacebook!A:M,10,FALSE)","v":115432.84},null,{"$f":"+dataExtract!N38","v":"2018-12-07"},{"$f":"+dataExtract!O38","v":11700},{"$f":"+dataExtract!P38","v":9983},{"$f":"+dataExtract!Q38","v":11852},{"$f":"+dataExtract!R38","v":13722},3739]
[{"$f":"dataExtract!A39","v":"2018-12-08"},{"$f":"IF(dataExtract!B39=0,NA(),IF(A39>=todayDate,NA(),dataExtract!B39))","v":10211},null,null,null,null,null,null,null,null,null,null,null,null,null,{"$f":"dataExtract!A39","v":"2018-12-08"},{"$f":"VLOOKUP(P39,dataExternalFacebook!A:M,13,FALSE)","v":90520},24440.400000000009,{"$f":"VLOOKUP(P39,dataExternalFacebook!A:M,10,FALSE)","v":114960.40000000001},null,{"$f":"+dataExtract!N39","v":"2018-12-08"},{"$f":"+dataExtract!O39","v":6092},{"$f":"+dataExtract!P39","v":5990},{"$f":"+dataExtract!Q39","v":7847},{"$f":"+dataExtract!R39","v":9703},3713]
[{"$f":"dataExtract!A40","v":"2018-12-09"},{"$f":"IF(dataExtract!B40=0,NA(),IF(A40>=todayDate,NA(),dataExtract!B40))","v":5708},null,null,null,null,null,null,null,null,null,null,null,null,null,{"$f":"dataExtract!A40","v":"2018-12-09"},{"$f":"VLOOKUP(P40,dataExternalFacebook!A:M,13,FALSE)","v":91264},24641.279999999999,{"$f":"VLOOKUP(P40,dataExternalFacebook!A:M,10,FALSE)","v":115905.28},null,{"$f":"+dataExtract!N40","v":"2018-12-09"},{"$f":"+dataExtract!O40","v":6085},{"$f":"+dataExtract!P40","v":4558},{"$f":"+dataExtract!Q40","v":6446},{"$f":"+dataExtract!R40","v":8333},3775]
[{"$f":"dataExtract!A41","v":"2018-12-10"},{"$f":"IF(dataExtract!B41=0,NA(),IF(A41>=todayDate,NA(),dataExtract!B41))","v":7400},null,null,null,null,null,null,null,null,null,null,null,null,null,{"$f":"dataExtract!A41","v":"2018-12-10"},{"$f":"VLOOKUP(P41,dataExternalFacebook!A:M,13,FALSE)","v":91264},24641.279999999999,{"$f":"VLOOKUP(P41,dataExternalFacebook!A:M,10,FALSE)","v":115905.28},null,{"$f":"+dataExtract!N41","v":"2018-12-10"},{"$f":"+dataExtract!O41","v":12344},{"$f":"+dataExtract!P41","v":8806},{"$f":"+dataExtract!Q41","v":10682},{"$f":"+dataExtract!R41","v":12559},3753]
[{"$f":"dataExtract!A42","v":"2018-12-11"},{"$f":"IF(dataExtract!B42=0,NA(),IF(A42>=todayDate,NA(),dataExtract!B42))","v":12081},null,null,null,null,null,null,null,null,null,null,null,null,null,{"$f":"dataExtract!A42","v":"2018-12-11"},{"$f":"VLOOKUP(P42,dataExternalFacebook!A:M,13,FALSE)","v":91264},24641.279999999999,{"$f":"VLOOKUP(P42,dataExternalFacebook!A:M,10,FALSE)","v":115905.28},null,{"$f":"+dataExtract!N42","v":"2018-12-11"},{"$f":"+dataExtract!O42","v":11852},{"$f":"+dataExtract!P42","v":9885},{"$f":"+dataExtract!Q42","v":11787},{"$f":"+dataExtract!R42","v":13688},3803]
[{"$f":"dataExtract!A43","v":"2018-12-12"},{"$f":"IF(dataExtract!B43=0,NA(),IF(A43>=todayDate,NA(),dataExtract!B43))","v":11457},null,null,null,null,null,null,null,null,null,null,null,null,null,{"$f":"dataExtract!A43","v":"2018-12-12"},{"$f":"VLOOKUP(P43,dataExternalFacebook!A:M,13,FALSE)","v":91264},24641.279999999999,{"$f":"VLOOKUP(P43,dataExternalFacebook!A:M,10,FALSE)","v":115905.28},null,{"$f":"+dataExtract!N43","v":"2018-12-12"},{"$f":"+dataExtract!O43","v":11587},{"$f":"+dataExtract!P43","v":10332},{"$f":"+dataExtract!Q43","v":12221},{"$f":"+dataExtract!R43","v":14110},3778]
[{"$f":"dataExtract!A44","v":"2018-12-13"},{"$f":"IF(dataExtract!B44=0,NA(),IF(A44>=todayDate,NA(),dataExtract!B44))","v":11153},null,null,null,null,null,null,null,null,null,null,null,null,null,{"$f":"dataExtract!A44","v":"2018-12-13"},{"$f":"VLOOKUP(P44,dataExternalFacebook!A:M,13,FALSE)","v":91264},24641.279999999999,{"$f":"VLOOKUP(P44,dataExternalFacebook!A:M,10,FALSE)","v":115905.28},null,{"$f":"+dataExtract!N44","v":"2018-12-13"},{"$f":"+dataExtract!O44","v":12113},{"$f":"+dataExtract!P44","v":10429},{"$f":"+dataExtract!Q44","v":12311},{"$f":"+dataExtract!R44","v":14193},3764]
[{"$f":"dataExtract!A45","v":"2018-12-14"},{"$f":"IF(dataExtract!B45=0,NA(),IF(A45>=todayDate,NA(),dataExtract!B45))","v":11810},null,null,null,null,null,null,null,null,null,null,null,null,null,{"$f":"dataExtract!A45","v":"2018-12-14"},{"$f":"VLOOKUP(P45,dataExternalFacebook!A:M,13,FALSE)","v":91512},24708.240000000005,{"$f":"VLOOKUP(P45,dataExternalFacebook!A:M,10,FALSE)","v":116220.24},null,{"$f":"+dataExtract!N45","v":"2018-12-14"},{"$f":"+dataExtract!O45","v":11734},{"$f":"+dataExtract!P45","v":9893},{"$f":"+dataExtract!Q45","v":11764},{"$f":"+dataExtract!R45","v":13634},3741]
[{"$f":"dataExtract!A46","v":"2018-12-15"},{"$f":"IF(dataExtract!B46=0,NA(),IF(A46>=todayDate,NA(),dataExtract!B46))","v":10013},null,null,null,null,null,null,null,null,null,null,null,null,null,{"$f":"dataExtract!A46","v":"2018-12-15"},{"$f":"VLOOKUP(P46,dataExternalFacebook!A:M,13,FALSE)","v":89404},24139.08,{"$f":"VLOOKUP(P46,dataExternalFacebook!A:M,10,FALSE)","v":113543.08},null,{"$f":"+dataExtract!N46","v":"2018-12-15"},{"$f":"+dataExtract!O46","v":6003},{"$f":"+dataExtract!P46","v":5850},{"$f":"+dataExtract!Q46","v":7708},{"$f":"+dataExtract!R46","v":9567},3717]
[{"$f":"dataExtract!A47","v":"2018-12-16"},{"$f":"IF(dataExtract!B47=0,NA(),IF(A47>=todayDate,NA(),dataExtract!B47))","v":5835},null,null,null,null,null,null,null,null,null,null,null,null,null,{"$f":"dataExtract!A47","v":"2018-12-16"},{"$f":"VLOOKUP(P47,dataExternalFacebook!A:M,13,FALSE)","v":87668},23670.36,{"$f":"VLOOKUP(P47,dataExternalFacebook!A:M,10,FALSE)","v":111338.36},null,{"$f":"+dataExtract!N47","v":"2018-12-16"},{"$f":"+dataExtract!O47","v":6171},{"$f":"+dataExtract!P47","v":4541},{"$f":"+dataExtract!Q47","v":6425},{"$f":"+dataExtract!R47","v":8309},3768]
[{"$f":"dataExtract!A48","v":"2018-12-17"},{"$f":"IF(dataExtract!B48=0,NA(),IF(A48>=todayDate,NA(),dataExtract!B48))","v":7176},null,null,null,null,null,null,null,null,null,null,null,null,null,{"$f":"dataExtract!A48","v":"2018-12-17"},{"$f":"VLOOKUP(P48,dataExternalFacebook!A:M,13,FALSE)","v":87296},23569.919999999998,{"$f":"VLOOKUP(P48,dataExternalFacebook!A:M,10,FALSE)","v":110865.92},null,{"$f":"+dataExtract!N48","v":"2018-12-17"},{"$f":"+dataExtract!O48","v":11933},{"$f":"+dataExtract!P48","v":8880},{"$f":"+dataExtract!Q48","v":10754},{"$f":"+dataExtract!R48","v":12627},3747]
[{"$f":"dataExtract!A49","v":"2018-12-18"},{"$f":"IF(dataExtract!B49=0,NA(),IF(A49>=todayDate,NA(),dataExtract!B49))","v":11764},null,null,null,null,null,null,null,null,null,null,null,null,null,{"$f":"dataExtract!A49","v":"2018-12-18"},{"$f":"VLOOKUP(P49,dataExternalFacebook!A:M,13,FALSE)","v":85560},23101.199999999997,{"$f":"VLOOKUP(P49,dataExternalFacebook!A:M,10,FALSE)","v":108661.2},null,{"$f":"+dataExtract!N49","v":"2018-12-18"},{"$f":"+dataExtract!O49","v":11433},{"$f":"+dataExtract!P49","v":9605},{"$f":"+dataExtract!Q49","v":11484},{"$f":"+dataExtract!R49","v":13364},3759]
[{"$f":"dataExtract!A50","v":"2018-12-19"},{"$f":"IF(dataExtract!B50=0,NA(),IF(A50>=todayDate,NA(),dataExtract!B50))","v":11197},null,null,null,null,null,null,null,null,null,null,null,null,null,{"$f":"dataExtract!A50","v":"2018-12-19"},{"$f":"VLOOKUP(P50,dataExternalFacebook!A:M,13,FALSE)","v":86676},23402.520000000004,{"$f":"VLOOKUP(P50,dataExternalFacebook!A:M,10,FALSE)","v":110078.52},null,{"$f":"+dataExtract!N50","v":"2018-12-19"},{"$f":"+dataExtract!O50","v":11510},{"$f":"+dataExtract!P50","v":9957},{"$f":"+dataExtract!Q50","v":11825},{"$f":"+dataExtract!R50","v":13693},3736]
[{"$f":"dataExtract!A51","v":"2018-12-20"},{"$f":"IF(dataExtract!B51=0,NA(),IF(A51>=todayDate,NA(),dataExtract!B51))","v":11174},null,null,null,null,null,null,null,null,null,null,null,null,null,{"$f":"dataExtract!A51","v":"2018-12-20"},{"$f":"VLOOKUP(P51,dataExternalFacebook!A:M,13,FALSE)","v":86180},23268.600000000006,{"$f":"VLOOKUP(P51,dataExternalFacebook!A:M,10,FALSE)","v":109448.6},null,{"$f":"+dataExtract!N51","v":"2018-12-20"},{"$f":"+dataExtract!O51","v":12246},{"$f":"+dataExtract!P51","v":10297},{"$f":"+dataExtract!Q51","v":12156},{"$f":"+dataExtract!R51","v":14014},3717]
[{"$f":"dataExtract!A52","v":"2018-12-21"},{"$f":"IF(dataExtract!B52=0,NA(),IF(A52>=todayDate,NA(),dataExtract!B52))","v":11867},null,null,null,null,null,null,null,null,null,null,null,null,null,{"$f":"dataExtract!A52","v":"2018-12-21"},{"$f":"VLOOKUP(P52,dataExternalFacebook!A:M,13,FALSE)","v":86180},23268.600000000006,{"$f":"VLOOKUP(P52,dataExternalFacebook!A:M,10,FALSE)","v":109448.6},null,{"$f":"+dataExtract!N52","v":"2018-12-21"},{"$f":"+dataExtract!O52","v":11992},{"$f":"+dataExtract!P52","v":9977},{"$f":"+dataExtract!Q52","v":11824},{"$f":"+dataExtract!R52","v":13671},3694]
[{"$f":"dataExtract!A53","v":"2018-12-22"},{"$f":"IF(dataExtract!B53=0,NA(),IF(A53>=todayDate,NA(),dataExtract!B53))","v":10242},null,null,null,null,null,null,null,null,null,null,null,null,null,{"$f":"dataExtract!A53","v":"2018-12-22"},{"$f":"VLOOKUP(P53,dataExternalFacebook!A:M,13,FALSE)","v":86180},23268.600000000006,{"$f":"VLOOKUP(P53,dataExternalFacebook!A:M,10,FALSE)","v":109448.6},null,{"$f":"+dataExtract!N53","v":"2018-12-22"},{"$f":"+dataExtract!O53","v":6102},{"$f":"+dataExtract!P53","v":6062},{"$f":"+dataExtract!Q53","v":7899},{"$f":"+dataExtract!R53","v":9736},3674]
[{"$f":"dataExtract!A54","v":"2018-12-23"},{"$f":"IF(dataExtract!B54=0,NA(),IF(A54>=todayDate,NA(),dataExtract!B54))","v":5871},null,null,null,null,null,null,null,null,null,null,null,null,null,{"$f":"dataExtract!A54","v":"2018-12-23"},{"$f":"VLOOKUP(P54,dataExternalFacebook!A:M,13,FALSE)","v":84444},22799.880000000005,{"$f":"VLOOKUP(P54,dataExternalFacebook!A:M,10,FALSE)","v":107243.88},null,{"$f":"+dataExtract!N54","v":"2018-12-23"},{"$f":"+dataExtract!O54","v":6118},{"$f":"+dataExtract!P54","v":4697},{"$f":"+dataExtract!Q54","v":6562},{"$f":"+dataExtract!R54","v":8427},3730]
[{"$f":"dataExtract!A55","v":"2018-12-24"},{"$f":"IF(dataExtract!B55=0,NA(),IF(A55>=todayDate,NA(),dataExtract!B55))","v":7381},null,null,null,null,null,null,null,null,null,null,null,null,null,{"$f":"dataExtract!A55","v":"2018-12-24"},{"$f":"VLOOKUP(P55,dataExternalFacebook!A:M,13,FALSE)","v":80600},21762,{"$f":"VLOOKUP(P55,dataExternalFacebook!A:M,10,FALSE)","v":102362},null,{"$f":"+dataExtract!N55","v":"2018-12-24"},{"$f":"+dataExtract!O55","v":12372},{"$f":"+dataExtract!P55","v":8907},{"$f":"+dataExtract!Q55","v":10763},{"$f":"+dataExtract!R55","v":12620},3713]
[{"$f":"dataExtract!A56","v":"2018-12-25"},{"$f":"IF(dataExtract!B56=0,NA(),IF(A56>=todayDate,NA(),dataExtract!B56))","v":12180},null,null,null,null,null,null,null,null,null,null,null,null,null,{"$f":"dataExtract!A56","v":"2018-12-25"},{"$f":"VLOOKUP(P56,dataExternalFacebook!A:M,13,FALSE)","v":79112},21360.240000000005,{"$f":"VLOOKUP(P56,dataExternalFacebook!A:M,10,FALSE)","v":100472.24},null,{"$f":"+dataExtract!N56","v":"2018-12-25"},{"$f":"+dataExtract!O56","v":11701},{"$f":"+dataExtract!P56","v":9925},{"$f":"+dataExtract!Q56","v":11801},{"$f":"+dataExtract!R56","v":13677},3752]
[{"$f":"dataExtract!A57","v":"2018-12-26"},{"$f":"IF(dataExtract!B57=0,NA(),IF(A57>=todayDate,NA(),dataExtract!B57))","v":11184},null,null,null,null,null,null,null,null,null,null,null,null,null,{"$f":"dataExtract!A57","v":"2018-12-26"},{"$f":"VLOOKUP(P57,dataExternalFacebook!A:M,13,FALSE)","v":78616},21226.320000000007,{"$f":"VLOOKUP(P57,dataExternalFacebook!A:M,10,FALSE)","v":99842.32},null,{"$f":"+dataExtract!N57","v":"2018-12-26"},{"$f":"+dataExtract!O57","v":11577},{"$f":"+dataExtract!P57","v":10237},{"$f":"+dataExtract!Q57","v":12103},{"$f":"+dataExtract!R57","v":13969},3732]
[{"$f":"dataExtract!A58","v":"2018-12-27"},{"$f":"IF(dataExtract!B58=0,NA(),IF(A58>=todayDate,NA(),dataExtract!B58))","v":11194},null,null,null,null,null,null,null,null,null,null,null,null,null,{"$f":"dataExtract!A58","v":"2018-12-27"},{"$f":"VLOOKUP(P58,dataExternalFacebook!A:M,13,FALSE)","v":77252},20858.040000000008,{"$f":"VLOOKUP(P58,dataExternalFacebook!A:M,10,FALSE)","v":98110.040000000008},null,{"$f":"+dataExtract!N58","v":"2018-12-27"},{"$f":"+dataExtract!O58","v":11863},{"$f":"+dataExtract!P58","v":10422},{"$f":"+dataExtract!Q58","v":12281},{"$f":"+dataExtract!R58","v":14139},3717]
[{"$f":"dataExtract!A59","v":"2018-12-28"},{"$f":"IF(dataExtract!B59=0,NA(),IF(A59>=todayDate,NA(),dataExtract!B59))","v":11612},null,null,null,null,null,null,null,null,null,null,null,null,null,{"$f":"dataExtract!A59","v":"2018-12-28"},{"$f":"VLOOKUP(P59,dataExternalFacebook!A:M,13,FALSE)","v":76384},20623.680000000008,{"$f":"VLOOKUP(P59,dataExternalFacebook!A:M,10,FALSE)","v":97007.680000000008},null,{"$f":"+dataExtract!N59","v":"2018-12-28"},{"$f":"+dataExtract!O59","v":11862},{"$f":"+dataExtract!P59","v":9722},{"$f":"+dataExtract!Q59","v":11572},{"$f":"+dataExtract!R59","v":13423},3701]
[{"$f":"dataExtract!A60","v":"2018-12-29"},{"$f":"IF(dataExtract!B60=0,NA(),IF(A60>=todayDate,NA(),dataExtract!B60))","v":10245},null,null,null,null,null,null,null,null,null,null,null,null,null,{"$f":"dataExtract!A60","v":"2018-12-29"},{"$f":"VLOOKUP(P60,dataExternalFacebook!A:M,13,FALSE)","v":76508},20657.160000000003,{"$f":"VLOOKUP(P60,dataExternalFacebook!A:M,10,FALSE)","v":97165.16},null,{"$f":"+dataExtract!N60","v":"2018-12-29"},{"$f":"+dataExtract!O60","v":5414},{"$f":"+dataExtract!P60","v":4354},{"$f":"+dataExtract!Q60","v":6195},{"$f":"+dataExtract!R60","v":8037},3683]
[{"$f":"dataExtract!A61","v":"2018-12-30"},{"$f":"IF(dataExtract!B61=0,NA(),IF(A61>=todayDate,NA(),dataExtract!B61))","v":4789},null,null,null,null,null,null,null,null,null,null,null,null,null,{"$f":"dataExtract!A61","v":"2018-12-30"},{"$f":"VLOOKUP(P61,dataExternalFacebook!A:M,13,FALSE)","v":77004},20791.080000000002,{"$f":"VLOOKUP(P61,dataExternalFacebook!A:M,10,FALSE)","v":97795.08},null,{"$f":"+dataExtract!N61","v":"2018-12-30"},{"$f":"+dataExtract!O61","v":3980},{"$f":"+dataExtract!P61","v":4192},{"$f":"+dataExtract!Q61","v":6030},{"$f":"+dataExtract!R61","v":7868},3676]
[{"$f":"dataExtract!A62","v":"2018-12-31"},{"$f":"IF(dataExtract!B62=0,NA(),IF(A62>=todayDate,NA(),dataExtract!B62))","v":4967},null,null,null,null,null,null,null,null,null,null,null,null,null,{"$f":"dataExtract!A62","v":"2018-12-31"},{"$f":"VLOOKUP(P62,dataExternalFacebook!A:M,13,FALSE)","v":77004},20791.080000000002,{"$f":"VLOOKUP(P62,dataExternalFacebook!A:M,10,FALSE)","v":97795.08},null,{"$f":"+dataExtract!N62","v":"2018-12-31"},{"$f":"+dataExtract!O62","v":9140},{"$f":"+dataExtract!P62","v":9315},{"$f":"+dataExtract!Q62","v":11181},{"$f":"+dataExtract!R62","v":13046},3731]
[{"$f":"dataExtract!A63","v":"2019-01-01"},{"$f":"IF(dataExtract!B63=0,NA(),IF(A63>=todayDate,NA(),dataExtract!B63))","v":9036},null,null,null,null,null,null,null,null,null,null,null,null,null,{"$f":"dataExtract!A63","v":"2019-01-01"},{"$f":"VLOOKUP(P63,dataExternalFacebook!A:M,13,FALSE)","v":77376},20891.520000000004,{"$f":"VLOOKUP(P63,dataExternalFacebook!A:M,10,FALSE)","v":98267.520000000004},null,{"$f":"+dataExtract!N63","v":"2019-01-01"},{"$f":"+dataExtract!O63","v":9178},{"$f":"+dataExtract!P63","v":7622},{"$f":"+dataExtract!Q63","v":9515},{"$f":"+dataExtract!R63","v":11408},3786]
[{"$f":"dataExtract!A64","v":"2019-01-02"},{"$f":"IF(dataExtract!B64=0,NA(),IF(A64>=todayDate,NA(),dataExtract!B64))","v":8871},null,null,null,null,null,null,null,null,null,null,null,null,null,{"$f":"dataExtract!A64","v":"2019-01-02"},{"$f":"VLOOKUP(P64,dataExternalFacebook!A:M,13,FALSE)","v":77004},21106.040000000008,{"$f":"VLOOKUP(P64,dataExternalFacebook!A:M,10,FALSE)","v":98110.040000000008},null,{"$f":"+dataExtract!N64","v":"2019-01-02"},{"$f":"+dataExtract!O64","v":8934},{"$f":"+dataExtract!P64","v":7370},{"$f":"+dataExtract!Q64","v":9254},{"$f":"+dataExtract!R64","v":11139},3769]
[{"$f":"dataExtract!A65","v":"2019-01-03"},{"$f":"IF(dataExtract!B65=0,NA(),IF(A65>=todayDate,NA(),dataExtract!B65))","v":8919},null,null,null,null,null,null,null,null,null,null,null,null,null,{"$f":"dataExtract!A65","v":"2019-01-03"},{"$f":"VLOOKUP(P65,dataExternalFacebook!A:M,13,FALSE)","v":71052},19499,{"$f":"VLOOKUP(P65,dataExternalFacebook!A:M,10,FALSE)","v":90551},null,{"$f":"+dataExtract!N65","v":"2019-01-03"},{"$f":"+dataExtract!O65","v":9286},{"$f":"+dataExtract!P65","v":7726},{"$f":"+dataExtract!Q65","v":9602},{"$f":"+dataExtract!R65","v":11478},3752]
[{"$f":"dataExtract!A66","v":"2019-01-04"},{"$f":"IF(dataExtract!B66=0,NA(),IF(A66>=todayDate,NA(),dataExtract!B66))","v":9269},null,null,null,null,null,null,null,null,null,null,null,null,null,{"$f":"dataExtract!A66","v":"2019-01-04"},{"$f":"VLOOKUP(P66,dataExternalFacebook!A:M,13,FALSE)","v":63984},17433.160000000003,{"$f":"VLOOKUP(P66,dataExternalFacebook!A:M,10,FALSE)","v":81417.16},null,{"$f":"+dataExtract!N66","v":"2019-01-04"},{"$f":"+dataExtract!O66","v":8864},{"$f":"+dataExtract!P66","v":7451},{"$f":"+dataExtract!Q66","v":9318},{"$f":"+dataExtract!R66","v":11186},3735]
[{"$f":"dataExtract!A67","v":"2019-01-05"},{"$f":"IF(dataExtract!B67=0,NA(),IF(A67>=todayDate,NA(),dataExtract!B67))","v":8127},null,null,null,null,null,null,null,null,null,null,null,null,null,{"$f":"dataExtract!A67","v":"2019-01-05"},{"$f":"VLOOKUP(P67,dataExternalFacebook!A:M,13,FALSE)","v":67828},{"$f":"S67-Q67","v":18471.040000000008},{"$f":"VLOOKUP(P67,dataExternalFacebook!A:M,10,FALSE)","v":86299.040000000008},null,{"$f":"+dataExtract!N67","v":"2019-01-05"},{"$f":"+dataExtract!O67","v":4711},{"$f":"+dataExtract!P67","v":1231},{"$f":"+dataExtract!Q67","v":3092},{"$f":"+dataExtract!R67","v":4952},{"$f":"Y67-W67","v":3721}]
[{"$f":"dataExtract!A68","v":"2019-01-06"},{"$f":"IF(dataExtract!B68=0,NA(),IF(A68>=todayDate,NA(),dataExtract!B68))","v":4900},null,null,null,null,null,null,null,null,null,null,null,null,null,{"$f":"dataExtract!A68","v":"2019-01-06"},{"$f":"VLOOKUP(P68,dataExternalFacebook!A:M,13,FALSE)","v":67704},18437.559999999998,{"$f":"VLOOKUP(P68,dataExternalFacebook!A:M,10,FALSE)","v":86141.56},null,{"$f":"+dataExtract!N68","v":"2019-01-06"},{"$f":"+dataExtract!O68","v":4784},{"$f":"+dataExtract!P68","v":1992},{"$f":"+dataExtract!Q68","v":3870},{"$f":"+dataExtract!R68","v":5748},3756]
[{"$f":"dataExtract!A69","v":"2019-01-07"},{"$f":"IF(dataExtract!B69=0,NA(),IF(A69>=todayDate,NA(),dataExtract!B69))","v":5519},null,null,null,null,null,null,null,null,null,null,null,null,null,{"$f":"dataExtract!A69","v":"2019-01-07"},{"$f":"VLOOKUP(P69,dataExternalFacebook!A:M,13,FALSE)","v":67456},18528.080000000002,{"$f":"VLOOKUP(P69,dataExternalFacebook!A:M,10,FALSE)","v":85984.08},null,{"$f":"+dataExtract!N69","v":"2019-01-07"},{"$f":"+dataExtract!O69","v":9220},{"$f":"+dataExtract!P69","v":8692},{"$f":"+dataExtract!Q69","v":10569},{"$f":"+dataExtract!R69","v":12446},3754]
[{"$f":"dataExtract!A70","v":"2019-01-08"},{"$f":"IF(dataExtract!B70=0,NA(),IF(A70>=todayDate,NA(),dataExtract!B70))","v":9128},null,null,null,null,null,null,null,null,null,null,null,null,null,{"$f":"dataExtract!A70","v":"2019-01-08"},{"$f":"VLOOKUP(P70,dataExternalFacebook!A:M,13,FALSE)","v":68820},18738.880000000005,{"$f":"VLOOKUP(P70,dataExternalFacebook!A:M,10,FALSE)","v":87558.88},null,{"$f":"+dataExtract!N70","v":"2019-01-08"},{"$f":"+dataExtract!O70","v":9452},{"$f":"+dataExtract!P70","v":7891},{"$f":"+dataExtract!Q70","v":9777},{"$f":"+dataExtract!R70","v":11663},3772]
[{"$f":"dataExtract!A71","v":"2019-01-09"},{"$f":"IF(dataExtract!B71=0,NA(),IF(A71>=todayDate,NA(),dataExtract!B71))","v":9388},null,null,null,null,null,null,null,null,null,null,null,null,null,{"$f":"dataExtract!A71","v":"2019-01-09"},{"$f":"VLOOKUP(P71,dataExternalFacebook!A:M,13,FALSE)","v":68944},18772.36,{"$f":"VLOOKUP(P71,dataExternalFacebook!A:M,10,FALSE)","v":87716.36},null,{"$f":"+dataExtract!N71","v":"2019-01-09"},{"$f":"+dataExtract!O71","v":9599},{"$f":"+dataExtract!P71","v":7651},{"$f":"+dataExtract!Q71","v":9529},{"$f":"+dataExtract!R71","v":11407},3756]
[{"$f":"dataExtract!A72","v":"2019-01-10"},{"$f":"IF(dataExtract!B72=0,NA(),IF(A72>=todayDate,NA(),dataExtract!B72))","v":9507},null,null,null,null,null,null,null,null,null,null,null,null,null,{"$f":"dataExtract!A72","v":"2019-01-10"},{"$f":"VLOOKUP(P72,dataExternalFacebook!A:M,13,FALSE)","v":69316},18872.800000000003,{"$f":"VLOOKUP(P72,dataExternalFacebook!A:M,10,FALSE)","v":88188.800000000003},null,{"$f":"+dataExtract!N72","v":"2019-01-10"},{"$f":"+dataExtract!O72","v":9387},{"$f":"+dataExtract!P72","v":8230},{"$f":"+dataExtract!Q72","v":10099},{"$f":"+dataExtract!R72","v":11968},3738]
[{"$f":"dataExtract!A73","v":"2019-01-11"},{"$f":"IF(dataExtract!B73=0,NA(),IF(A73>=todayDate,NA(),dataExtract!B73))","v":9203},null,null,null,null,null,null,null,null,null,null,null,null,null,{"$f":"dataExtract!A73","v":"2019-01-11"},{"$f":"VLOOKUP(P73,dataExternalFacebook!A:M,13,FALSE)","v":66588},18136.240000000005,{"$f":"VLOOKUP(P73,dataExternalFacebook!A:M,10,FALSE)","v":84724.24},null,{"$f":"+dataExtract!N73","v":"2019-01-11"},{"$f":"+dataExtract!O73","v":9392},{"$f":"+dataExtract!P73","v":7674},{"$f":"+dataExtract!Q73","v":9539},{"$f":"+dataExtract!R73","v":11404},3730]
[{"$f":"dataExtract!A74","v":"2019-01-12"},{"$f":"IF(dataExtract!B74=0,NA(),IF(A74>=todayDate,NA(),dataExtract!B74))","v":8724},null,null,null,null,null,null,null,null,null,null,null,null,null,{"$f":"dataExtract!A74","v":"2019-01-12"},{"$f":"VLOOKUP(P74,dataExternalFacebook!A:M,13,FALSE)","v":65844},18092.839999999997,{"$f":"VLOOKUP(P74,dataExternalFacebook!A:M,10,FALSE)","v":83936.84},null,{"$f":"+dataExtract!N74","v":"2019-01-12"},{"$f":"+dataExtract!O74","v":4668},{"$f":"+dataExtract!P74","v":2417},{"$f":"+dataExtract!Q74","v":4274},{"$f":"+dataExtract!R74","v":6130},3713]
[{"$f":"dataExtract!A75","v":"2019-01-13"},{"$f":"IF(dataExtract!B75=0,NA(),IF(A75>=todayDate,NA(),dataExtract!B75))","v":4521},null,null,null,null,null,null,null,null,null,null,null,null,null,{"$f":"dataExtract!A75","v":"2019-01-13"},{"$f":"VLOOKUP(P75,dataExternalFacebook!A:M,13,FALSE)","v":66092},18002.320000000007,{"$f":"VLOOKUP(P75,dataExternalFacebook!A:M,10,FALSE)","v":84094.32},null,{"$f":"+dataExtract!N75","v":"2019-01-13"},{"$f":"+dataExtract!O75","v":4097},{"$f":"+dataExtract!P75","v":2242},{"$f":"+dataExtract!Q75","v":4091},{"$f":"+dataExtract!R75","v":5940},3698]
[{"$f":"dataExtract!A76","v":"2019-01-14"},{"$f":"IF(dataExtract!B76=0,NA(),IF(A76>=todayDate,NA(),dataExtract!B76))","v":5039},null,null,null,null,null,null,null,null,null,null,null,null,null,{"$f":"dataExtract!A76","v":"2019-01-14"},{"$f":"VLOOKUP(P76,dataExternalFacebook!A:M,13,FALSE)","v":66216},18035.800000000003,{"$f":"VLOOKUP(P76,dataExternalFacebook!A:M,10,FALSE)","v":84251.8},null,{"$f":"+dataExtract!N76","v":"2019-01-14"},{"$f":"+dataExtract!O76","v":9143},{"$f":"+dataExtract!P76","v":7576},{"$f":"+dataExtract!Q76","v":9417},{"$f":"+dataExtract!R76","v":11257},3681]
[{"$f":"dataExtract!A77","v":"2019-01-15"},{"$f":"IF(dataExtract!B77=0,NA(),IF(A77>=todayDate,NA(),dataExtract!B77))","v":8858},null,null,null,null,null,null,null,null,null,null,null,null,null,{"$f":"dataExtract!A77","v":"2019-01-15"},{"$f":"VLOOKUP(P77,dataExternalFacebook!A:M,13,FALSE)","v":65844},18092.839999999997,{"$f":"VLOOKUP(P77,dataExternalFacebook!A:M,10,FALSE)","v":83936.84},null,{"$f":"+dataExtract!N77","v":"2019-01-15"},{"$f":"+dataExtract!O77","v":9113},{"$f":"+dataExtract!P77","v":7788},{"$f":"+dataExtract!Q77","v":9622},{"$f":"+dataExtract!R77","v":11455},3667]
[{"$f":"dataExtract!A78","v":"2019-01-16"},{"$f":"IF(dataExtract!B78=0,NA(),IF(A78>=todayDate,NA(),dataExtract!B78))","v":9376},null,null,null,null,null,null,null,null,null,null,null,null,null,{"$f":"dataExtract!A78","v":"2019-01-16"},{"$f":"VLOOKUP(P78,dataExternalFacebook!A:M,13,FALSE)","v":64728},17791.520000000004,{"$f":"VLOOKUP(P78,dataExternalFacebook!A:M,10,FALSE)","v":82519.520000000004},null,{"$f":"+dataExtract!N78","v":"2019-01-16"},{"$f":"+dataExtract!O78","v":9316},{"$f":"+dataExtract!P78","v":7592},{"$f":"+dataExtract!Q78","v":9420},{"$f":"+dataExtract!R78","v":11247},3655]
[{"$f":"dataExtract!A79","v":"2019-01-17"},{"$f":"IF(dataExtract!B79=0,NA(),IF(A79>=todayDate,NA(),dataExtract!B79))","v":9431},null,null,null,null,null,null,null,null,null,null,null,null,null,{"$f":"dataExtract!A79","v":"2019-01-17"},{"$f":"VLOOKUP(P79,dataExternalFacebook!A:M,13,FALSE)","v":67952},18662,{"$f":"VLOOKUP(P79,dataExternalFacebook!A:M,10,FALSE)","v":86614},null,{"$f":"+dataExtract!N79","v":"2019-01-17"},{"$f":"+dataExtract!O79","v":9682},{"$f":"+dataExtract!P79","v":7775},{"$f":"+dataExtract!Q79","v":9594},{"$f":"+dataExtract!R79","v":11414},3639]
[{"$f":"dataExtract!A80","v":"2019-01-18"},{"$f":"IF(dataExtract!B80=0,NA(),IF(A80>=todayDate,NA(),dataExtract!B80))","v":9498},null,null,null,null,null,null,null,null,null,null,null,null,null,{"$f":"dataExtract!A80","v":"2019-01-18"},{"$f":"VLOOKUP(P80,dataExternalFacebook!A:M,13,FALSE)","v":69936},19040.199999999997,{"$f":"VLOOKUP(P80,dataExternalFacebook!A:M,10,FALSE)","v":88976.2},null,{"$f":"+dataExtract!N80","v":"2019-01-18"},{"$f":"+dataExtract!O80","v":9583},{"$f":"+dataExtract!P80","v":7890},{"$f":"+dataExtract!Q80","v":9701},{"$f":"+dataExtract!R80","v":11513},3623]
[{"$f":"dataExtract!A81","v":"2019-01-19"},{"$f":"IF(dataExtract!B81=0,NA(),IF(A81>=todayDate,NA(),dataExtract!B81))","v":8740},null,null,null,null,null,null,null,null,null,null,null,null,null,{"$f":"dataExtract!A81","v":"2019-01-19"},{"$f":"VLOOKUP(P81,dataExternalFacebook!A:M,13,FALSE)","v":69936},19040.199999999997,{"$f":"VLOOKUP(P81,dataExternalFacebook!A:M,10,FALSE)","v":88976.2},null,{"$f":"+dataExtract!N81","v":"2019-01-19"},{"$f":"+dataExtract!O81","v":4721},{"$f":"+dataExtract!P81","v":2854},{"$f":"+dataExtract!Q81","v":4658},{"$f":"+dataExtract!R81","v":6461},3607]
[{"$f":"dataExtract!A82","v":"2019-01-20"},{"$f":"IF(dataExtract!B82=0,NA(),IF(A82>=todayDate,NA(),dataExtract!B82))","v":4537},null,null,null,null,null,null,null,null,null,null,null,null,null,{"$f":"dataExtract!A82","v":"2019-01-20"},{"$f":"VLOOKUP(P82,dataExternalFacebook!A:M,13,FALSE)","v":69812},19006.72,{"$f":"VLOOKUP(P82,dataExternalFacebook!A:M,10,FALSE)","v":88818.72},null,{"$f":"+dataExtract!N82","v":"2019-01-20"},{"$f":"+dataExtract!O82","v":4025},{"$f":"+dataExtract!P82","v":2344},{"$f":"+dataExtract!Q82","v":4140},{"$f":"+dataExtract!R82","v":5936},3592]
[{"$f":"dataExtract!A83","v":"2019-01-21"},{"$f":"IF(dataExtract!B83=0,NA(),IF(A83>=todayDate,NA(),dataExtract!B83))","v":4697},null,null,null,null,null,null,null,null,null,null,null,null,null,{"$f":"dataExtract!A83","v":"2019-01-21"},{"$f":"VLOOKUP(P83,dataExternalFacebook!A:M,13,FALSE)","v":72540},19900.759999999995,{"$f":"VLOOKUP(P83,dataExternalFacebook!A:M,10,FALSE)","v":92440.76},null,{"$f":"+dataExtract!N83","v":"2019-01-21"},{"$f":"+dataExtract!O83","v":9192},{"$f":"+dataExtract!P83","v":7503},{"$f":"+dataExtract!Q83","v":9291},{"$f":"+dataExtract!R83","v":11079},3576]
[{"$f":"dataExtract!A84","v":"2019-01-22"},{"$f":"IF(dataExtract!B84=0,NA(),IF(A84>=todayDate,NA(),dataExtract!B84))","v":9171},null,null,null,null,null,null,null,null,null,null,null,null,null,{"$f":"dataExtract!A84","v":"2019-01-22"},{"$f":"VLOOKUP(P84,dataExternalFacebook!A:M,13,FALSE)","v":75764},20456.28,{"$f":"VLOOKUP(P84,dataExternalFacebook!A:M,10,FALSE)","v":96220.28},null,{"$f":"+dataExtract!N84","v":"2019-01-22"},{"$f":"+dataExtract!O84","v":9046},{"$f":"+dataExtract!P84","v":7725},{"$f":"+dataExtract!Q84","v":9505},{"$f":"+dataExtract!R84","v":11286},3561]
[{"$f":"dataExtract!A85","v":"2019-01-23"},{"$f":"IF(dataExtract!B85=0,NA(),IF(A85>=todayDate,NA(),dataExtract!B85))","v":8965},null,null,null,null,null,null,null,null,null,null,null,null,null,{"$f":"dataExtract!A85","v":"2019-01-23"},{"$f":"VLOOKUP(P85,dataExternalFacebook!A:M,13,FALSE)","v":75516},20389.320000000007,{"$f":"VLOOKUP(P85,dataExternalFacebook!A:M,10,FALSE)","v":95905.32},null,{"$f":"+dataExtract!N85","v":"2019-01-23"},{"$f":"+dataExtract!O85","v":9338},{"$f":"+dataExtract!P85","v":7710},{"$f":"+dataExtract!Q85","v":9485},{"$f":"+dataExtract!R85","v":11260},3550]
[{"$f":"dataExtract!A86","v":"2019-01-24"},{"$f":"IF(dataExtract!B86=0,NA(),IF(A86>=todayDate,NA(),dataExtract!B86))","v":9526},null,null,null,null,null,null,null,null,null,null,null,null,null,{"$f":"dataExtract!A86","v":"2019-01-24"},{"$f":"VLOOKUP(P86,dataExternalFacebook!A:M,13,FALSE)","v":74896},20221.919999999998,{"$f":"VLOOKUP(P86,dataExternalFacebook!A:M,10,FALSE)","v":95117.92},null,{"$f":"+dataExtract!N86","v":"2019-01-24"},{"$f":"+dataExtract!O86","v":9310},{"$f":"+dataExtract!P86","v":7940},{"$f":"+dataExtract!Q86","v":9708},{"$f":"+dataExtract!R86","v":11475},3535]
[{"$f":"dataExtract!A87","v":"2019-01-25"},{"$f":"IF(dataExtract!B87=0,NA(),IF(A87>=todayDate,NA(),dataExtract!B87))","v":9208},null,null,null,null,null,null,null,null,null,null,null,null,null,{"$f":"dataExtract!A87","v":"2019-01-25"},{"$f":"VLOOKUP(P87,dataExternalFacebook!A:M,13,FALSE)","v":74772},20188.440000000002,{"$f":"VLOOKUP(P87,dataExternalFacebook!A:M,10,FALSE)","v":94960.44},null,{"$f":"+dataExtract!N87","v":"2019-01-25"},{"$f":"+dataExtract!O87","v":9648},{"$f":"+dataExtract!P87","v":7700},{"$f":"+dataExtract!Q87","v":9462},{"$f":"+dataExtract!R87","v":11223},3523]
[{"$f":"dataExtract!A88","v":"2019-01-26"},{"$f":"IF(dataExtract!B88=0,NA(),IF(A88>=todayDate,NA(),dataExtract!B88))","v":8758},null,null,null,null,null,null,null,null,null,null,null,null,null,{"$f":"dataExtract!A88","v":"2019-01-26"},{"$f":"VLOOKUP(P88,dataExternalFacebook!A:M,13,FALSE)","v":74028},19987.559999999998,{"$f":"VLOOKUP(P88,dataExternalFacebook!A:M,10,FALSE)","v":94015.56},null,{"$f":"+dataExtract!N88","v":"2019-01-26"},{"$f":"+dataExtract!O88","v":4585},{"$f":"+dataExtract!P88","v":2905},{"$f":"+dataExtract!Q88","v":4659},{"$f":"+dataExtract!R88","v":6414},3509]
[{"$f":"dataExtract!A89","v":"2019-01-27"},{"$f":"IF(dataExtract!B89=0,NA(),IF(A89>=todayDate,NA(),dataExtract!B89))","v":4681},null,null,null,null,null,null,null,null,null,null,null,null,null,{"$f":"dataExtract!A89","v":"2019-01-27"},{"$f":"VLOOKUP(P89,dataExternalFacebook!A:M,13,FALSE)","v":73780},19920.600000000006,{"$f":"VLOOKUP(P89,dataExternalFacebook!A:M,10,FALSE)","v":93700.6},null,{"$f":"+dataExtract!N89","v":"2019-01-27"},{"$f":"+dataExtract!O89","v":4490},{"$f":"+dataExtract!P89","v":2249},{"$f":"+dataExtract!Q89","v":3996},{"$f":"+dataExtract!R89","v":5744},3495]
[{"$f":"dataExtract!A90","v":"2019-01-28"},{"$f":"IF(dataExtract!B90=0,NA(),IF(A90>=todayDate,NA(),dataExtract!B90))","v":5097},null,null,null,null,null,null,null,null,null,null,null,null,null,{"$f":"dataExtract!A90","v":"2019-01-28"},{"$f":"VLOOKUP(P90,dataExternalFacebook!A:M,13,FALSE)","v":74028},19987.559999999998,{"$f":"VLOOKUP(P90,dataExternalFacebook!A:M,10,FALSE)","v":94015.56},null,{"$f":"+dataExtract!N90","v":"2019-01-28"},{"$f":"+dataExtract!O90","v":9245},{"$f":"+dataExtract!P90","v":7755},{"$f":"+dataExtract!Q90","v":9498},{"$f":"+dataExtract!R90","v":11240},3485]
[{"$f":"dataExtract!A91","v":"2019-01-29"},{"$f":"IF(dataExtract!B91=0,NA(),IF(A91>=todayDate,NA(),dataExtract!B91))","v":9111},null,null,null,null,null,null,null,null,null,null,null,null,null,{"$f":"dataExtract!A91","v":"2019-01-29"},{"$f":"VLOOKUP(P91,dataExternalFacebook!A:M,13,FALSE)","v":73780},19920.600000000006,{"$f":"VLOOKUP(P91,dataExternalFacebook!A:M,10,FALSE)","v":93700.6},null,{"$f":"+dataExtract!N91","v":"2019-01-29"},{"$f":"+dataExtract!O91","v":9382},{"$f":"+dataExtract!P91","v":7752},{"$f":"+dataExtract!Q91","v":9488},{"$f":"+dataExtract!R91","v":11224},3472]
[{"$f":"dataExtract!A92","v":"2019-01-30"},{"$f":"IF(dataExtract!B92=0,NA(),IF(A92>=todayDate,NA(),dataExtract!B92))","v":9384},null,null,null,null,null,null,null,null,null,null,null,null,null,{"$f":"dataExtract!A92","v":"2019-01-30"},{"$f":"VLOOKUP(P92,dataExternalFacebook!A:M,13,FALSE)","v":73780},19920.600000000006,{"$f":"VLOOKUP(P92,dataExternalFacebook!A:M,10,FALSE)","v":93700.6}]
[{"$f":"dataExtract!A93","v":"2019-01-31"},{"$f":"IF(dataExtract!B93=0,NA(),IF(A93>=todayDate,NA(),dataExtract!B93))","v":8968},null,null,null,null,null,null,null,null,null,null,null,null,null,{"$f":"dataExtract!A93","v":"2019-01-31"},{"$f":"VLOOKUP(P93,dataExternalFacebook!A:M,13,FALSE)","v":73780},19920.600000000006,{"$f":"VLOOKUP(P93,dataExternalFacebook!A:M,10,FALSE)","v":93700.6}]
[{"$f":"dataExtract!A94","v":"2019-02-01"},{"$f":"IF(dataExtract!B94=0,NA(),IF(A94>=todayDate,NA(),dataExtract!B94))","v":9109},null,null,null,null,null,null,null,null,null,null,null,null,null,{"$f":"dataExtract!A94","v":"2019-02-01"},{"$f":"VLOOKUP(P94,dataExternalFacebook!A:M,13,FALSE)","v":71052},19184.040000000008,{"$f":"VLOOKUP(P94,dataExternalFacebook!A:M,10,FALSE)","v":90236.040000000008}]
[{"$f":"dataExtract!A95","v":"2019-02-02"},{"$f":"IF(dataExtract!B95=0,NA(),IF(A95>=todayDate,NA(),dataExtract!B95))","v":8939},null,null,null,null,null,null,null,null,null,null,null,null,null,{"$f":"dataExtract!A95","v":"2019-02-02"},{"$f":"VLOOKUP(P95,dataExternalFacebook!A:M,13,FALSE)","v":63364},17108.28,{"$f":"VLOOKUP(P95,dataExternalFacebook!A:M,10,FALSE)","v":80472.28}]
[{"$f":"dataExtract!A96","v":"2019-02-03"},{"$f":"IF(dataExtract!B96=0,NA(),IF(A96>=todayDate,NA(),dataExtract!B96))","v":4878},null,null,null,null,null,null,null,null,null,null,null,null,null,{"$f":"dataExtract!A96","v":"2019-02-03"},{"$f":"VLOOKUP(P96,dataExternalFacebook!A:M,13,FALSE)","v":61008},16472.160000000003,{"$f":"VLOOKUP(P96,dataExternalFacebook!A:M,10,FALSE)","v":77480.160000000003}]
[{"$f":"dataExtract!A97","v":"2019-02-04"},{"$f":"IF(dataExtract!B97=0,NA(),IF(A97>=todayDate,NA(),dataExtract!B97))","v":4706},null,null,null,null,null,null,null,null,null,null,null,null,null,{"$f":"dataExtract!A97","v":"2019-02-04"},{"$f":"VLOOKUP(P97,dataExternalFacebook!A:M,13,FALSE)","v":60140},16237.800000000003,{"$f":"VLOOKUP(P97,dataExternalFacebook!A:M,10,FALSE)","v":76377.8}]
[{"$f":"dataExtract!A98","v":"2019-02-05"},{"$f":"IF(dataExtract!B98=0,NA(),IF(A98>=todayDate,NA(),dataExtract!B98))","v":9122},null,null,null,null,null,null,null,null,null,null,null,null,null,{"$f":"dataExtract!A98","v":"2019-02-05"},{"$f":"VLOOKUP(P98,dataExternalFacebook!A:M,13,FALSE)","v":129704},35807.48000000001,{"$f":"VLOOKUP(P98,dataExternalFacebook!A:M,10,FALSE)","v":165511.48000000001}]
[{"$f":"dataExtract!A99","v":"2019-02-06"},{"$f":"IF(dataExtract!B99=0,NA(),IF(A99>=todayDate,NA(),dataExtract!B99))","v":8332},null,null,null,null,null,null,null,null,null,null,null,null,null,{"$f":"dataExtract!A99","v":"2019-02-06"},{"$f":"VLOOKUP(P99,dataExternalFacebook!A:M,13,FALSE)","v":170128},50973.920000000013,{"$f":"VLOOKUP(P99,dataExternalFacebook!A:M,10,FALSE)","v":221101.92}]
[{"$f":"dataExtract!A100","v":"2019-02-07"},{"$f":"IF(dataExtract!B100=0,NA(),IF(A100>=todayDate,NA(),dataExtract!B100))","v":9162},null,null,null,null,null,null,null,null,null,null,null,null,null,{"$f":"dataExtract!A100","v":"2019-02-07"},{"$f":"VLOOKUP(P100,dataExternalFacebook!A:M,13,FALSE)","v":177072},58045.640000000014,{"$f":"VLOOKUP(P100,dataExternalFacebook!A:M,10,FALSE)","v":235117.64}]
[{"$f":"dataExtract!A101","v":"2019-02-08"},{"$f":"IF(dataExtract!B101=0,NA(),IF(A101>=todayDate,NA(),dataExtract!B101))","v":9269},null,null,null,null,null,null,null,null,null,null,null,null,null,{"$f":"dataExtract!A101","v":"2019-02-08"},{"$f":"VLOOKUP(P101,dataExternalFacebook!A:M,13,FALSE)","v":180792},62829.56,{"$f":"VLOOKUP(P101,dataExternalFacebook!A:M,10,FALSE)","v":243621.56}]
[{"$f":"dataExtract!A102","v":"2019-02-09"},{"$f":"IF(dataExtract!B102=0,NA(),IF(A102>=todayDate,NA(),dataExtract!B102))","v":8589},null,null,null,null,null,null,null,null,null,null,null,null,null,{"$f":"dataExtract!A102","v":"2019-02-09"},{"$f":"VLOOKUP(P102,dataExternalFacebook!A:M,13,FALSE)","v":181040},66676.040000000008,{"$f":"VLOOKUP(P102,dataExternalFacebook!A:M,10,FALSE)","v":247716.04}]
[{"$f":"dataExtract!A103","v":"2019-02-10"},{"$f":"IF(dataExtract!B103=0,NA(),IF(A103>=todayDate,NA(),dataExtract!B103))","v":4837},null,null,null,null,null,null,null,null,null,null,null,null,null,{"$f":"dataExtract!A103","v":"2019-02-10"},{"$f":"VLOOKUP(P103,dataExternalFacebook!A:M,13,FALSE)","v":181288},70207.56,{"$f":"VLOOKUP(P103,dataExternalFacebook!A:M,10,FALSE)","v":251495.56}]
[{"$f":"dataExtract!A104","v":"2019-02-11"},{"$f":"IF(dataExtract!B104=0,NA(),IF(A104>=todayDate,NA(),dataExtract!B104))","v":5060},null,null,null,null,null,null,null,null,null,null,null,null,null,{"$f":"dataExtract!A104","v":"2019-02-11"},{"$f":"VLOOKUP(P104,dataExternalFacebook!A:M,13,FALSE)","v":182776},77380.959999999992,{"$f":"VLOOKUP(P104,dataExternalFacebook!A:M,10,FALSE)","v":260156.96}]
[{"$f":"dataExtract!A105","v":"2019-02-12"},{"$f":"IF(dataExtract!B105=0,NA(),IF(A105>=todayDate,NA(),dataExtract!B105))","v":8980},null,null,null,null,null,null,null,null,null,null,null,null,null,{"$f":"dataExtract!A105","v":"2019-02-12"},{"$f":"VLOOKUP(P105,dataExternalFacebook!A:M,13,FALSE)","v":183272},85546.359999999986,{"$f":"VLOOKUP(P105,dataExternalFacebook!A:M,10,FALSE)","v":268818.36}]
[{"$f":"dataExtract!A106","v":"2019-02-13"},{"$f":"IF(dataExtract!B106=0,NA(),IF(A106>=todayDate,NA(),dataExtract!B106))","v":8830},null,null,null,null,null,null,null,null,null,null,null,null,null,{"$f":"dataExtract!A106","v":"2019-02-13"},{"$f":"VLOOKUP(P106,dataExternalFacebook!A:M,13,FALSE)","v":184140},91292.520000000019,{"$f":"VLOOKUP(P106,dataExternalFacebook!A:M,10,FALSE)","v":275432.52}]
[{"$f":"dataExtract!A107","v":"2019-02-14"},{"$f":"IF(dataExtract!B107=0,NA(),IF(A107>=todayDate,NA(),dataExtract!B107))","v":8913},null,null,null,null,null,null,null,null,null,null,null,null,null,{"$f":"dataExtract!A107","v":"2019-02-14"},{"$f":"VLOOKUP(P107,dataExternalFacebook!A:M,13,FALSE)","v":177568},93770.039999999979,{"$f":"VLOOKUP(P107,dataExternalFacebook!A:M,10,FALSE)","v":271338.03999999998}]
[{"$f":"dataExtract!A108","v":"2019-02-15"},{"$f":"IF(dataExtract!B108=0,NA(),IF(A108>=todayDate,NA(),dataExtract!B108))","v":8970},null,null,null,null,null,null,null,null,null,null,null,null,null,{"$f":"dataExtract!A108","v":"2019-02-15"},{"$f":"VLOOKUP(P108,dataExternalFacebook!A:M,13,FALSE)","v":172856},101789.12,{"$f":"VLOOKUP(P108,dataExternalFacebook!A:M,10,FALSE)","v":274645.12}]
[{"$f":"dataExtract!A109","v":"2019-02-16"},{"$f":"IF(dataExtract!B109=0,NA(),IF(A109>=todayDate,NA(),dataExtract!B109))","v":8067},null,null,null,null,null,null,null,null,null,null,null,null,null,{"$f":"dataExtract!A109","v":"2019-02-16"},{"$f":"VLOOKUP(P109,dataExternalFacebook!A:M,13,FALSE)","v":171864},101993.72000000003,{"$f":"VLOOKUP(P109,dataExternalFacebook!A:M,10,FALSE)","v":273857.72000000003}]
[{"$f":"dataExtract!A110","v":"2019-02-17"},{"$f":"IF(dataExtract!B110=0,NA(),IF(A110>=todayDate,NA(),dataExtract!B110))","v":4642},null,null,null,null,null,null,null,null,null,null,null,null,null,{"$f":"dataExtract!A110","v":"2019-02-17"},{"$f":"VLOOKUP(P110,dataExternalFacebook!A:M,13,FALSE)","v":173104},102643.47999999998,{"$f":"VLOOKUP(P110,dataExternalFacebook!A:M,10,FALSE)","v":275747.48}]
[{"$f":"dataExtract!A111","v":"2019-02-18"},{"$f":"IF(dataExtract!B111=0,NA(),IF(A111>=todayDate,NA(),dataExtract!B111))","v":4875},null,null,null,null,null,null,null,null,null,null,null,null,null,{"$f":"dataExtract!A111","v":"2019-02-18"},{"$f":"VLOOKUP(P111,dataExternalFacebook!A:M,13,FALSE)","v":170376},102064.40000000002,{"$f":"VLOOKUP(P111,dataExternalFacebook!A:M,10,FALSE)","v":272440.40000000002}]
[{"$f":"dataExtract!A112","v":"2019-02-19"},{"$f":"IF(dataExtract!B112=0,NA(),IF(A112>=todayDate,NA(),dataExtract!B112))","v":9199},null,null,null,null,null,null,null,null,null,null,null,null,null,{"$f":"dataExtract!A112","v":"2019-02-19"},{"$f":"VLOOKUP(P112,dataExternalFacebook!A:M,13,FALSE)","v":167524},101294.35999999999,{"$f":"VLOOKUP(P112,dataExternalFacebook!A:M,10,FALSE)","v":268818.36}]
[{"$f":"dataExtract!A113","v":"2019-02-20"},{"$f":"IF(dataExtract!B113=0,NA(),IF(A113>=todayDate,NA(),dataExtract!B113))","v":9282},null,null,null,null,null,null,null,null,null,null,null,null,null,{"$f":"dataExtract!A113","v":"2019-02-20"},{"$f":"VLOOKUP(P113,dataExternalFacebook!A:M,13,FALSE)","v":172856},101789.12,{"$f":"VLOOKUP(P113,dataExternalFacebook!A:M,10,FALSE)","v":274645.12}]
[{"$f":"dataExtract!A114","v":"2019-02-21"},{"$f":"IF(dataExtract!B114=0,NA(),IF(A114>=todayDate,NA(),dataExtract!B114))","v":9233},null,null,null,null,null,null,null,null,null,null,null,null,null,{"$f":"dataExtract!A114","v":"2019-02-21"},{"$f":"VLOOKUP(P114,dataExternalFacebook!A:M,13,FALSE)","v":171864},101993.72000000003,{"$f":"VLOOKUP(P114,dataExternalFacebook!A:M,10,FALSE)","v":273857.72000000003}]
[{"$f":"dataExtract!A115","v":"2019-02-22"},{"$f":"IF(dataExtract!B115=0,NA(),IF(A115>=todayDate,NA(),dataExtract!B115))","v":9130},null,null,null,null,null,null,null,null,null,null,null,null,null,{"$f":"dataExtract!A115","v":"2019-02-22"},{"$f":"VLOOKUP(P115,dataExternalFacebook!A:M,13,FALSE)","v":173104},102643.47999999998,{"$f":"VLOOKUP(P115,dataExternalFacebook!A:M,10,FALSE)","v":275747.48}]
[{"$f":"dataExtract!A116","v":"2019-02-23"},{"$f":"IF(dataExtract!B116=0,NA(),IF(A116>=todayDate,NA(),dataExtract!B116))","v":8498},null,null,null,null,null,null,null,null,null,null,null,null,null,{"$f":"dataExtract!A116","v":"2019-02-23"},{"$f":"VLOOKUP(P116,dataExternalFacebook!A:M,13,FALSE)","v":170376},102064.40000000002,{"$f":"VLOOKUP(P116,dataExternalFacebook!A:M,10,FALSE)","v":272440.40000000002}]
[{"$f":"dataExtract!A117","v":"2019-02-24"},{"$f":"IF(dataExtract!B117=0,NA(),IF(A117>=todayDate,NA(),dataExtract!B117))","v":4514},null,null,null,null,null,null,null,null,null,null,null,null,null,{"$f":"dataExtract!A117","v":"2019-02-24"},{"$f":"VLOOKUP(P117,dataExternalFacebook!A:M,13,FALSE)","v":167524},101294.35999999999,{"$f":"VLOOKUP(P117,dataExternalFacebook!A:M,10,FALSE)","v":268818.36}]
[{"$f":"dataExtract!A118","v":"2019-02-25"},{"$f":"IF(dataExtract!B118=0,NA(),IF(A118>=todayDate,NA(),dataExtract!B118))","v":4947},null,null,null,null,null,null,null,null,null,null,null,null,null,{"$f":"dataExtract!A118","v":"2019-02-25"},{"$f":"VLOOKUP(P118,dataExternalFacebook!A:M,13,FALSE)","v":172856},101789.12,{"$f":"VLOOKUP(P118,dataExternalFacebook!A:M,10,FALSE)","v":274645.12}]
[{"$f":"dataExtract!A119","v":"2019-02-26"},{"$f":"IF(dataExtract!B119=0,NA(),IF(A119>=todayDate,NA(),dataExtract!B119))","v":8863},null,null,null,null,null,null,null,null,null,null,null,null,null,{"$f":"dataExtract!A119","v":"2019-02-26"},{"$f":"VLOOKUP(P119,dataExternalFacebook!A:M,13,FALSE)","v":171864},101993.72000000003,{"$f":"VLOOKUP(P119,dataExternalFacebook!A:M,10,FALSE)","v":273857.72000000003}]
[{"$f":"dataExtract!A120","v":"2019-02-27"},{"$f":"IF(dataExtract!B120=0,NA(),IF(A120>=todayDate,NA(),dataExtract!B120))","v":9359},null,null,null,null,null,null,null,null,null,null,null,null,null,{"$f":"dataExtract!A120","v":"2019-02-27"},{"$f":"VLOOKUP(P120,dataExternalFacebook!A:M,13,FALSE)","v":173104},102643.47999999998,{"$f":"VLOOKUP(P120,dataExternalFacebook!A:M,10,FALSE)","v":275747.48}]
[{"$f":"dataExtract!A121","v":"2019-02-28"},{"$f":"IF(dataExtract!B121=0,NA(),IF(A121>=todayDate,NA(),dataExtract!B121))","v":8794},null,null,null,null,null,null,null,null,null,null,null,null,null,{"$f":"dataExtract!A121","v":"2019-02-28"},{"$f":"VLOOKUP(P121,dataExternalFacebook!A:M,13,FALSE)","v":170376},102064.40000000002,{"$f":"VLOOKUP(P121,dataExternalFacebook!A:M,10,FALSE)","v":272440.40000000002}]
[{"$f":"dataExtract!A122","v":"2019-03-01"},{"$f":"IF(dataExtract!B122=0,NA(),IF(A122>=todayDate,NA(),dataExtract!B122))","v":8838},null,null,null,null,null,null,null,null,null,null,null,null,null,{"$f":"dataExtract!A122","v":"2019-03-01"},{"$f":"VLOOKUP(P122,dataExternalFacebook!A:M,13,FALSE)","v":167524},101294.35999999999,{"$f":"VLOOKUP(P122,dataExternalFacebook!A:M,10,FALSE)","v":268818.36}]
[{"$f":"dataExtract!A123","v":"2019-03-02"},{"$f":"IF(dataExtract!B123=0,NA(),IF(A123>=todayDate,NA(),dataExtract!B123))","v":8985},null,null,null,null,null,null,null,null,null,null,null,null,null,{"$f":"dataExtract!A123","v":"2019-03-02"},{"$f":"VLOOKUP(P123,dataExternalFacebook!A:M,13,FALSE)","v":129704},35807.48000000001,{"$f":"VLOOKUP(P123,dataExternalFacebook!A:M,10,FALSE)","v":165511.48000000001}]
[{"$f":"dataExtract!A124","v":"2019-03-03"},{"$f":"IF(dataExtract!B124=0,NA(),IF(A124>=todayDate,NA(),dataExtract!B124))","v":4578},null,null,null,null,null,null,null,null,null,null,null,null,null,{"$f":"dataExtract!A124","v":"2019-03-03"},{"$f":"VLOOKUP(P124,dataExternalFacebook!A:M,13,FALSE)","v":170128},50973.920000000013,{"$f":"VLOOKUP(P124,dataExternalFacebook!A:M,10,FALSE)","v":221101.92}]
[{"$f":"dataExtract!A125","v":"2019-03-04"},{"$f":"IF(dataExtract!B125=0,NA(),IF(A125>=todayDate,NA(),dataExtract!B125))","v":5133},null,null,null,null,null,null,null,null,null,null,null,null,null,{"$f":"dataExtract!A125","v":"2019-03-04"},{"$f":"VLOOKUP(P125,dataExternalFacebook!A:M,13,FALSE)","v":177072},58045.640000000014,{"$f":"VLOOKUP(P125,dataExternalFacebook!A:M,10,FALSE)","v":235117.64}]
[{"$f":"dataExtract!A126","v":"2019-03-05"},{"$f":"IF(dataExtract!B126=0,NA(),IF(A126>=todayDate,NA(),dataExtract!B126))","v":8767},null,null,null,null,null,null,null,null,null,null,null,null,null,{"$f":"dataExtract!A126","v":"2019-03-05"},{"$f":"VLOOKUP(P126,dataExternalFacebook!A:M,13,FALSE)","v":180792},62829.56,{"$f":"VLOOKUP(P126,dataExternalFacebook!A:M,10,FALSE)","v":243621.56}]
[{"$f":"dataExtract!A127","v":"2019-03-06"},{"$f":"IF(dataExtract!B127=0,NA(),IF(A127>=todayDate,NA(),dataExtract!B127))","v":8855},null,null,null,null,null,null,null,null,null,null,null,null,null,{"$f":"dataExtract!A127","v":"2019-03-06"},{"$f":"VLOOKUP(P127,dataExternalFacebook!A:M,13,FALSE)","v":181040},66676.040000000008,{"$f":"VLOOKUP(P127,dataExternalFacebook!A:M,10,FALSE)","v":247716.04}]
[{"$f":"dataExtract!A128","v":"2019-03-07"},{"$f":"IF(dataExtract!B128=0,NA(),IF(A128>=todayDate,NA(),dataExtract!B128))","v":9737},null,null,null,null,null,null,null,null,null,null,null,null,null,{"$f":"dataExtract!A128","v":"2019-03-07"},{"$f":"VLOOKUP(P128,dataExternalFacebook!A:M,13,FALSE)","v":181288},70207.56,{"$f":"VLOOKUP(P128,dataExternalFacebook!A:M,10,FALSE)","v":251495.56}]
[{"$f":"dataExtract!A129","v":"2019-03-08"},{"$f":"IF(dataExtract!B129=0,NA(),IF(A129>=todayDate,NA(),dataExtract!B129))","v":9148},null,null,null,null,null,null,null,null,null,null,null,null,null,{"$f":"dataExtract!A129","v":"2019-03-08"},{"$f":"VLOOKUP(P129,dataExternalFacebook!A:M,13,FALSE)","v":172856},101789.12,{"$f":"VLOOKUP(P129,dataExternalFacebook!A:M,10,FALSE)","v":274645.12}]
[{"$f":"dataExtract!A130","v":"2019-03-09"},{"$f":"IF(dataExtract!B130=0,NA(),IF(A130>=todayDate,NA(),dataExtract!B130))","v":8783},null,null,null,null,null,null,null,null,null,null,null,null,null,{"$f":"dataExtract!A130","v":"2019-03-09"},{"$f":"VLOOKUP(P130,dataExternalFacebook!A:M,13,FALSE)","v":171864},101993.72000000003,{"$f":"VLOOKUP(P130,dataExternalFacebook!A:M,10,FALSE)","v":273857.72000000003}]
[{"$f":"dataExtract!A131","v":"2019-03-10"},{"$f":"IF(dataExtract!B131=0,NA(),IF(A131>=todayDate,NA(),dataExtract!B131))","v":4202},null,null,null,null,null,null,null,null,null,null,null,null,null,{"$f":"dataExtract!A131","v":"2019-03-10"},{"$f":"VLOOKUP(P131,dataExternalFacebook!A:M,13,FALSE)","v":173104},{"$f":"S131-Q131","v":102643.47999999998},{"$f":"VLOOKUP(P131,dataExternalFacebook!A:M,10,FALSE)","v":275747.48}]
[{"$f":"dataExtract!A132","v":"2019-03-11"},{"$f":"IF(dataExtract!B132=0,NA(),IF(A132>=todayDate,NA(),dataExtract!B132))","v":4931},null,null,null,null,null,null,null,null,null,null,null,null,null,{"$f":"dataExtract!A132","v":"2019-03-11"},{"$f":"VLOOKUP(P132,dataExternalFacebook!A:M,13,FALSE)","v":170376},102064.40000000002,{"$f":"VLOOKUP(P132,dataExternalFacebook!A:M,10,FALSE)","v":272440.40000000002}]
[{"$f":"dataExtract!A133","v":"2019-03-12"},{"$f":"IF(dataExtract!B133=0,NA(),IF(A133>=todayDate,NA(),dataExtract!B133))","v":8570},null,null,null,null,null,null,null,null,null,null,null,null,null,{"$f":"dataExtract!A133","v":"2019-03-12"},{"$f":"VLOOKUP(P133,dataExternalFacebook!A:M,13,FALSE)","v":172856},101789.12,{"$f":"VLOOKUP(P133,dataExternalFacebook!A:M,10,FALSE)","v":274645.12}]
[{"$f":"dataExtract!A134","v":"2019-03-13"},{"$f":"IF(dataExtract!B134=0,NA(),IF(A134>=todayDate,NA(),dataExtract!B134))","v":9036},null,null,null,null,null,null,null,null,null,null,null,null,null,{"$f":"dataExtract!A134","v":"2019-03-13"},{"$f":"VLOOKUP(P134,dataExternalFacebook!A:M,13,FALSE)","v":171864},101993.72000000003,{"$f":"VLOOKUP(P134,dataExternalFacebook!A:M,10,FALSE)","v":273857.72000000003}]
[{"$f":"dataExtract!A135","v":"2019-03-14"},{"$f":"IF(dataExtract!B135=0,NA(),IF(A135>=todayDate,NA(),dataExtract!B135))","v":9028},null,null,null,null,null,null,null,null,null,null,null,null,null,{"$f":"dataExtract!A135","v":"2019-03-14"},{"$f":"VLOOKUP(P135,dataExternalFacebook!A:M,13,FALSE)","v":173104},102643.47999999998,{"$f":"VLOOKUP(P135,dataExternalFacebook!A:M,10,FALSE)","v":275747.48}]
[{"$f":"dataExtract!A136","v":"2019-03-15"},{"$f":"IF(dataExtract!B136=0,NA(),IF(A136>=todayDate,NA(),dataExtract!B136))","v":9067},null,null,null,null,null,null,null,null,null,null,null,null,null,{"$f":"dataExtract!A136","v":"2019-03-15"},{"$f":"VLOOKUP(P136,dataExternalFacebook!A:M,13,FALSE)","v":170376},102064.40000000002,{"$f":"VLOOKUP(P136,dataExternalFacebook!A:M,10,FALSE)","v":272440.40000000002}]
[{"$f":"dataExtract!A137","v":"2019-03-16"},{"$f":"IF(dataExtract!B137=0,NA(),IF(A137>=todayDate,NA(),dataExtract!B137))","v":8533},null,null,null,null,null,null,null,null,null,null,null,null,null,{"$f":"dataExtract!A137","v":"2019-03-16"},{"$f":"VLOOKUP(P137,dataExternalFacebook!A:M,13,FALSE)","v":77004},21106.040000000008,{"$f":"VLOOKUP(P137,dataExternalFacebook!A:M,10,FALSE)","v":98110.040000000008}]
[{"$f":"dataExtract!A138","v":"2019-03-17"},{"$f":"IF(dataExtract!B138=0,NA(),IF(A138>=todayDate,NA(),dataExtract!B138))","v":4114},null,null,null,null,null,null,null,null,null,null,null,null,null,{"$f":"dataExtract!A138","v":"2019-03-17"},{"$f":"VLOOKUP(P138,dataExternalFacebook!A:M,13,FALSE)","v":71052},19499,{"$f":"VLOOKUP(P138,dataExternalFacebook!A:M,10,FALSE)","v":90551}]
[{"$f":"dataExtract!A139","v":"2019-03-18"},{"$f":"IF(dataExtract!B139=0,NA(),IF(A139>=todayDate,NA(),dataExtract!B139))","v":4736},null,null,null,null,null,null,null,null,null,null,null,null,null,{"$f":"dataExtract!A139","v":"2019-03-18"},{"$f":"VLOOKUP(P139,dataExternalFacebook!A:M,13,FALSE)","v":63984},17433.160000000003,{"$f":"VLOOKUP(P139,dataExternalFacebook!A:M,10,FALSE)","v":81417.16}]
[{"$f":"dataExtract!A140","v":"2019-03-19"},{"$f":"IF(dataExtract!B140=0,NA(),IF(A140>=todayDate,NA(),dataExtract!B140))","v":7128},null,null,null,null,null,null,null,null,null,null,null,null,null,{"$f":"dataExtract!A140","v":"2019-03-19"},{"$f":"VLOOKUP(P140,dataExternalFacebook!A:M,13,FALSE)","v":67828},18471.040000000008,{"$f":"VLOOKUP(P140,dataExternalFacebook!A:M,10,FALSE)","v":86299.040000000008}]
[{"$f":"dataExtract!A141","v":"2019-03-20"},{"$f":"IF(dataExtract!B141=0,NA(),IF(A141>=todayDate,NA(),dataExtract!B141))","v":9161},null,null,null,null,null,null,null,null,null,null,null,null,null,{"$f":"dataExtract!A141","v":"2019-03-20"},{"$f":"VLOOKUP(P141,dataExternalFacebook!A:M,13,FALSE)","v":67704},18437.559999999998,{"$f":"VLOOKUP(P141,dataExternalFacebook!A:M,10,FALSE)","v":86141.56}]
[{"$f":"dataExtract!A142","v":"2019-03-21"},{"$f":"IF(dataExtract!B142=0,NA(),IF(A142>=todayDate,NA(),dataExtract!B142))","v":9069},null,null,null,null,null,null,null,null,null,null,null,null,null,{"$f":"dataExtract!A142","v":"2019-03-21"},{"$f":"VLOOKUP(P142,dataExternalFacebook!A:M,13,FALSE)","v":129704},35807.48000000001,{"$f":"VLOOKUP(P142,dataExternalFacebook!A:M,10,FALSE)","v":165511.48000000001}]
[{"$f":"dataExtract!A143","v":"2019-03-22"},{"$f":"IF(dataExtract!B143=0,NA(),IF(A143>=todayDate,NA(),dataExtract!B143))","v":9555},null,null,null,null,null,null,null,null,null,null,null,null,null,{"$f":"dataExtract!A143","v":"2019-03-22"},{"$f":"VLOOKUP(P143,dataExternalFacebook!A:M,13,FALSE)","v":170128},50973.920000000013,{"$f":"VLOOKUP(P143,dataExternalFacebook!A:M,10,FALSE)","v":221101.92}]
[{"$f":"dataExtract!A144","v":"2019-03-23"},{"$f":"IF(dataExtract!B144=0,NA(),IF(A144>=todayDate,NA(),dataExtract!B144))","v":9118},null,null,null,null,null,null,null,null,null,null,null,null,null,{"$f":"dataExtract!A144","v":"2019-03-23"},{"$f":"VLOOKUP(P144,dataExternalFacebook!A:M,13,FALSE)","v":177072},58045.640000000014,{"$f":"VLOOKUP(P144,dataExternalFacebook!A:M,10,FALSE)","v":235117.64}]
[{"$f":"dataExtract!A145","v":"2019-03-24"},{"$f":"IF(dataExtract!B145=0,NA(),IF(A145>=todayDate,NA(),dataExtract!B145))","v":4429},null,null,null,null,null,null,null,null,null,null,null,null,null,{"$f":"dataExtract!A145","v":"2019-03-24"},{"$f":"VLOOKUP(P145,dataExternalFacebook!A:M,13,FALSE)","v":180792},62829.56,{"$f":"VLOOKUP(P145,dataExternalFacebook!A:M,10,FALSE)","v":243621.56}]
[{"$f":"dataExtract!A146","v":"2019-03-25"},{"$f":"IF(dataExtract!B146=0,NA(),IF(A146>=todayDate,NA(),dataExtract!B146))","v":4823},null,null,null,null,null,null,null,null,null,null,null,null,null,{"$f":"dataExtract!A146","v":"2019-03-25"},{"$f":"VLOOKUP(P146,dataExternalFacebook!A:M,13,FALSE)","v":181040},66676.040000000008,{"$f":"VLOOKUP(P146,dataExternalFacebook!A:M,10,FALSE)","v":247716.04}]
[{"$f":"dataExtract!A147","v":"2019-03-26"},{"$f":"IF(dataExtract!B147=0,NA(),IF(A147>=todayDate,NA(),dataExtract!B147))","v":8859},null,null,null,null,null,null,null,null,null,null,null,null,null,{"$f":"dataExtract!A147","v":"2019-03-26"},{"$f":"VLOOKUP(P147,dataExternalFacebook!A:M,13,FALSE)","v":181288},70207.56,{"$f":"VLOOKUP(P147,dataExternalFacebook!A:M,10,FALSE)","v":251495.56}]
[{"$f":"dataExtract!A148","v":"2019-03-27"},{"$f":"IF(dataExtract!B148=0,NA(),IF(A148>=todayDate,NA(),dataExtract!B148))","v":{"$error":"#N/A"}},null,null,null,null,null,null,null,null,null,null,null,null,null,{"$f":"dataExtract!A148","v":"2019-03-27"},{"$f":"VLOOKUP(P148,dataExternalFacebook!A:M,13,FALSE)","v":182776},77380.959999999992,{"$f":"VLOOKUP(P148,dataExternalFacebook!A:M,10,FALSE)","v":260156.96}]
[{"$f":"dataExtract!A149","v":"2019-03-28"},{"$f":"IF(dataExtract!B149=0,NA(),IF(A149>=todayDate,NA(),dataExtract!B149))","v":{"$error":"#N/A"}},null,null,null,null,null,null,null,null,null,null,null,null,null,{"$f":"dataExtract!A149","v":"2019-03-28"},{"$f":"VLOOKUP(P149,dataExternalFacebook!A:M,13,FALSE)","v":183272},85546.359999999986,{"$f":"VLOOKUP(P149,dataExternalFacebook!A:M,10,FALSE)","v":268818.36}]
[{"$f":"dataExtract!A150","v":"2019-03-29"},{"$f":"IF(dataExtract!B150=0,NA(),IF(A150>=todayDate,NA(),dataExtract!B150))","v":{"$error":"#N/A"}},null,null,null,null,null,null,null,null,null,null,null,null,null,{"$f":"dataExtract!A150","v":"2019-03-29"},{"$f":"VLOOKUP(P150,dataExternalFacebook!A:M,13,FALSE)","v":184140},91292.520000000019,{"$f":"VLOOKUP(P150,dataExternalFacebook!A:M,10,FALSE)","v":275432.52}]
[{"$f":"dataExtract!A151","v":"2019-03-30"},{"$f":"IF(dataExtract!B151=0,NA(),IF(A151>=todayDate,NA(),dataExtract!B151))","v":{"$error":"#N/A"}},null,null,null,null,null,null,null,null,null,null,null,null,null,{"$f":"dataExtract!A151","v":"2019-03-30"},{"$f":"VLOOKUP(P151,dataExternalFacebook!A:M,13,FALSE)","v":184140},91292.520000000019,{"$f":"VLOOKUP(P151,dataExternalFacebook!A:M,10,FALSE)","v":275432.52}]
[{"$f":"dataExtract!A152","v":"2019-03-31"},{"$f":"IF(dataExtract!B152=0,NA(),IF(A152>=todayDate,NA(),dataExtract!B152))","v":{"$error":"#N/A"}},null,null,null,null,null,null,null,null,null,null,null,null,null,{"$f":"dataExtract!A152","v":"2019-03-31"},{"$f":"VLOOKUP(P152,dataExternalFacebook!A:M,13,FALSE)","v":0},0,{"$f":"VLOOKUP(P152,dataExternalFacebook!A:M,10,FALSE)","v":0}]
[{"$f":"dataExtract!A153","v":"2019-04-01"},{"$f":"IF(dataExtract!B153=0,NA(),IF(A153>=todayDate,NA(),dataExtract!B153))","v":{"$error":"#N/A"}},null,null,null,null,null,null,null,null,null,null,null,null,null,{"$f":"dataExtract!A153","v":"2019-04-01"},{"$f":"VLOOKUP(P153,dataExternalFacebook!A:M,13,FALSE)","v":0},0,{"$f":"VLOOKUP(P153,dataExternalFacebook!A:M,10,FALSE)","v":0}]
[{"$f":"dataExtract!A154","v":"2019-04-02"},{"$f":"IF(dataExtract!B154=0,NA(),IF(A154>=todayDate,NA(),dataExtract!B154))","v":{"$error":"#N/A"}},null,null,null,null,null,null,null,null,null,null,null,null,null,{"$f":"dataExtract!A154","v":"2019-04-02"},{"$f":"VLOOKUP(P154,dataExternalFacebook!A:M,13,FALSE)","v":0},0,{"$f":"VLOOKUP(P154,dataExternalFacebook!A:M,10,FALSE)","v":0}]
[{"$f":"dataExtract!A155","v":"2019-04-03"},{"$f":"IF(dataExtract!B155=0,NA(),IF(A155>=todayDate,NA(),dataExtract!B155))","v":{"$error":"#N/A"}},null,null,null,null,null,null,null,null,null,null,null,null,null,{"$f":"dataExtract!A155","v":"2019-04-03"},{"$f":"VLOOKUP(P155,dataExternalFacebook!A:M,13,FALSE)","v":0},0,{"$f":"VLOOKUP(P155,dataExternalFacebook!A:M,10,FALSE)","v":0}]
[{"$f":"dataExtract!A156","v":"2019-04-04"},{"$f":"IF(dataExtract!B156=0,NA(),IF(A156>=todayDate,NA(),dataExtract!B156))","v":{"$error":"#N/A"}},null,null,null,null,null,null,null,null,null,null,null,null,null,{"$f":"dataExtract!A156","v":"2019-04-04"},{"$f":"VLOOKUP(P156,dataExternalFacebook!A:M,13,FALSE)","v":0},0,{"$f":"VLOOKUP(P156,dataExternalFacebook!A:M,10,FALSE)","v":0}]
[{"$f":"dataExtract!A157","v":"2019-04-05"},{"$f":"IF(dataExtract!B157=0,NA(),IF(A157>=todayDate,NA(),dataExtract!B157))","v":{"$error":"#N/A"}},null,null,null,null,null,null,null,null,null,null,null,null,null,{"$f":"dataExtract!A157","v":"2019-04-05"},{"$f":"VLOOKUP(P157,dataExternalFacebook!A:M,13,FALSE)","v":0},0,{"$f":"VLOOKUP(P157,dataExternalFacebook!A:M,10,FALSE)","v":0}]
[{"$f":"dataExtract!A158","v":"2019-04-06"},{"$f":"IF(dataExtract!B158=0,NA(),IF(A158>=todayDate,NA(),dataExtract!B158))","v":{"$error":"#N/A"}},null,null,null,null,null,null,null,null,null,null,null,null,null,{"$f":"dataExtract!A158","v":"2019-04-06"},{"$f":"VLOOKUP(P158,dataExternalFacebook!A:M,13,FALSE)","v":0},0,{"$f":"VLOOKUP(P158,dataExternalFacebook!A:M,10,FALSE)","v":0}]
[{"$f":"dataExtract!A159","v":"2019-04-07"},{"$f":"IF(dataExtract!B159=0,NA(),IF(A159>=todayDate,NA(),dataExtract!B159))","v":{"$error":"#N/A"}},null,null,null,null,null,null,null,null,null,null,null,null,null,{"$f":"dataExtract!A159","v":"2019-04-07"},{"$f":"VLOOKUP(P159,dataExternalFacebook!A:M,13,FALSE)","v":0},0,{"$f":"VLOOKUP(P159,dataExternalFacebook!A:M,10,FALSE)","v":0}]
[{"$f":"dataExtract!A160","v":"2019-04-08"},{"$f":"IF(dataExtract!B160=0,NA(),IF(A160>=todayDate,NA(),dataExtract!B160))","v":{"$error":"#N/A"}},null,null,null,null,null,null,null,null,null,null,null,null,null,{"$f":"dataExtract!A160","v":"2019-04-08"},{"$f":"VLOOKUP(P160,dataExternalFacebook!A:M,13,FALSE)","v":0},0,{"$f":"VLOOKUP(P160,dataExternalFacebook!A:M,10,FALSE)","v":0}]
[{"$f":"dataExtract!A161","v":"2019-04-09"},{"$f":"IF(dataExtract!B161=0,NA(),IF(A161>=todayDate,NA(),dataExtract!B161))","v":{"$error":"#N/A"}},null,null,null,null,null,null,null,null,null,null,null,null,null,{"$f":"dataExtract!A161","v":"2019-04-09"},{"$f":"VLOOKUP(P161,dataExternalFacebook!A:M,13,FALSE)","v":0},0,{"$f":"VLOOKUP(P161,dataExternalFacebook!A:M,10,FALSE)","v":0}]
[{"$f":"dataExtract!A162","v":"2019-04-10"},{"$f":"IF(dataExtract!B162=0,NA(),IF(A162>=todayDate,NA(),dataExtract!B162))","v":{"$error":"#N/A"}},null,null,null,null,null,null,null,null,null,null,null,null,null,{"$f":"dataExtract!A162","v":"2019-04-10"},{"$f":"VLOOKUP(P162,dataExternalFacebook!A:M,13,FALSE)","v":0},0,{"$f":"VLOOKUP(P162,dataExternalFacebook!A:M,10,FALSE)","v":0}]
[{"$f":"dataExtract!A163","v":"2019-04-11"},{"$f":"IF(dataExtract!B163=0,NA(),IF(A163>=todayDate,NA(),dataExtract!B163))","v":{"$error":"#N/A"}},null,null,null,null,null,null,null,null,null,null,null,null,null,{"$f":"dataExtract!A163","v":"2019-04-11"},{"$f":"VLOOKUP(P163,dataExternalFacebook!A:M,13,FALSE)","v":0},0,{"$f":"VLOOKUP(P163,dataExternalFacebook!A:M,10,FALSE)","v":0}]
[{"$f":"dataExtract!A164","v":"2019-04-12"},{"$f":"IF(dataExtract!B164=0,NA(),IF(A164>=todayDate,NA(),dataExtract!B164))","v":{"$error":"#N/A"}},null,null,null,null,null,null,null,null,null,null,null,null,null,{"$f":"dataExtract!A164","v":"2019-04-12"},{"$f":"VLOOKUP(P164,dataExternalFacebook!A:M,13,FALSE)","v":0},0,{"$f":"VLOOKUP(P164,dataExternalFacebook!A:M,10,FALSE)","v":0}]
[{"$f":"dataExtract!A165","v":"2019-04-13"},{"$f":"IF(dataExtract!B165=0,NA(),IF(A165>=todayDate,NA(),dataExtract!B165))","v":{"$error":"#N/A"}},null,null,null,null,null,null,null,null,null,null,null,null,null,{"$f":"dataExtract!A165","v":"2019-04-13"},{"$f":"VLOOKUP(P165,dataExternalFacebook!A:M,13,FALSE)","v":0},0,{"$f":"VLOOKUP(P165,dataExternalFacebook!A:M,10,FALSE)","v":0}]
[{"$f":"dataExtract!A166","v":"2019-04-14"},{"$f":"IF(dataExtract!B166=0,NA(),IF(A166>=todayDate,NA(),dataExtract!B166))","v":{"$error":"#N/A"}},null,null,null,null,null,null,null,null,null,null,null,null,null,{"$f":"dataExtract!A166","v":"2019-04-14"},{"$f":"VLOOKUP(P166,dataExternalFacebook!A:M,13,FALSE)","v":0},0,{"$f":"VLOOKUP(P166,dataExternalFacebook!A:M,10,FALSE)","v":0}]
[{"$f":"dataExtract!A167","v":"2019-04-15"},{"$f":"IF(dataExtract!B167=0,NA(),IF(A167>=todayDate,NA(),dataExtract!B167))","v":{"$error":"#N/A"}},null,null,null,null,null,null,null,null,null,null,null,null,null,{"$f":"dataExtract!A167","v":"2019-04-15"},{"$f":"VLOOKUP(P167,dataExternalFacebook!A:M,13,FALSE)","v":0},0,{"$f":"VLOOKUP(P167,dataExternalFacebook!A:M,10,FALSE)","v":0}]
[{"$f":"dataExtract!A168","v":"2019-04-16"},{"$f":"IF(dataExtract!B168=0,NA(),IF(A168>=todayDate,NA(),dataExtract!B168))","v":{"$error":"#N/A"}},null,null,null,null,null,null,null,null,null,null,null,null,null,{"$f":"dataExtract!A168","v":"2019-04-16"},{"$f":"VLOOKUP(P168,dataExternalFacebook!A:M,13,FALSE)","v":0},0,{"$f":"VLOOKUP(P168,dataExternalFacebook!A:M,10,FALSE)","v":0}]
[{"$f":"dataExtract!A169","v":"2019-04-17"},{"$f":"IF(dataExtract!B169=0,NA(),IF(A169>=todayDate,NA(),dataExtract!B169))","v":{"$error":"#N/A"}},null,null,null,null,null,null,null,null,null,null,null,null,null,{"$f":"dataExtract!A169","v":"2019-04-17"},{"$f":"VLOOKUP(P169,dataExternalFacebook!A:M,13,FALSE)","v":0},0,{"$f":"VLOOKUP(P169,dataExternalFacebook!A:M,10,FALSE)","v":0}]
[{"$f":"dataExtract!A170","v":"2019-04-18"},{"$f":"IF(dataExtract!B170=0,NA(),IF(A170>=todayDate,NA(),dataExtract!B170))","v":{"$error":"#N/A"}},null,null,null,null,null,null,null,null,null,null,null,null,null,{"$f":"dataExtract!A170","v":"2019-04-18"},{"$f":"VLOOKUP(P170,dataExternalFacebook!A:M,13,FALSE)","v":0},0,{"$f":"VLOOKUP(P170,dataExternalFacebook!A:M,10,FALSE)","v":0}]
[{"$f":"dataExtract!A171","v":"2019-04-19"},{"$f":"IF(dataExtract!B171=0,NA(),IF(A171>=todayDate,NA(),dataExtract!B171))","v":{"$error":"#N/A"}},null,null,null,null,null,null,null,null,null,null,null,null,null,{"$f":"dataExtract!A171","v":"2019-04-19"},{"$f":"VLOOKUP(P171,dataExternalFacebook!A:M,13,FALSE)","v":0},0,{"$f":"VLOOKUP(P171,dataExternalFacebook!A:M,10,FALSE)","v":0}]
[{"$f":"dataExtract!A172","v":"2019-04-20"},{"$f":"IF(dataExtract!B172=0,NA(),IF(A172>=todayDate,NA(),dataExtract!B172))","v":{"$error":"#N/A"}},null,null,null,null,null,null,null,null,null,null,null,null,null,{"$f":"dataExtract!A172","v":"2019-04-20"},{"$f":"VLOOKUP(P172,dataExternalFacebook!A:M,13,FALSE)","v":0},0,{"$f":"VLOOKUP(P172,dataExternalFacebook!A:M,10,FALSE)","v":0}]
[{"$f":"dataExtract!A173","v":"2019-04-21"},{"$f":"IF(dataExtract!B173=0,NA(),IF(A173>=todayDate,NA(),dataExtract!B173))","v":{"$error":"#N/A"}},null,null,null,null,null,null,null,null,null,null,null,null,null,{"$f":"dataExtract!A173","v":"2019-04-21"},{"$f":"VLOOKUP(P173,dataExternalFacebook!A:M,13,FALSE)","v":0},0,{"$f":"VLOOKUP(P173,dataExternalFacebook!A:M,10,FALSE)","v":0}]
[{"$f":"dataExtract!A174","v":"2019-04-22"},{"$f":"IF(dataExtract!B174=0,NA(),IF(A174>=todayDate,NA(),dataExtract!B174))","v":{"$error":"#N/A"}},null,null,null,null,null,null,null,null,null,null,null,null,null,{"$f":"dataExtract!A174","v":"2019-04-22"},{"$f":"VLOOKUP(P174,dataExternalFacebook!A:M,13,FALSE)","v":0},0,{"$f":"VLOOKUP(P174,dataExternalFacebook!A:M,10,FALSE)","v":0}]
[{"$f":"dataExtract!A175","v":"2019-04-23"},{"$f":"IF(dataExtract!B175=0,NA(),IF(A175>=todayDate,NA(),dataExtract!B175))","v":{"$error":"#N/A"}},null,null,null,null,null,null,null,null,null,null,null,null,null,{"$f":"dataExtract!A175","v":"2019-04-23"},{"$f":"VLOOKUP(P175,dataExternalFacebook!A:M,13,FALSE)","v":0},0,{"$f":"VLOOKUP(P175,dataExternalFacebook!A:M,10,FALSE)","v":0}]
[{"$f":"dataExtract!A176","v":"2019-04-24"},{"$f":"IF(dataExtract!B176=0,NA(),IF(A176>=todayDate,NA(),dataExtract!B176))","v":{"$error":"#N/A"}},null,null,null,null,null,null,null,null,null,null,null,null,null,{"$f":"dataExtract!A176","v":"2019-04-24"},{"$f":"VLOOKUP(P176,dataExternalFacebook!A:M,13,FALSE)","v":0},0,{"$f":"VLOOKUP(P176,dataExternalFacebook!A:M,10,FALSE)","v":0}]
[{"$f":"dataExtract!A177","v":"2019-04-25"},{"$f":"IF(dataExtract!B177=0,NA(),IF(A177>=todayDate,NA(),dataExtract!B177))","v":{"$error":"#N/A"}},null,null,null,null,null,null,null,null,null,null,null,null,null,{"$f":"dataExtract!A177","v":"2019-04-25"},{"$f":"VLOOKUP(P177,dataExternalFacebook!A:M,13,FALSE)","v":0},0,{"$f":"VLOOKUP(P177,dataExternalFacebook!A:M,10,FALSE)","v":0}]
[{"$f":"dataExtract!A178","v":"2019-04-26"},{"$f":"IF(dataExtract!B178=0,NA(),IF(A178>=todayDate,NA(),dataExtract!B178))","v":{"$error":"#N/A"}},null,null,null,null,null,null,null,null,null,null,null,null,null,{"$f":"dataExtract!A178","v":"2019-04-26"},{"$f":"VLOOKUP(P178,dataExternalFacebook!A:M,13,FALSE)","v":0},0,{"$f":"VLOOKUP(P178,dataExternalFacebook!A:M,10,FALSE)","v":0}]
[{"$f":"dataExtract!A179","v":"2019-04-27"},{"$f":"IF(dataExtract!B179=0,NA(),IF(A179>=todayDate,NA(),dataExtract!B179))","v":{"$error":"#N/A"}},null,null,null,null,null,null,null,null,null,null,null,null,null,{"$f":"dataExtract!A179","v":"2019-04-27"},{"$f":"VLOOKUP(P179,dataExternalFacebook!A:M,13,FALSE)","v":0},0,{"$f":"VLOOKUP(P179,dataExternalFacebook!A:M,10,FALSE)","v":0}]
[{"$f":"dataExtract!A180","v":"2019-04-28"},{"$f":"IF(dataExtract!B180=0,NA(),IF(A180>=todayDate,NA(),dataExtract!B180))","v":{"$error":"#N/A"}},null,null,null,null,null,null,null,null,null,null,null,null,null,{"$f":"dataExtract!A180","v":"2019-04-28"},{"$f":"VLOOKUP(P180,dataExternalFacebook!A:M,13,FALSE)","v":0},0,{"$f":"VLOOKUP(P180,dataExternalFacebook!A:M,10,FALSE)","v":0}]
[{"$f":"dataExtract!A181","v":"2019-04-29"},{"$f":"IF(dataExtract!B181=0,NA(),IF(A181>=todayDate,NA(),dataExtract!B181))","v":{"$error":"#N/A"}},null,null,null,null,null,null,null,null,null,null,null,null,null,{"$f":"dataExtract!A181","v":"2019-04-29"},{"$f":"VLOOKUP(P181,dataExternalFacebook!A:M,13,FALSE)","v":0},0,{"$f":"VLOOKUP(P181,dataExternalFacebook!A:M,10,FALSE)","v":0}]
[{"$f":"dataExtract!A182","v":"2019-04-30"},{"$f":"IF(dataExtract!B182=0,NA(),IF(A182>=todayDate,NA(),dataExtract!B182))","v":{"$error":"#N/A"}},null,null,null,null,null,null,null,null,null,null,null,null,null,{"$f":"dataExtract!A182","v":"2019-04-30"},{"$f":"VLOOKUP(P182,dataExternalFacebook!A:M,13,FALSE)","v":0},0,{"$f":"VLOOKUP(P182,dataExternalFacebook!A:M,10,FALSE)","v":0}]
[{"$f":"dataExtract!A183","v":"2019-05-01"},{"$f":"IF(dataExtract!B183=0,NA(),IF(A183>=todayDate,NA(),dataExtract!B183))","v":{"$error":"#N/A"}},null,null,null,null,null,null,null,null,null,null,null,null,null,{"$f":"dataExtract!A183","v":"2019-05-01"},{"$f":"VLOOKUP(P183,dataExternalFacebook!A:M,13,FALSE)","v":0},0,{"$f":"VLOOKUP(P183,dataExternalFacebook!A:M,10,FALSE)","v":0}]
[{"$f":"dataExtract!A184","v":"2019-05-02"},{"$f":"IF(dataExtract!B184=0,NA(),IF(A184>=todayDate,NA(),dataExtract!B184))","v":{"$error":"#N/A"}},null,null,null,null,null,null,null,null,null,null,null,null,null,{"$f":"dataExtract!A184","v":"2019-05-02"},{"$f":"VLOOKUP(P184,dataExternalFacebook!A:M,13,FALSE)","v":0},0,{"$f":"VLOOKUP(P184,dataExternalFacebook!A:M,10,FALSE)","v":0}]
[{"$f":"dataExtract!A185","v":"2019-05-03"},{"$f":"IF(dataExtract!B185=0,NA(),IF(A185>=todayDate,NA(),dataExtract!B185))","v":{"$error":"#N/A"}},null,null,null,null,null,null,null,null,null,null,null,null,null,{"$f":"dataExtract!A185","v":"2019-05-03"},{"$f":"VLOOKUP(P185,dataExternalFacebook!A:M,13,FALSE)","v":0},0,{"$f":"VLOOKUP(P185,dataExternalFacebook!A:M,10,FALSE)","v":0}]
[{"$f":"dataExtract!A186","v":"2019-05-04"},{"$f":"IF(dataExtract!B186=0,NA(),IF(A186>=todayDate,NA(),dataExtract!B186))","v":{"$error":"#N/A"}},null,null,null,null,null,null,null,null,null,null,null,null,null,{"$f":"dataExtract!A186","v":"2019-05-04"},{"$f":"VLOOKUP(P186,dataExternalFacebook!A:M,13,FALSE)","v":0},0,{"$f":"VLOOKUP(P186,dataExternalFacebook!A:M,10,FALSE)","v":0}]
[{"$f":"dataExtract!A187","v":"2019-05-05"},{"$f":"IF(dataExtract!B187=0,NA(),IF(A187>=todayDate,NA(),dataExtract!B187))","v":{"$error":"#N/A"}},null,null,null,null,null,null,null,null,null,null,null,null,null,{"$f":"dataExtract!A187","v":"2019-05-05"},{"$f":"VLOOKUP(P187,dataExternalFacebook!A:M,13,FALSE)","v":0},0,{"$f":"VLOOKUP(P187,dataExternalFacebook!A:M,10,FALSE)","v":0}]
[{"$f":"dataExtract!A188","v":"2019-05-06"},{"$f":"IF(dataExtract!B188=0,NA(),IF(A188>=todayDate,NA(),dataExtract!B188))","v":{"$error":"#N/A"}},null,null,null,null,null,null,null,null,null,null,null,null,null,{"$f":"dataExtract!A188","v":"2019-05-06"},{"$f":"VLOOKUP(P188,dataExternalFacebook!A:M,13,FALSE)","v":0},0,{"$f":"VLOOKUP(P188,dataExternalFacebook!A:M,10,FALSE)","v":0}]
[{"$f":"dataExtract!A189","v":"2019-05-07"},{"$f":"IF(dataExtract!B189=0,NA(),IF(A189>=todayDate,NA(),dataExtract!B189))","v":{"$error":"#N/A"}},null,null,null,null,null,null,null,null,null,null,null,null,null,{"$f":"dataExtract!A189","v":"2019-05-07"},{"$f":"VLOOKUP(P189,dataExternalFacebook!A:M,13,FALSE)","v":0},0,{"$f":"VLOOKUP(P189,dataExternalFacebook!A:M,10,FALSE)","v":0}]
[{"$f":"dataExtract!A190","v":"2019-05-08"},{"$f":"IF(dataExtract!B190=0,NA(),IF(A190>=todayDate,NA(),dataExtract!B190))","v":{"$error":"#N/A"}},null,null,null,null,null,null,null,null,null,null,null,null,null,{"$f":"dataExtract!A190","v":"2019-05-08"},{"$f":"VLOOKUP(P190,dataExternalFacebook!A:M,13,FALSE)","v":0},0,{"$f":"VLOOKUP(P190,dataExternalFacebook!A:M,10,FALSE)","v":0}]
[{"$f":"dataExtract!A191","v":"2019-05-09"},{"$f":"IF(dataExtract!B191=0,NA(),IF(A191>=todayDate,NA(),dataExtract!B191))","v":{"$error":"#N/A"}},null,null,null,null,null,null,null,null,null,null,null,null,null,{"$f":"dataExtract!A191","v":"2019-05-09"},{"$f":"VLOOKUP(P191,dataExternalFacebook!A:M,13,FALSE)","v":0},0,{"$f":"VLOOKUP(P191,dataExternalFacebook!A:M,10,FALSE)","v":0}]
[{"$f":"dataExtract!A192","v":"2019-05-10"},{"$f":"IF(dataExtract!B192=0,NA(),IF(A192>=todayDate,NA(),dataExtract!B192))","v":{"$error":"#N/A"}},null,null,null,null,null,null,null,null,null,null,null,null,null,{"$f":"dataExtract!A192","v":"2019-05-10"},{"$f":"VLOOKUP(P192,dataExternalFacebook!A:M,13,FALSE)","v":0},0,{"$f":"VLOOKUP(P192,dataExternalFacebook!A:M,10,FALSE)","v":0}]
[{"$f":"dataExtract!A193","v":"2019-05-11"},{"$f":"IF(dataExtract!B193=0,NA(),IF(A193>=todayDate,NA(),dataExtract!B193))","v":{"$error":"#N/A"}},null,null,null,null,null,null,null,null,null,null,null,null,null,{"$f":"dataExtract!A193","v":"2019-05-11"},{"$f":"VLOOKUP(P193,dataExternalFacebook!A:M,13,FALSE)","v":0},0,{"$f":"VLOOKUP(P193,dataExternalFacebook!A:M,10,FALSE)","v":0}]
[{"$f":"dataExtract!A194","v":"2019-05-12"},{"$f":"IF(dataExtract!B194=0,NA(),IF(A194>=todayDate,NA(),dataExtract!B194))","v":{"$error":"#N/A"}},null,null,null,null,null,null,null,null,null,null,null,null,null,{"$f":"dataExtract!A194","v":"2019-05-12"},{"$f":"VLOOKUP(P194,dataExternalFacebook!A:M,13,FALSE)","v":0},0,{"$f":"VLOOKUP(P194,dataExternalFacebook!A:M,10,FALSE)","v":0}]
[{"$f":"dataExtract!A195","v":"2019-05-13"},{"$f":"IF(dataExtract!B195=0,NA(),IF(A195>=todayDate,NA(),dataExtract!B195))","v":{"$error":"#N/A"}},null,null,null,null,null,null,null,null,null,null,null,null,null,{"$f":"dataExtract!A195","v":"2019-05-13"},{"$f":"VLOOKUP(P195,dataExternalFacebook!A:M,13,FALSE)","v":0},{"$f":"S195-Q195","v":0},{"$f":"VLOOKUP(P195,dataExternalFacebook!A:M,10,FALSE)","v":0}]
[{"$f":"dataExtract!A196","v":"2019-05-14"},{"$f":"IF(dataExtract!B196=0,NA(),IF(A196>=todayDate,NA(),dataExtract!B196))","v":{"$error":"#N/A"}},null,null,null,null,null,null,null,null,null,null,null,null,null,{"$f":"dataExtract!A196","v":"2019-05-14"},{"$f":"VLOOKUP(P196,dataExternalFacebook!A:M,13,FALSE)","v":0},0,{"$f":"VLOOKUP(P196,dataExternalFacebook!A:M,10,FALSE)","v":0}]
[{"$f":"dataExtract!A197","v":"2019-05-15"},{"$f":"IF(dataExtract!B197=0,NA(),IF(A197>=todayDate,NA(),dataExtract!B197))","v":{"$error":"#N/A"}},null,null,null,null,null,null,null,null,null,null,null,null,null,{"$f":"dataExtract!A197","v":"2019-05-15"},{"$f":"VLOOKUP(P197,dataExternalFacebook!A:M,13,FALSE)","v":0},0,{"$f":"VLOOKUP(P197,dataExternalFacebook!A:M,10,FALSE)","v":0}]
[{"$f":"dataExtract!A198","v":"2019-05-16"},{"$f":"IF(dataExtract!B198=0,NA(),IF(A198>=todayDate,NA(),dataExtract!B198))","v":{"$error":"#N/A"}},null,null,null,null,null,null,null,null,null,null,null,null,null,{"$f":"dataExtract!A198","v":"2019-05-16"},{"$f":"VLOOKUP(P198,dataExternalFacebook!A:M,13,FALSE)","v":0},0,{"$f":"VLOOKUP(P198,dataExternalFacebook!A:M,10,FALSE)","v":0}]
[{"$f":"dataExtract!A199","v":"2019-05-17"},{"$f":"IF(dataExtract!B199=0,NA(),IF(A199>=todayDate,NA(),dataExtract!B199))","v":{"$error":"#N/A"}},null,null,null,null,null,null,null,null,null,null,null,null,null,{"$f":"dataExtract!A199","v":"2019-05-17"},{"$f":"VLOOKUP(P199,dataExternalFacebook!A:M,13,FALSE)","v":0},0,{"$f":"VLOOKUP(P199,dataExternalFacebook!A:M,10,FALSE)","v":0}]
[{"$f":"dataExtract!A200","v":"2019-05-18"},{"$f":"IF(dataExtract!B200=0,NA(),IF(A200>=todayDate,NA(),dataExtract!B200))","v":{"$error":"#N/A"}},null,null,null,null,null,null,null,null,null,null,null,null,null,{"$f":"dataExtract!A200","v":"2019-05-18"},{"$f":"VLOOKUP(P200,dataExternalFacebook!A:M,13,FALSE)","v":0},0,{"$f":"VLOOKUP(P200,dataExternalFacebook!A:M,10,FALSE)","v":0}]
[{"$f":"dataExtract!A201","v":"2019-05-19"},{"$f":"IF(dataExtract!B201=0,NA(),IF(A201>=todayDate,NA(),dataExtract!B201))","v":{"$error":"#N/A"}},null,null,null,null,null,null,null,null,null,null,null,null,null,{"$f":"dataExtract!A201","v":"2019-05-19"},{"$f":"VLOOKUP(P201,dataExternalFacebook!A:M,13,FALSE)","v":0},0,{"$f":"VLOOKUP(P201,dataExternalFacebook!A:M,10,FALSE)","v":0}]
[{"$f":"dataExtract!A202","v":"2019-05-20"},{"$f":"IF(dataExtract!B202=0,NA(),IF(A202>=todayDate,NA(),dataExtract!B202))","v":{"$error":"#N/A"}},null,null,null,null,null,null,null,null,null,null,null,null,null,{"$f":"dataExtract!A202","v":"2019-05-20"},{"$f":"VLOOKUP(P202,dataExternalFacebook!A:M,13,FALSE)","v":0},0,{"$f":"VLOOKUP(P202,dataExternalFacebook!A:M,10,FALSE)","v":0}]
[{"$f":"dataExtract!A203","v":"2019-05-21"},{"$f":"IF(dataExtract!B203=0,NA(),IF(A203>=todayDate,NA(),dataExtract!B203))","v":{"$error":"#N/A"}},null,null,null,null,null,null,null,null,null,null,null,null,null,{"$f":"dataExtract!A203","v":"2019-05-21"},{"$f":"VLOOKUP(P203,dataExternalFacebook!A:M,13,FALSE)","v":0},0,{"$f":"VLOOKUP(P203,dataExternalFacebook!A:M,10,FALSE)","v":0}]
[{"$f":"dataExtract!A204","v":"2019-05-22"},{"$f":"IF(dataExtract!B204=0,NA(),IF(A204>=todayDate,NA(),dataExtract!B204))","v":{"$error":"#N/A"}},null,null,null,null,null,null,null,null,null,null,null,null,null,{"$f":"dataExtract!A204","v":"2019-05-22"},{"$f":"VLOOKUP(P204,dataExternalFacebook!A:M,13,FALSE)","v":0},0,{"$f":"VLOOKUP(P204,dataExternalFacebook!A:M,10,FALSE)","v":0}]
[{"$f":"dataExtract!A205","v":"2019-05-23"},{"$f":"IF(dataExtract!B205=0,NA(),IF(A205>=todayDate,NA(),dataExtract!B205))","v":{"$error":"#N/A"}},null,null,null,null,null,null,null,null,null,null,null,null,null,{"$f":"dataExtract!A205","v":"2019-05-23"},{"$f":"VLOOKUP(P205,dataExternalFacebook!A:M,13,FALSE)","v":0},0,{"$f":"VLOOKUP(P205,dataExternalFacebook!A:M,10,FALSE)","v":0}]
[{"$f":"dataExtract!A206","v":"2019-05-24"},{"$f":"IF(dataExtract!B206=0,NA(),IF(A206>=todayDate,NA(),dataExtract!B206))","v":{"$error":"#N/A"}},null,null,null,null,null,null,null,null,null,null,null,null,null,{"$f":"dataExtract!A206","v":"2019-05-24"},{"$f":"VLOOKUP(P206,dataExternalFacebook!A:M,13,FALSE)","v":0},0,{"$f":"VLOOKUP(P206,dataExternalFacebook!A:M,10,FALSE)","v":0}]
[{"$f":"dataExtract!A207","v":"2019-05-25"},{"$f":"IF(dataExtract!B207=0,NA(),IF(A207>=todayDate,NA(),dataExtract!B207))","v":{"$error":"#N/A"}},null,null,null,null,null,null,null,null,null,null,null,null,null,{"$f":"dataExtract!A207","v":"2019-05-25"},{"$f":"VLOOKUP(P207,dataExternalFacebook!A:M,13,FALSE)","v":0},0,{"$f":"VLOOKUP(P207,dataExternalFacebook!A:M,10,FALSE)","v":0}]
[{"$f":"dataExtract!A208","v":"2019-05-26"},{"$f":"IF(dataExtract!B208=0,NA(),IF(A208>=todayDate,NA(),dataExtract!B208))","v":{"$error":"#N/A"}},null,null,null,null,null,null,null,null,null,null,null,null,null,{"$f":"dataExtract!A208","v":"2019-05-26"},{"$f":"VLOOKUP(P208,dataExternalFacebook!A:M,13,FALSE)","v":0},0,{"$f":"VLOOKUP(P208,dataExternalFacebook!A:M,10,FALSE)","v":0}]
[{"$f":"dataExtract!A209","v":"2019-05-27"},{"$f":"IF(dataExtract!B209=0,NA(),IF(A209>=todayDate,NA(),dataExtract!B209))","v":{"$error":"#N/A"}},null,null,null,null,null,null,null,null,null,null,null,null,null,{"$f":"dataExtract!A209","v":"2019-05-27"},{"$f":"VLOOKUP(P209,dataExternalFacebook!A:M,13,FALSE)","v":0},0,{"$f":"VLOOKUP(P209,dataExternalFacebook!A:M,10,FALSE)","v":0}]
[{"$f":"dataExtract!A210","v":"2019-05-28"},{"$f":"IF(dataExtract!B210=0,NA(),IF(A210>=todayDate,NA(),dataExtract!B210))","v":{"$error":"#N/A"}},null,null,null,null,null,null,null,null,null,null,null,null,null,{"$f":"dataExtract!A210","v":"2019-05-28"},{"$f":"VLOOKUP(P210,dataExternalFacebook!A:M,13,FALSE)","v":0},0,{"$f":"VLOOKUP(P210,dataExternalFacebook!A:M,10,FALSE)","v":0}]
[{"$f":"dataExtract!A211","v":"2019-05-29"},{"$f":"IF(dataExtract!B211=0,NA(),IF(A211>=todayDate,NA(),dataExtract!B211))","v":{"$error":"#N/A"}},null,null,null,null,null,null,null,null,null,null,null,null,null,{"$f":"dataExtract!A211","v":"2019-05-29"},{"$f":"VLOOKUP(P211,dataExternalFacebook!A:M,13,FALSE)","v":0},0,{"$f":"VLOOKUP(P211,dataExternalFacebook!A:M,10,FALSE)","v":0}]
[{"$f":"dataExtract!A212","v":"2019-05-30"},{"$f":"IF(dataExtract!B212=0,NA(),IF(A212>=todayDate,NA(),dataExtract!B212))","v":{"$error":"#N/A"}},null,null,null,null,null,null,null,null,null,null,null,null,null,{"$f":"dataExtract!A212","v":"2019-05-30"},{"$f":"VLOOKUP(P212,dataExternalFacebook!A:M,13,FALSE)","v":0},0,{"$f":"VLOOKUP(P212,dataExternalFacebook!A:M,10,FALSE)","v":0}]
[{"$f":"dataExtract!A213","v":"2019-05-31"},{"$f":"IF(dataExtract!B213=0,NA(),IF(A213>=todayDate,NA(),dataExtract!B213))","v":{"$error":"#N/A"}},null,null,null,null,null,null,null,null,null,null,null,null,null,{"$f":"dataExtract!A213","v":"2019-05-31"},{"$f":"VLOOKUP(P213,dataExternalFacebook!A:M,13,FALSE)","v":0},0,{"$f":"VLOOKUP(P213,dataExternalFacebook!A:M,10,FALSE)","v":0}]
[{"$f":"dataExtract!A214","v":"2019-06-01"},{"$f":"IF(dataExtract!B214=0,NA(),IF(A214>=todayDate,NA(),dataExtract!B214))","v":{"$error":"#N/A"}},null,null,null,null,null,null,null,null,null,null,null,null,null,{"$f":"dataExtract!A214","v":"2019-06-01"},{"$f":"VLOOKUP(P214,dataExternalFacebook!A:M,13,FALSE)","v":0},0,{"$f":"VLOOKUP(P214,dataExternalFacebook!A:M,10,FALSE)","v":0}]
[{"$f":"dataExtract!A215","v":"2019-06-02"},{"$f":"IF(dataExtract!B215=0,NA(),IF(A215>=todayDate,NA(),dataExtract!B215))","v":{"$error":"#N/A"}},null,null,null,null,null,null,null,null,null,null,null,null,null,{"$f":"dataExtract!A215","v":"2019-06-02"},{"$f":"VLOOKUP(P215,dataExternalFacebook!A:M,13,FALSE)","v":0},0,{"$f":"VLOOKUP(P215,dataExternalFacebook!A:M,10,FALSE)","v":0}]
[{"$f":"dataExtract!A216","v":"2019-06-03"},{"$f":"IF(dataExtract!B216=0,NA(),IF(A216>=todayDate,NA(),dataExtract!B216))","v":{"$error":"#N/A"}},null,null,null,null,null,null,null,null,null,null,null,null,null,{"$f":"dataExtract!A216","v":"2019-06-03"},{"$f":"VLOOKUP(P216,dataExternalFacebook!A:M,13,FALSE)","v":0},0,{"$f":"VLOOKUP(P216,dataExternalFacebook!A:M,10,FALSE)","v":0}]
[{"$f":"dataExtract!A217","v":"2019-06-04"},{"$f":"IF(dataExtract!B217=0,NA(),IF(A217>=todayDate,NA(),dataExtract!B217))","v":{"$error":"#N/A"}},null,null,null,null,null,null,null,null,null,null,null,null,null,{"$f":"dataExtract!A217","v":"2019-06-04"},{"$f":"VLOOKUP(P217,dataExternalFacebook!A:M,13,FALSE)","v":0},0,{"$f":"VLOOKUP(P217,dataExternalFacebook!A:M,10,FALSE)","v":0}]
[{"$f":"dataExtract!A218","v":"2019-06-05"},{"$f":"IF(dataExtract!B218=0,NA(),IF(A218>=todayDate,NA(),dataExtract!B218))","v":{"$error":"#N/A"}},null,null,null,null,null,null,null,null,null,null,null,null,null,{"$f":"dataExtract!A218","v":"2019-06-05"},{"$f":"VLOOKUP(P218,dataExternalFacebook!A:M,13,FALSE)","v":0},0,{"$f":"VLOOKUP(P218,dataExternalFacebook!A:M,10,FALSE)","v":0}]
[{"$f":"dataExtract!A219","v":"2019-06-06"},{"$f":"IF(dataExtract!B219=0,NA(),IF(A219>=todayDate,NA(),dataExtract!B219))","v":{"$error":"#N/A"}},null,null,null,null,null,null,null,null,null,null,null,null,null,{"$f":"dataExtract!A219","v":"2019-06-06"},{"$f":"VLOOKUP(P219,dataExternalFacebook!A:M,13,FALSE)","v":0},0,{"$f":"VLOOKUP(P219,dataExternalFacebook!A:M,10,FALSE)","v":0}]
[{"$f":"dataExtract!A220","v":"2019-06-07"},{"$f":"IF(dataExtract!B220=0,NA(),IF(A220>=todayDate,NA(),dataExtract!B220))","v":{"$error":"#N/A"}},null,null,null,null,null,null,null,null,null,null,null,null,null,{"$f":"dataExtract!A220","v":"2019-06-07"},{"$f":"VLOOKUP(P220,dataExternalFacebook!A:M,13,FALSE)","v":0},0,{"$f":"VLOOKUP(P220,dataExternalFacebook!A:M,10,FALSE)","v":0}]
[{"$f":"dataExtract!A221","v":"2019-06-08"},{"$f":"IF(dataExtract!B221=0,NA(),IF(A221>=todayDate,NA(),dataExtract!B221))","v":{"$error":"#N/A"}},null,null,null,null,null,null,null,null,null,null,null,null,null,{"$f":"dataExtract!A221","v":"2019-06-08"},{"$f":"VLOOKUP(P221,dataExternalFacebook!A:M,13,FALSE)","v":0},0,{"$f":"VLOOKUP(P221,dataExternalFacebook!A:M,10,FALSE)","v":0}]
[{"$f":"dataExtract!A222","v":"2019-06-09"},{"$f":"IF(dataExtract!B222=0,NA(),IF(A222>=todayDate,NA(),dataExtract!B222))","v":{"$error":"#N/A"}},null,null,null,null,null,null,null,null,null,null,null,null,null,{"$f":"dataExtract!A222","v":"2019-06-09"},{"$f":"VLOOKUP(P222,dataExternalFacebook!A:M,13,FALSE)","v":0},0,{"$f":"VLOOKUP(P222,dataExternalFacebook!A:M,10,FALSE)","v":0}]
[{"$f":"dataExtract!A223","v":"2019-06-10"},{"$f":"IF(dataExtract!B223=0,NA(),IF(A223>=todayDate,NA(),dataExtract!B223))","v":{"$error":"#N/A"}},null,null,null,null,null,null,null,null,null,null,null,null,null,{"$f":"dataExtract!A223","v":"2019-06-10"},{"$f":"VLOOKUP(P223,dataExternalFacebook!A:M,13,FALSE)","v":0},0,{"$f":"VLOOKUP(P223,dataExternalFacebook!A:M,10,FALSE)","v":0}]
[{"$f":"dataExtract!A224","v":"2019-06-11"},{"$f":"IF(dataExtract!B224=0,NA(),IF(A224>=todayDate,NA(),dataExtract!B224))","v":{"$error":"#N/A"}},null,null,null,null,null,null,null,null,null,null,null,null,null,{"$f":"dataExtract!A224","v":"2019-06-11"},{"$f":"VLOOKUP(P224,dataExternalFacebook!A:M,13,FALSE)","v":0},0,{"$f":"VLOOKUP(P224,dataExternalFacebook!A:M,10,FALSE)","v":0}]
[{"$f":"dataExtract!A225","v":"2019-06-12"},{"$f":"IF(dataExtract!B225=0,NA(),IF(A225>=todayDate,NA(),dataExtract!B225))","v":{"$error":"#N/A"}},null,null,null,null,null,null,null,null,null,null,null,null,null,{"$f":"dataExtract!A225","v":"2019-06-12"},{"$f":"VLOOKUP(P225,dataExternalFacebook!A:M,13,FALSE)","v":0},0,{"$f":"VLOOKUP(P225,dataExternalFacebook!A:M,10,FALSE)","v":0}]
[{"$f":"dataExtract!A226","v":"2019-06-13"},{"$f":"IF(dataExtract!B226=0,NA(),IF(A226>=todayDate,NA(),dataExtract!B226))","v":{"$error":"#N/A"}},null,null,null,null,null,null,null,null,null,null,null,null,null,{"$f":"dataExtract!A226","v":"2019-06-13"},{"$f":"VLOOKUP(P226,dataExternalFacebook!A:M,13,FALSE)","v":0},0,{"$f":"VLOOKUP(P226,dataExternalFacebook!A:M,10,FALSE)","v":0}]
[{"$f":"dataExtract!A227","v":"2019-06-14"},{"$f":"IF(dataExtract!B227=0,NA(),IF(A227>=todayDate,NA(),dataExtract!B227))","v":{"$error":"#N/A"}},null,null,null,null,null,null,null,null,null,null,null,null,null,{"$f":"dataExtract!A227","v":"2019-06-14"},{"$f":"VLOOKUP(P227,dataExternalFacebook!A:M,13,FALSE)","v":0},0,{"$f":"VLOOKUP(P227,dataExternalFacebook!A:M,10,FALSE)","v":0}]
[{"$f":"dataExtract!A228","v":"2019-06-15"},{"$f":"IF(dataExtract!B228=0,NA(),IF(A228>=todayDate,NA(),dataExtract!B228))","v":{"$error":"#N/A"}},null,null,null,null,null,null,null,null,null,null,null,null,null,{"$f":"dataExtract!A228","v":"2019-06-15"},{"$f":"VLOOKUP(P228,dataExternalFacebook!A:M,13,FALSE)","v":0},0,{"$f":"VLOOKUP(P228,dataExternalFacebook!A:M,10,FALSE)","v":0}]
[{"$f":"dataExtract!A229","v":"2019-06-16"},{"$f":"IF(dataExtract!B229=0,NA(),IF(A229>=todayDate,NA(),dataExtract!B229))","v":{"$error":"#N/A"}},null,null,null,null,null,null,null,null,null,null,null,null,null,{"$f":"dataExtract!A229","v":"2019-06-16"},{"$f":"VLOOKUP(P229,dataExternalFacebook!A:M,13,FALSE)","v":0},0,{"$f":"VLOOKUP(P229,dataExternalFacebook!A:M,10,FALSE)","v":0}]
[{"$f":"dataExtract!A230","v":"2019-06-17"},{"$f":"IF(dataExtract!B230=0,NA(),IF(A230>=todayDate,NA(),dataExtract!B230))","v":{"$error":"#N/A"}},null,null,null,null,null,null,null,null,null,null,null,null,null,{"$f":"dataExtract!A230","v":"2019-06-17"},{"$f":"VLOOKUP(P230,dataExternalFacebook!A:M,13,FALSE)","v":0},0,{"$f":"VLOOKUP(P230,dataExternalFacebook!A:M,10,FALSE)","v":0}]
[{"$f":"dataExtract!A231","v":"2019-06-18"},{"$f":"IF(dataExtract!B231=0,NA(),IF(A231>=todayDate,NA(),dataExtract!B231))","v":{"$error":"#N/A"}},null,null,null,null,null,null,null,null,null,null,null,null,null,{"$f":"dataExtract!A231","v":"2019-06-18"},{"$f":"VLOOKUP(P231,dataExternalFacebook!A:M,13,FALSE)","v":0},0,{"$f":"VLOOKUP(P231,dataExternalFacebook!A:M,10,FALSE)","v":0}]
[{"$f":"dataExtract!A232","v":"2019-06-19"},{"$f":"IF(dataExtract!B232=0,NA(),IF(A232>=todayDate,NA(),dataExtract!B232))","v":{"$error":"#N/A"}},null,null,null,null,null,null,null,null,null,null,null,null,null,{"$f":"dataExtract!A232","v":"2019-06-19"},{"$f":"VLOOKUP(P232,dataExternalFacebook!A:M,13,FALSE)","v":0},0,{"$f":"VLOOKUP(P232,dataExternalFacebook!A:M,10,FALSE)","v":0}]
[{"$f":"dataExtract!A233","v":"2019-06-20"},{"$f":"IF(dataExtract!B233=0,NA(),IF(A233>=todayDate,NA(),dataExtract!B233))","v":{"$error":"#N/A"}},null,null,null,null,null,null,null,null,null,null,null,null,null,{"$f":"dataExtract!A233","v":"2019-06-20"},{"$f":"VLOOKUP(P233,dataExternalFacebook!A:M,13,FALSE)","v":0},0,{"$f":"VLOOKUP(P233,dataExternalFacebook!A:M,10,FALSE)","v":0}]
[{"$f":"dataExtract!A234","v":"2019-06-21"},{"$f":"IF(dataExtract!B234=0,NA(),IF(A234>=todayDate,NA(),dataExtract!B234))","v":{"$error":"#N/A"}},null,null,null,null,null,null,null,null,null,null,null,null,null,{"$f":"dataExtract!A234","v":"2019-06-21"},{"$f":"VLOOKUP(P234,dataExternalFacebook!A:M,13,FALSE)","v":0},0,{"$f":"VLOOKUP(P234,dataExternalFacebook!A:M,10,FALSE)","v":0}]
[{"$f":"dataExtract!A235","v":"2019-06-22"},{"$f":"IF(dataExtract!B235=0,NA(),IF(A235>=todayDate,NA(),dataExtract!B235))","v":{"$error":"#N/A"}},null,null,null,null,null,null,null,null,null,null,null,null,null,{"$f":"dataExtract!A235","v":"2019-06-22"},{"$f":"VLOOKUP(P235,dataExternalFacebook!A:M,13,FALSE)","v":0},0,{"$f":"VLOOKUP(P235,dataExternalFacebook!A:M,10,FALSE)","v":0}]
[{"$f":"dataExtract!A236","v":"2019-06-23"},{"$f":"IF(dataExtract!B236=0,NA(),IF(A236>=todayDate,NA(),dataExtract!B236))","v":{"$error":"#N/A"}},null,null,null,null,null,null,null,null,null,null,null,null,null,{"$f":"dataExtract!A236","v":"2019-06-23"},{"$f":"VLOOKUP(P236,dataExternalFacebook!A:M,13,FALSE)","v":0},0,{"$f":"VLOOKUP(P236,dataExternalFacebook!A:M,10,FALSE)","v":0}]
[{"$f":"dataExtract!A237","v":"2019-06-24"},{"$f":"IF(dataExtract!B237=0,NA(),IF(A237>=todayDate,NA(),dataExtract!B237))","v":{"$error":"#N/A"}},null,null,null,null,null,null,null,null,null,null,null,null,null,{"$f":"dataExtract!A237","v":"2019-06-24"},{"$f":"VLOOKUP(P237,dataExternalFacebook!A:M,13,FALSE)","v":0},0,{"$f":"VLOOKUP(P237,dataExternalFacebook!A:M,10,FALSE)","v":0}]
[{"$f":"dataExtract!A238","v":"2019-06-25"},{"$f":"IF(dataExtract!B238=0,NA(),IF(A238>=todayDate,NA(),dataExtract!B238))","v":{"$error":"#N/A"}},null,null,null,null,null,null,null,null,null,null,null,null,null,{"$f":"dataExtract!A238","v":"2019-06-25"},{"$f":"VLOOKUP(P238,dataExternalFacebook!A:M,13,FALSE)","v":0},0,{"$f":"VLOOKUP(P238,dataExternalFacebook!A:M,10,FALSE)","v":0}]
[{"$f":"dataExtract!A239","v":"2019-06-26"},{"$f":"IF(dataExtract!B239=0,NA(),IF(A239>=todayDate,NA(),dataExtract!B239))","v":{"$error":"#N/A"}},null,null,null,null,null,null,null,null,null,null,null,null,null,{"$f":"dataExtract!A239","v":"2019-06-26"},{"$f":"VLOOKUP(P239,dataExternalFacebook!A:M,13,FALSE)","v":0},0,{"$f":"VLOOKUP(P239,dataExternalFacebook!A:M,10,FALSE)","v":0}]
[{"$f":"dataExtract!A240","v":"2019-06-27"},{"$f":"IF(dataExtract!B240=0,NA(),IF(A240>=todayDate,NA(),dataExtract!B240))","v":{"$error":"#N/A"}},null,null,null,null,null,null,null,null,null,null,null,null,null,{"$f":"dataExtract!A240","v":"2019-06-27"},{"$f":"VLOOKUP(P240,dataExternalFacebook!A:M,13,FALSE)","v":0},0,{"$f":"VLOOKUP(P240,dataExternalFacebook!A:M,10,FALSE)","v":0}]
[{"$f":"dataExtract!A241","v":"2019-06-28"},{"$f":"IF(dataExtract!B241=0,NA(),IF(A241>=todayDate,NA(),dataExtract!B241))","v":{"$error":"#N/A"}},null,null,null,null,null,null,null,null,null,null,null,null,null,{"$f":"dataExtract!A241","v":"2019-06-28"},{"$f":"VLOOKUP(P241,dataExternalFacebook!A:M,13,FALSE)","v":0},0,{"$f":"VLOOKUP(P241,dataExternalFacebook!A:M,10,FALSE)","v":0}]
[{"$f":"dataExtract!A242","v":"2019-06-29"},{"$f":"IF(dataExtract!B242=0,NA(),IF(A242>=todayDate,NA(),dataExtract!B242))","v":{"$error":"#N/A"}},null,null,null,null,null,null,null,null,null,null,null,null,null,{"$f":"dataExtract!A242","v":"2019-06-29"},{"$f":"VLOOKUP(P242,dataExternalFacebook!A:M,13,FALSE)","v":0},0,{"$f":"VLOOKUP(P242,dataExternalFacebook!A:M,10,FALSE)","v":0}]
[{"$f":"dataExtract!A243","v":"2019-06-30"},{"$f":"IF(dataExtract!B243=0,NA(),IF(A243>=todayDate,NA(),dataExtract!B243))","v":{"$error":"#N/A"}},null,null,null,null,null,null,null,null,null,null,null,null,null,{"$f":"dataExtract!A243","v":"2019-06-30"},{"$f":"VLOOKUP(P243,dataExternalFacebook!A:M,13,FALSE)","v":0},0,{"$f":"VLOOKUP(P243,dataExternalFacebook!A:M,10,FALSE)","v":0}]
[{"$f":"dataExtract!A244","v":"2019-07-01"},{"$f":"IF(dataExtract!B244=0,NA(),IF(A244>=todayDate,NA(),dataExtract!B244))","v":{"$error":"#N/A"}},null,null,null,null,null,null,null,null,null,null,null,null,null,{"$f":"dataExtract!A244","v":"2019-07-01"},{"$f":"VLOOKUP(P244,dataExternalFacebook!A:M,13,FALSE)","v":0},0,{"$f":"VLOOKUP(P244,dataExternalFacebook!A:M,10,FALSE)","v":0}]
[{"$f":"dataExtract!A245","v":"2019-07-02"},{"$f":"IF(dataExtract!B245=0,NA(),IF(A245>=todayDate,NA(),dataExtract!B245))","v":{"$error":"#N/A"}},null,null,null,null,null,null,null,null,null,null,null,null,null,{"$f":"dataExtract!A245","v":"2019-07-02"},{"$f":"VLOOKUP(P245,dataExternalFacebook!A:M,13,FALSE)","v":0},0,{"$f":"VLOOKUP(P245,dataExternalFacebook!A:M,10,FALSE)","v":0}]
[{"$f":"dataExtract!A246","v":"2019-07-03"},{"$f":"IF(dataExtract!B246=0,NA(),IF(A246>=todayDate,NA(),dataExtract!B246))","v":{"$error":"#N/A"}},null,null,null,null,null,null,null,null,null,null,null,null,null,{"$f":"dataExtract!A246","v":"2019-07-03"},{"$f":"VLOOKUP(P246,dataExternalFacebook!A:M,13,FALSE)","v":0},0,{"$f":"VLOOKUP(P246,dataExternalFacebook!A:M,10,FALSE)","v":0}]
[{"$f":"dataExtract!A247","v":"2019-07-04"},{"$f":"IF(dataExtract!B247=0,NA(),IF(A247>=todayDate,NA(),dataExtract!B247))","v":{"$error":"#N/A"}},null,null,null,null,null,null,null,null,null,null,null,null,null,{"$f":"dataExtract!A247","v":"2019-07-04"},{"$f":"VLOOKUP(P247,dataExternalFacebook!A:M,13,FALSE)","v":0},0,{"$f":"VLOOKUP(P247,dataExternalFacebook!A:M,10,FALSE)","v":0}]
[{"$f":"dataExtract!A248","v":"2019-07-05"},{"$f":"IF(dataExtract!B248=0,NA(),IF(A248>=todayDate,NA(),dataExtract!B248))","v":{"$error":"#N/A"}},null,null,null,null,null,null,null,null,null,null,null,null,null,{"$f":"dataExtract!A248","v":"2019-07-05"},{"$f":"VLOOKUP(P248,dataExternalFacebook!A:M,13,FALSE)","v":0},0,{"$f":"VLOOKUP(P248,dataExternalFacebook!A:M,10,FALSE)","v":0}]
[{"$f":"dataExtract!A249","v":"2019-07-06"},{"$f":"IF(dataExtract!B249=0,NA(),IF(A249>=todayDate,NA(),dataExtract!B249))","v":{"$error":"#N/A"}},null,null,null,null,null,null,null,null,null,null,null,null,null,{"$f":"dataExtract!A249","v":"2019-07-06"},{"$f":"VLOOKUP(P249,dataExternalFacebook!A:M,13,FALSE)","v":0},0,{"$f":"VLOOKUP(P249,dataExternalFacebook!A:M,10,FALSE)","v":0}]
[{"$f":"dataExtract!A250","v":"2019-07-07"},{"$f":"IF(dataExtract!B250=0,NA(),IF(A250>=todayDate,NA(),dataExtract!B250))","v":{"$error":"#N/A"}},null,null,null,null,null,null,null,null,null,null,null,null,null,{"$f":"dataExtract!A250","v":"2019-07-07"},{"$f":"VLOOKUP(P250,dataExternalFacebook!A:M,13,FALSE)","v":0},0,{"$f":"VLOOKUP(P250,dataExternalFacebook!A:M,10,FALSE)","v":0}]
[{"$f":"dataExtract!A251","v":"2019-07-08"},{"$f":"IF(dataExtract!B251=0,NA(),IF(A251>=todayDate,NA(),dataExtract!B251))","v":{"$error":"#N/A"}},null,null,null,null,null,null,null,null,null,null,null,null,null,{"$f":"dataExtract!A251","v":"2019-07-08"},{"$f":"VLOOKUP(P251,dataExternalFacebook!A:M,13,FALSE)","v":0},0,{"$f":"VLOOKUP(P251,dataExternalFacebook!A:M,10,FALSE)","v":0}]
[{"$f":"dataExtract!A252","v":"2019-07-09"},{"$f":"IF(dataExtract!B252=0,NA(),IF(A252>=todayDate,NA(),dataExtract!B252))","v":{"$error":"#N/A"}},null,null,null,null,null,null,null,null,null,null,null,null,null,{"$f":"dataExtract!A252","v":"2019-07-09"},{"$f":"VLOOKUP(P252,dataExternalFacebook!A:M,13,FALSE)","v":0},0,{"$f":"VLOOKUP(P252,dataExternalFacebook!A:M,10,FALSE)","v":0}]
[{"$f":"dataExtract!A253","v":"2019-07-10"},{"$f":"IF(dataExtract!B253=0,NA(),IF(A253>=todayDate,NA(),dataExtract!B253))","v":{"$error":"#N/A"}},null,null,null,null,null,null,null,null,null,null,null,null,null,{"$f":"dataExtract!A253","v":"2019-07-10"},{"$f":"VLOOKUP(P253,dataExternalFacebook!A:M,13,FALSE)","v":0},0,{"$f":"VLOOKUP(P253,dataExternalFacebook!A:M,10,FALSE)","v":0}]
[{"$f":"dataExtract!A254","v":"2019-07-11"},{"$f":"IF(dataExtract!B254=0,NA(),IF(A254>=todayDate,NA(),dataExtract!B254))","v":{"$error":"#N/A"}},null,null,null,null,null,null,null,null,null,null,null,null,null,{"$f":"dataExtract!A254","v":"2019-07-11"},{"$f":"VLOOKUP(P254,dataExternalFacebook!A:M,13,FALSE)","v":0},0,{"$f":"VLOOKUP(P254,dataExternalFacebook!A:M,10,FALSE)","v":0}]
[{"$f":"dataExtract!A255","v":"2019-07-12"},{"$f":"IF(dataExtract!B255=0,NA(),IF(A255>=todayDate,NA(),dataExtract!B255))","v":{"$error":"#N/A"}},null,null,null,null,null,null,null,null,null,null,null,null,null,{"$f":"dataExtract!A255","v":"2019-07-12"},{"$f":"VLOOKUP(P255,dataExternalFacebook!A:M,13,FALSE)","v":0},0,{"$f":"VLOOKUP(P255,dataExternalFacebook!A:M,10,FALSE)","v":0}]
[{"$f":"dataExtract!A256","v":"2019-07-13"},{"$f":"IF(dataExtract!B256=0,NA(),IF(A256>=todayDate,NA(),dataExtract!B256))","v":{"$error":"#N/A"}},null,null,null,null,null,null,null,null,null,null,null,null,null,{"$f":"dataExtract!A256","v":"2019-07-13"},{"$f":"VLOOKUP(P256,dataExternalFacebook!A:M,13,FALSE)","v":0},0,{"$f":"VLOOKUP(P256,dataExternalFacebook!A:M,10,FALSE)","v":0}]
[{"$f":"dataExtract!A257","v":"2019-07-14"},{"$f":"IF(dataExtract!B257=0,NA(),IF(A257>=todayDate,NA(),dataExtract!B257))","v":{"$error":"#N/A"}},null,null,null,null,null,null,null,null,null,null,null,null,null,{"$f":"dataExtract!A257","v":"2019-07-14"},{"$f":"VLOOKUP(P257,dataExternalFacebook!A:M,13,FALSE)","v":0},0,{"$f":"VLOOKUP(P257,dataExternalFacebook!A:M,10,FALSE)","v":0}]
[{"$f":"dataExtract!A258","v":"2019-07-15"},{"$f":"IF(dataExtract!B258=0,NA(),IF(A258>=todayDate,NA(),dataExtract!B258))","v":{"$error":"#N/A"}},null,null,null,null,null,null,null,null,null,null,null,null,null,{"$f":"dataExtract!A258","v":"2019-07-15"},{"$f":"VLOOKUP(P258,dataExternalFacebook!A:M,13,FALSE)","v":0},0,{"$f":"VLOOKUP(P258,dataExternalFacebook!A:M,10,FALSE)","v":0}]
[{"$f":"dataExtract!A259","v":"2019-07-16"},{"$f":"IF(dataExtract!B259=0,NA(),IF(A259>=todayDate,NA(),dataExtract!B259))","v":{"$error":"#N/A"}},null,null,null,null,null,null,null,null,null,null,null,null,null,{"$f":"dataExtract!A259","v":"2019-07-16"},{"$f":"VLOOKUP(P259,dataExternalFacebook!A:M,13,FALSE)","v":0},{"$f":"S259-Q259","v":0},{"$f":"VLOOKUP(P259,dataExternalFacebook!A:M,10,FALSE)","v":0}]
[{"$f":"dataExtract!A260","v":"2019-07-17"},{"$f":"IF(dataExtract!B260=0,NA(),IF(A260>=todayDate,NA(),dataExtract!B260))","v":{"$error":"#N/A"}},null,null,null,null,null,null,null,null,null,null,null,null,null,{"$f":"dataExtract!A260","v":"2019-07-17"},{"$f":"VLOOKUP(P260,dataExternalFacebook!A:M,13,FALSE)","v":0},0,{"$f":"VLOOKUP(P260,dataExternalFacebook!A:M,10,FALSE)","v":0}]
[{"$f":"dataExtract!A261","v":"2019-07-18"},{"$f":"IF(dataExtract!B261=0,NA(),IF(A261>=todayDate,NA(),dataExtract!B261))","v":{"$error":"#N/A"}},null,null,null,null,null,null,null,null,null,null,null,null,null,{"$f":"dataExtract!A261","v":"2019-07-18"},{"$f":"VLOOKUP(P261,dataExternalFacebook!A:M,13,FALSE)","v":0},0,{"$f":"VLOOKUP(P261,dataExternalFacebook!A:M,10,FALSE)","v":0}]
[{"$f":"dataExtract!A262","v":"2019-07-19"},{"$f":"IF(dataExtract!B262=0,NA(),IF(A262>=todayDate,NA(),dataExtract!B262))","v":{"$error":"#N/A"}},null,null,null,null,null,null,null,null,null,null,null,null,null,{"$f":"dataExtract!A262","v":"2019-07-19"},{"$f":"VLOOKUP(P262,dataExternalFacebook!A:M,13,FALSE)","v":0},0,{"$f":"VLOOKUP(P262,dataExternalFacebook!A:M,10,FALSE)","v":0}]
[{"$f":"dataExtract!A263","v":"2019-07-20"},{"$f":"IF(dataExtract!B263=0,NA(),IF(A263>=todayDate,NA(),dataExtract!B263))","v":{"$error":"#N/A"}},null,null,null,null,null,null,null,null,null,null,null,null,null,{"$f":"dataExtract!A263","v":"2019-07-20"},{"$f":"VLOOKUP(P263,dataExternalFacebook!A:M,13,FALSE)","v":0},0,{"$f":"VLOOKUP(P263,dataExternalFacebook!A:M,10,FALSE)","v":0}]
[{"$f":"dataExtract!A264","v":"2019-07-21"},{"$f":"IF(dataExtract!B264=0,NA(),IF(A264>=todayDate,NA(),dataExtract!B264))","v":{"$error":"#N/A"}},null,null,null,null,null,null,null,null,null,null,null,null,null,{"$f":"dataExtract!A264","v":"2019-07-21"},{"$f":"VLOOKUP(P264,dataExternalFacebook!A:M,13,FALSE)","v":0},0,{"$f":"VLOOKUP(P264,dataExternalFacebook!A:M,10,FALSE)","v":0}]
[{"$f":"dataExtract!A265","v":"2019-07-22"},{"$f":"IF(dataExtract!B265=0,NA(),IF(A265>=todayDate,NA(),dataExtract!B265))","v":{"$error":"#N/A"}},null,null,null,null,null,null,null,null,null,null,null,null,null,{"$f":"dataExtract!A265","v":"2019-07-22"},{"$f":"VLOOKUP(P265,dataExternalFacebook!A:M,13,FALSE)","v":0},0,{"$f":"VLOOKUP(P265,dataExternalFacebook!A:M,10,FALSE)","v":0}]
[{"$f":"dataExtract!A266","v":"2019-07-23"},{"$f":"IF(dataExtract!B266=0,NA(),IF(A266>=todayDate,NA(),dataExtract!B266))","v":{"$error":"#N/A"}},null,null,null,null,null,null,null,null,null,null,null,null,null,{"$f":"dataExtract!A266","v":"2019-07-23"},{"$f":"VLOOKUP(P266,dataExternalFacebook!A:M,13,FALSE)","v":0},0,{"$f":"VLOOKUP(P266,dataExternalFacebook!A:M,10,FALSE)","v":0}]
[{"$f":"dataExtract!A267","v":"2019-07-24"},{"$f":"IF(dataExtract!B267=0,NA(),IF(A267>=todayDate,NA(),dataExtract!B267))","v":{"$error":"#N/A"}},null,null,null,null,null,null,null,null,null,null,null,null,null,{"$f":"dataExtract!A267","v":"2019-07-24"},{"$f":"VLOOKUP(P267,dataExternalFacebook!A:M,13,FALSE)","v":0},0,{"$f":"VLOOKUP(P267,dataExternalFacebook!A:M,10,FALSE)","v":0}]
[{"$f":"dataExtract!A268","v":"2019-07-25"},{"$f":"IF(dataExtract!B268=0,NA(),IF(A268>=todayDate,NA(),dataExtract!B268))","v":{"$error":"#N/A"}},null,null,null,null,null,null,null,null,null,null,null,null,null,{"$f":"dataExtract!A268","v":"2019-07-25"},{"$f":"VLOOKUP(P268,dataExternalFacebook!A:M,13,FALSE)","v":0},0,{"$f":"VLOOKUP(P268,dataExternalFacebook!A:M,10,FALSE)","v":0}]
[{"$f":"dataExtract!A269","v":"2019-07-26"},{"$f":"IF(dataExtract!B269=0,NA(),IF(A269>=todayDate,NA(),dataExtract!B269))","v":{"$error":"#N/A"}},null,null,null,null,null,null,null,null,null,null,null,null,null,{"$f":"dataExtract!A269","v":"2019-07-26"},{"$f":"VLOOKUP(P269,dataExternalFacebook!A:M,13,FALSE)","v":0},0,{"$f":"VLOOKUP(P269,dataExternalFacebook!A:M,10,FALSE)","v":0}]
[{"$f":"dataExtract!A270","v":"2019-07-27"},{"$f":"IF(dataExtract!B270=0,NA(),IF(A270>=todayDate,NA(),dataExtract!B270))","v":{"$error":"#N/A"}},null,null,null,null,null,null,null,null,null,null,null,null,null,{"$f":"dataExtract!A270","v":"2019-07-27"},{"$f":"VLOOKUP(P270,dataExternalFacebook!A:M,13,FALSE)","v":0},0,{"$f":"VLOOKUP(P270,dataExternalFacebook!A:M,10,FALSE)","v":0}]
[{"$f":"dataExtract!A271","v":"2019-07-28"},{"$f":"IF(dataExtract!B271=0,NA(),IF(A271>=todayDate,NA(),dataExtract!B271))","v":{"$error":"#N/A"}},null,null,null,null,null,null,null,null,null,null,null,null,null,{"$f":"dataExtract!A271","v":"2019-07-28"},{"$f":"VLOOKUP(P271,dataExternalFacebook!A:M,13,FALSE)","v":0},0,{"$f":"VLOOKUP(P271,dataExternalFacebook!A:M,10,FALSE)","v":0}]
[{"$f":"dataExtract!A272","v":"2019-07-29"},{"$f":"IF(dataExtract!B272=0,NA(),IF(A272>=todayDate,NA(),dataExtract!B272))","v":{"$error":"#N/A"}},null,null,null,null,null,null,null,null,null,null,null,null,null,{"$f":"dataExtract!A272","v":"2019-07-29"},{"$f":"VLOOKUP(P272,dataExternalFacebook!A:M,13,FALSE)","v":0},0,{"$f":"VLOOKUP(P272,dataExternalFacebook!A:M,10,FALSE)","v":0}]
[{"$f":"dataExtract!A273","v":"2019-07-30"},{"$f":"IF(dataExtract!B273=0,NA(),IF(A273>=todayDate,NA(),dataExtract!B273))","v":{"$error":"#N/A"}},null,null,null,null,null,null,null,null,null,null,null,null,null,{"$f":"dataExtract!A273","v":"2019-07-30"},{"$f":"VLOOKUP(P273,dataExternalFacebook!A:M,13,FALSE)","v":0},0,{"$f":"VLOOKUP(P273,dataExternalFacebook!A:M,10,FALSE)","v":0}]
[{"$f":"dataExtract!A274","v":"2019-07-31"},{"$f":"IF(dataExtract!B274=0,NA(),IF(A274>=todayDate,NA(),dataExtract!B274))","v":{"$error":"#N/A"}},null,null,null,null,null,null,null,null,null,null,null,null,null,{"$f":"dataExtract!A274","v":"2019-07-31"},{"$f":"VLOOKUP(P274,dataExternalFacebook!A:M,13,FALSE)","v":0},0,{"$f":"VLOOKUP(P274,dataExternalFacebook!A:M,10,FALSE)","v":0}]
[{"$f":"dataExtract!A275","v":"2019-08-01"},{"$f":"IF(dataExtract!B275=0,NA(),IF(A275>=todayDate,NA(),dataExtract!B275))","v":{"$error":"#N/A"}},null,null,null,null,null,null,null,null,null,null,null,null,null,{"$f":"dataExtract!A275","v":"2019-08-01"},{"$f":"VLOOKUP(P275,dataExternalFacebook!A:M,13,FALSE)","v":0},0,{"$f":"VLOOKUP(P275,dataExternalFacebook!A:M,10,FALSE)","v":0}]
[{"$f":"dataExtract!A276","v":"2019-08-02"},{"$f":"IF(dataExtract!B276=0,NA(),IF(A276>=todayDate,NA(),dataExtract!B276))","v":{"$error":"#N/A"}},null,null,null,null,null,null,null,null,null,null,null,null,null,{"$f":"dataExtract!A276","v":"2019-08-02"},{"$f":"VLOOKUP(P276,dataExternalFacebook!A:M,13,FALSE)","v":0},0,{"$f":"VLOOKUP(P276,dataExternalFacebook!A:M,10,FALSE)","v":0}]
[{"$f":"dataExtract!A277","v":"2019-08-03"},{"$f":"IF(dataExtract!B277=0,NA(),IF(A277>=todayDate,NA(),dataExtract!B277))","v":{"$error":"#N/A"}},null,null,null,null,null,null,null,null,null,null,null,null,null,{"$f":"dataExtract!A277","v":"2019-08-03"},{"$f":"VLOOKUP(P277,dataExternalFacebook!A:M,13,FALSE)","v":0},0,{"$f":"VLOOKUP(P277,dataExternalFacebook!A:M,10,FALSE)","v":0}]
[{"$f":"dataExtract!A278","v":"2019-08-04"},{"$f":"IF(dataExtract!B278=0,NA(),IF(A278>=todayDate,NA(),dataExtract!B278))","v":{"$error":"#N/A"}},null,null,null,null,null,null,null,null,null,null,null,null,null,{"$f":"dataExtract!A278","v":"2019-08-04"},{"$f":"VLOOKUP(P278,dataExternalFacebook!A:M,13,FALSE)","v":0},0,{"$f":"VLOOKUP(P278,dataExternalFacebook!A:M,10,FALSE)","v":0}]
[{"$f":"dataExtract!A279","v":"2019-08-05"},{"$f":"IF(dataExtract!B279=0,NA(),IF(A279>=todayDate,NA(),dataExtract!B279))","v":{"$error":"#N/A"}},null,null,null,null,null,null,null,null,null,null,null,null,null,{"$f":"dataExtract!A279","v":"2019-08-05"},{"$f":"VLOOKUP(P279,dataExternalFacebook!A:M,13,FALSE)","v":0},0,{"$f":"VLOOKUP(P279,dataExternalFacebook!A:M,10,FALSE)","v":0}]
[{"$f":"dataExtract!A280","v":"2019-08-06"},{"$f":"IF(dataExtract!B280=0,NA(),IF(A280>=todayDate,NA(),dataExtract!B280))","v":{"$error":"#N/A"}},null,null,null,null,null,null,null,null,null,null,null,null,null,{"$f":"dataExtract!A280","v":"2019-08-06"},{"$f":"VLOOKUP(P280,dataExternalFacebook!A:M,13,FALSE)","v":0},0,{"$f":"VLOOKUP(P280,dataExternalFacebook!A:M,10,FALSE)","v":0}]
[{"$f":"dataExtract!A281","v":"2019-08-07"},{"$f":"IF(dataExtract!B281=0,NA(),IF(A281>=todayDate,NA(),dataExtract!B281))","v":{"$error":"#N/A"}},null,null,null,null,null,null,null,null,null,null,null,null,null,{"$f":"dataExtract!A281","v":"2019-08-07"},{"$f":"VLOOKUP(P281,dataExternalFacebook!A:M,13,FALSE)","v":0},0,{"$f":"VLOOKUP(P281,dataExternalFacebook!A:M,10,FALSE)","v":0}]
[{"$f":"dataExtract!A282","v":"2019-08-08"},{"$f":"IF(dataExtract!B282=0,NA(),IF(A282>=todayDate,NA(),dataExtract!B282))","v":{"$error":"#N/A"}},null,null,null,null,null,null,null,null,null,null,null,null,null,{"$f":"dataExtract!A282","v":"2019-08-08"},{"$f":"VLOOKUP(P282,dataExternalFacebook!A:M,13,FALSE)","v":0},0,{"$f":"VLOOKUP(P282,dataExternalFacebook!A:M,10,FALSE)","v":0}]
[{"$f":"dataExtract!A283","v":"2019-08-09"},{"$f":"IF(dataExtract!B283=0,NA(),IF(A283>=todayDate,NA(),dataExtract!B283))","v":{"$error":"#N/A"}},null,null,null,null,null,null,null,null,null,null,null,null,null,{"$f":"dataExtract!A283","v":"2019-08-09"},{"$f":"VLOOKUP(P283,dataExternalFacebook!A:M,13,FALSE)","v":0},0,{"$f":"VLOOKUP(P283,dataExternalFacebook!A:M,10,FALSE)","v":0}]
[{"$f":"dataExtract!A284","v":"2019-08-10"},{"$f":"IF(dataExtract!B284=0,NA(),IF(A284>=todayDate,NA(),dataExtract!B284))","v":{"$error":"#N/A"}},null,null,null,null,null,null,null,null,null,null,null,null,null,{"$f":"dataExtract!A284","v":"2019-08-10"},{"$f":"VLOOKUP(P284,dataExternalFacebook!A:M,13,FALSE)","v":0},0,{"$f":"VLOOKUP(P284,dataExternalFacebook!A:M,10,FALSE)","v":0}]
[{"$f":"dataExtract!A285","v":"2019-08-11"},{"$f":"IF(dataExtract!B285=0,NA(),IF(A285>=todayDate,NA(),dataExtract!B285))","v":{"$error":"#N/A"}},null,null,null,null,null,null,null,null,null,null,null,null,null,{"$f":"dataExtract!A285","v":"2019-08-11"},{"$f":"VLOOKUP(P285,dataExternalFacebook!A:M,13,FALSE)","v":0},0,{"$f":"VLOOKUP(P285,dataExternalFacebook!A:M,10,FALSE)","v":0}]
[{"$f":"dataExtract!A286","v":"2019-08-12"},{"$f":"IF(dataExtract!B286=0,NA(),IF(A286>=todayDate,NA(),dataExtract!B286))","v":{"$error":"#N/A"}},null,null,null,null,null,null,null,null,null,null,null,null,null,{"$f":"dataExtract!A286","v":"2019-08-12"},{"$f":"VLOOKUP(P286,dataExternalFacebook!A:M,13,FALSE)","v":0},0,{"$f":"VLOOKUP(P286,dataExternalFacebook!A:M,10,FALSE)","v":0}]
[{"$f":"dataExtract!A287","v":"2019-08-13"},{"$f":"IF(dataExtract!B287=0,NA(),IF(A287>=todayDate,NA(),dataExtract!B287))","v":{"$error":"#N/A"}},null,null,null,null,null,null,null,null,null,null,null,null,null,{"$f":"dataExtract!A287","v":"2019-08-13"},{"$f":"VLOOKUP(P287,dataExternalFacebook!A:M,13,FALSE)","v":0},0,{"$f":"VLOOKUP(P287,dataExternalFacebook!A:M,10,FALSE)","v":0}]
[{"$f":"dataExtract!A288","v":"2019-08-14"},{"$f":"IF(dataExtract!B288=0,NA(),IF(A288>=todayDate,NA(),dataExtract!B288))","v":{"$error":"#N/A"}},null,null,null,null,null,null,null,null,null,null,null,null,null,{"$f":"dataExtract!A288","v":"2019-08-14"},{"$f":"VLOOKUP(P288,dataExternalFacebook!A:M,13,FALSE)","v":0},0,{"$f":"VLOOKUP(P288,dataExternalFacebook!A:M,10,FALSE)","v":0}]
[{"$f":"dataExtract!A289","v":"2019-08-15"},{"$f":"IF(dataExtract!B289=0,NA(),IF(A289>=todayDate,NA(),dataExtract!B289))","v":{"$error":"#N/A"}},null,null,null,null,null,null,null,null,null,null,null,null,null,{"$f":"dataExtract!A289","v":"2019-08-15"},{"$f":"VLOOKUP(P289,dataExternalFacebook!A:M,13,FALSE)","v":0},0,{"$f":"VLOOKUP(P289,dataExternalFacebook!A:M,10,FALSE)","v":0}]
[{"$f":"dataExtract!A290","v":"2019-08-16"},{"$f":"IF(dataExtract!B290=0,NA(),IF(A290>=todayDate,NA(),dataExtract!B290))","v":{"$error":"#N/A"}},null,null,null,null,null,null,null,null,null,null,null,null,null,{"$f":"dataExtract!A290","v":"2019-08-16"},{"$f":"VLOOKUP(P290,dataExternalFacebook!A:M,13,FALSE)","v":0},0,{"$f":"VLOOKUP(P290,dataExternalFacebook!A:M,10,FALSE)","v":0}]
[{"$f":"dataExtract!A291","v":"2019-08-17"},{"$f":"IF(dataExtract!B291=0,NA(),IF(A291>=todayDate,NA(),dataExtract!B291))","v":{"$error":"#N/A"}},null,null,null,null,null,null,null,null,null,null,null,null,null,{"$f":"dataExtract!A291","v":"2019-08-17"},{"$f":"VLOOKUP(P291,dataExternalFacebook!A:M,13,FALSE)","v":0},0,{"$f":"VLOOKUP(P291,dataExternalFacebook!A:M,10,FALSE)","v":0}]
[{"$f":"dataExtract!A292","v":"2019-08-18"},{"$f":"IF(dataExtract!B292=0,NA(),IF(A292>=todayDate,NA(),dataExtract!B292))","v":{"$error":"#N/A"}},null,null,null,null,null,null,null,null,null,null,null,null,null,{"$f":"dataExtract!A292","v":"2019-08-18"},{"$f":"VLOOKUP(P292,dataExternalFacebook!A:M,13,FALSE)","v":0},0,{"$f":"VLOOKUP(P292,dataExternalFacebook!A:M,10,FALSE)","v":0}]
[{"$f":"dataExtract!A293","v":"2019-08-19"},{"$f":"IF(dataExtract!B293=0,NA(),IF(A293>=todayDate,NA(),dataExtract!B293))","v":{"$error":"#N/A"}},null,null,null,null,null,null,null,null,null,null,null,null,null,{"$f":"dataExtract!A293","v":"2019-08-19"},{"$f":"VLOOKUP(P293,dataExternalFacebook!A:M,13,FALSE)","v":0},0,{"$f":"VLOOKUP(P293,dataExternalFacebook!A:M,10,FALSE)","v":0}]
[{"$f":"dataExtract!A294","v":"2019-08-20"},{"$f":"IF(dataExtract!B294=0,NA(),IF(A294>=todayDate,NA(),dataExtract!B294))","v":{"$error":"#N/A"}},null,null,null,null,null,null,null,null,null,null,null,null,null,{"$f":"dataExtract!A294","v":"2019-08-20"},{"$f":"VLOOKUP(P294,dataExternalFacebook!A:M,13,FALSE)","v":0},0,{"$f":"VLOOKUP(P294,dataExternalFacebook!A:M,10,FALSE)","v":0}]
[{"$f":"dataExtract!A295","v":"2019-08-21"},{"$f":"IF(dataExtract!B295=0,NA(),IF(A295>=todayDate,NA(),dataExtract!B295))","v":{"$error":"#N/A"}},null,null,null,null,null,null,null,null,null,null,null,null,null,{"$f":"dataExtract!A295","v":"2019-08-21"},{"$f":"VLOOKUP(P295,dataExternalFacebook!A:M,13,FALSE)","v":0},0,{"$f":"VLOOKUP(P295,dataExternalFacebook!A:M,10,FALSE)","v":0}]
[{"$f":"dataExtract!A296","v":"2019-08-22"},{"$f":"IF(dataExtract!B296=0,NA(),IF(A296>=todayDate,NA(),dataExtract!B296))","v":{"$error":"#N/A"}},null,null,null,null,null,null,null,null,null,null,null,null,null,{"$f":"dataExtract!A296","v":"2019-08-22"},{"$f":"VLOOKUP(P296,dataExternalFacebook!A:M,13,FALSE)","v":0},0,{"$f":"VLOOKUP(P296,dataExternalFacebook!A:M,10,FALSE)","v":0}]
[{"$f":"dataExtract!A297","v":"2019-08-23"},{"$f":"IF(dataExtract!B297=0,NA(),IF(A297>=todayDate,NA(),dataExtract!B297))","v":{"$error":"#N/A"}},null,null,null,null,null,null,null,null,null,null,null,null,null,{"$f":"dataExtract!A297","v":"2019-08-23"},{"$f":"VLOOKUP(P297,dataExternalFacebook!A:M,13,FALSE)","v":0},0,{"$f":"VLOOKUP(P297,dataExternalFacebook!A:M,10,FALSE)","v":0}]
[{"$f":"dataExtract!A298","v":"2019-08-24"},{"$f":"IF(dataExtract!B298=0,NA(),IF(A298>=todayDate,NA(),dataExtract!B298))","v":{"$error":"#N/A"}},null,null,null,null,null,null,null,null,null,null,null,null,null,{"$f":"dataExtract!A298","v":"2019-08-24"},{"$f":"VLOOKUP(P298,dataExternalFacebook!A:M,13,FALSE)","v":0},0,{"$f":"VLOOKUP(P298,dataExternalFacebook!A:M,10,FALSE)","v":0}]
[{"$f":"dataExtract!A299","v":"2019-08-25"},{"$f":"IF(dataExtract!B299=0,NA(),IF(A299>=todayDate,NA(),dataExtract!B299))","v":{"$error":"#N/A"}},null,null,null,null,null,null,null,null,null,null,null,null,null,{"$f":"dataExtract!A299","v":"2019-08-25"},{"$f":"VLOOKUP(P299,dataExternalFacebook!A:M,13,FALSE)","v":0},0,{"$f":"VLOOKUP(P299,dataExternalFacebook!A:M,10,FALSE)","v":0}]
[{"$f":"dataExtract!A300","v":"2019-08-26"},{"$f":"IF(dataExtract!B300=0,NA(),IF(A300>=todayDate,NA(),dataExtract!B300))","v":{"$error":"#N/A"}},null,null,null,null,null,null,null,null,null,null,null,null,null,{"$f":"dataExtract!A300","v":"2019-08-26"},{"$f":"VLOOKUP(P300,dataExternalFacebook!A:M,13,FALSE)","v":0},0,{"$f":"VLOOKUP(P300,dataExternalFacebook!A:M,10,FALSE)","v":0}]
[{"$f":"dataExtract!A301","v":"2019-08-27"},{"$f":"IF(dataExtract!B301=0,NA(),IF(A301>=todayDate,NA(),dataExtract!B301))","v":{"$error":"#N/A"}},null,null,null,null,null,null,null,null,null,null,null,null,null,{"$f":"dataExtract!A301","v":"2019-08-27"},{"$f":"VLOOKUP(P301,dataExternalFacebook!A:M,13,FALSE)","v":0},0,{"$f":"VLOOKUP(P301,dataExternalFacebook!A:M,10,FALSE)","v":0}]
[{"$f":"dataExtract!A302","v":"2019-08-28"},{"$f":"IF(dataExtract!B302=0,NA(),IF(A302>=todayDate,NA(),dataExtract!B302))","v":{"$error":"#N/A"}},null,null,null,null,null,null,null,null,null,null,null,null,null,{"$f":"dataExtract!A302","v":"2019-08-28"},{"$f":"VLOOKUP(P302,dataExternalFacebook!A:M,13,FALSE)","v":0},0,{"$f":"VLOOKUP(P302,dataExternalFacebook!A:M,10,FALSE)","v":0}]
[{"$f":"dataExtract!A303","v":"2019-08-29"},{"$f":"IF(dataExtract!B303=0,NA(),IF(A303>=todayDate,NA(),dataExtract!B303))","v":{"$error":"#N/A"}},null,null,null,null,null,null,null,null,null,null,null,null,null,{"$f":"dataExtract!A303","v":"2019-08-29"},{"$f":"VLOOKUP(P303,dataExternalFacebook!A:M,13,FALSE)","v":0},0,{"$f":"VLOOKUP(P303,dataExternalFacebook!A:M,10,FALSE)","v":0}]
[{"$f":"dataExtract!A304","v":"2019-08-30"},{"$f":"IF(dataExtract!B304=0,NA(),IF(A304>=todayDate,NA(),dataExtract!B304))","v":{"$error":"#N/A"}},null,null,null,null,null,null,null,null,null,null,null,null,null,{"$f":"dataExtract!A304","v":"2019-08-30"},{"$f":"VLOOKUP(P304,dataExternalFacebook!A:M,13,FALSE)","v":0},0,{"$f":"VLOOKUP(P304,dataExternalFacebook!A:M,10,FALSE)","v":0}]
[{"$f":"dataExtract!A305","v":"2019-08-31"},{"$f":"IF(dataExtract!B305=0,NA(),IF(A305>=todayDate,NA(),dataExtract!B305))","v":{"$error":"#N/A"}},null,null,null,null,null,null,null,null,null,null,null,null,null,{"$f":"dataExtract!A305","v":"2019-08-31"},{"$f":"VLOOKUP(P305,dataExternalFacebook!A:M,13,FALSE)","v":0},0,{"$f":"VLOOKUP(P305,dataExternalFacebook!A:M,10,FALSE)","v":0}]
[{"$f":"dataExtract!A306","v":"2019-09-01"},{"$f":"IF(dataExtract!B306=0,NA(),IF(A306>=todayDate,NA(),dataExtract!B306))","v":{"$error":"#N/A"}},null,null,null,null,null,null,null,null,null,null,null,null,null,{"$f":"dataExtract!A306","v":"2019-09-01"},{"$f":"VLOOKUP(P306,dataExternalFacebook!A:M,13,FALSE)","v":0},0,{"$f":"VLOOKUP(P306,dataExternalFacebook!A:M,10,FALSE)","v":0}]
[{"$f":"dataExtract!A307","v":"2019-09-02"},{"$f":"IF(dataExtract!B307=0,NA(),IF(A307>=todayDate,NA(),dataExtract!B307))","v":{"$error":"#N/A"}},null,null,null,null,null,null,null,null,null,null,null,null,null,{"$f":"dataExtract!A307","v":"2019-09-02"},{"$f":"VLOOKUP(P307,dataExternalFacebook!A:M,13,FALSE)","v":0},0,{"$f":"VLOOKUP(P307,dataExternalFacebook!A:M,10,FALSE)","v":0}]
[{"$f":"dataExtract!A308","v":"2019-09-03"},{"$f":"IF(dataExtract!B308=0,NA(),IF(A308>=todayDate,NA(),dataExtract!B308))","v":{"$error":"#N/A"}},null,null,null,null,null,null,null,null,null,null,null,null,null,{"$f":"dataExtract!A308","v":"2019-09-03"},{"$f":"VLOOKUP(P308,dataExternalFacebook!A:M,13,FALSE)","v":0},0,{"$f":"VLOOKUP(P308,dataExternalFacebook!A:M,10,FALSE)","v":0}]
[{"$f":"dataExtract!A309","v":"2019-09-04"},{"$f":"IF(dataExtract!B309=0,NA(),IF(A309>=todayDate,NA(),dataExtract!B309))","v":{"$error":"#N/A"}},null,null,null,null,null,null,null,null,null,null,null,null,null,{"$f":"dataExtract!A309","v":"2019-09-04"},{"$f":"VLOOKUP(P309,dataExternalFacebook!A:M,13,FALSE)","v":0},0,{"$f":"VLOOKUP(P309,dataExternalFacebook!A:M,10,FALSE)","v":0}]
[{"$f":"dataExtract!A310","v":"2019-09-05"},{"$f":"IF(dataExtract!B310=0,NA(),IF(A310>=todayDate,NA(),dataExtract!B310))","v":{"$error":"#N/A"}},null,null,null,null,null,null,null,null,null,null,null,null,null,{"$f":"dataExtract!A310","v":"2019-09-05"},{"$f":"VLOOKUP(P310,dataExternalFacebook!A:M,13,FALSE)","v":0},0,{"$f":"VLOOKUP(P310,dataExternalFacebook!A:M,10,FALSE)","v":0}]
[{"$f":"dataExtract!A311","v":"2019-09-06"},{"$f":"IF(dataExtract!B311=0,NA(),IF(A311>=todayDate,NA(),dataExtract!B311))","v":{"$error":"#N/A"}},null,null,null,null,null,null,null,null,null,null,null,null,null,{"$f":"dataExtract!A311","v":"2019-09-06"},{"$f":"VLOOKUP(P311,dataExternalFacebook!A:M,13,FALSE)","v":0},0,{"$f":"VLOOKUP(P311,dataExternalFacebook!A:M,10,FALSE)","v":0}]
[{"$f":"dataExtract!A312","v":"2019-09-07"},{"$f":"IF(dataExtract!B312=0,NA(),IF(A312>=todayDate,NA(),dataExtract!B312))","v":{"$error":"#N/A"}},null,null,null,null,null,null,null,null,null,null,null,null,null,{"$f":"dataExtract!A312","v":"2019-09-07"},{"$f":"VLOOKUP(P312,dataExternalFacebook!A:M,13,FALSE)","v":0},0,{"$f":"VLOOKUP(P312,dataExternalFacebook!A:M,10,FALSE)","v":0}]
[{"$f":"dataExtract!A313","v":"2019-09-08"},{"$f":"IF(dataExtract!B313=0,NA(),IF(A313>=todayDate,NA(),dataExtract!B313))","v":{"$error":"#N/A"}},null,null,null,null,null,null,null,null,null,null,null,null,null,{"$f":"dataExtract!A313","v":"2019-09-08"},{"$f":"VLOOKUP(P313,dataExternalFacebook!A:M,13,FALSE)","v":0},0,{"$f":"VLOOKUP(P313,dataExternalFacebook!A:M,10,FALSE)","v":0}]
[{"$f":"dataExtract!A314","v":"2019-09-09"},{"$f":"IF(dataExtract!B314=0,NA(),IF(A314>=todayDate,NA(),dataExtract!B314))","v":{"$error":"#N/A"}},null,null,null,null,null,null,null,null,null,null,null,null,null,{"$f":"dataExtract!A314","v":"2019-09-09"},{"$f":"VLOOKUP(P314,dataExternalFacebook!A:M,13,FALSE)","v":0},0,{"$f":"VLOOKUP(P314,dataExternalFacebook!A:M,10,FALSE)","v":0}]
[{"$f":"dataExtract!A315","v":"2019-09-10"},{"$f":"IF(dataExtract!B315=0,NA(),IF(A315>=todayDate,NA(),dataExtract!B315))","v":{"$error":"#N/A"}},null,null,null,null,null,null,null,null,null,null,null,null,null,{"$f":"dataExtract!A315","v":"2019-09-10"},{"$f":"VLOOKUP(P315,dataExternalFacebook!A:M,13,FALSE)","v":0},0,{"$f":"VLOOKUP(P315,dataExternalFacebook!A:M,10,FALSE)","v":0}]
[{"$f":"dataExtract!A316","v":"2019-09-11"},{"$f":"IF(dataExtract!B316=0,NA(),IF(A316>=todayDate,NA(),dataExtract!B316))","v":{"$error":"#N/A"}},null,null,null,null,null,null,null,null,null,null,null,null,null,{"$f":"dataExtract!A316","v":"2019-09-11"},{"$f":"VLOOKUP(P316,dataExternalFacebook!A:M,13,FALSE)","v":0},0,{"$f":"VLOOKUP(P316,dataExternalFacebook!A:M,10,FALSE)","v":0}]
[{"$f":"dataExtract!A317","v":"2019-09-12"},{"$f":"IF(dataExtract!B317=0,NA(),IF(A317>=todayDate,NA(),dataExtract!B317))","v":{"$error":"#N/A"}},null,null,null,null,null,null,null,null,null,null,null,null,null,{"$f":"dataExtract!A317","v":"2019-09-12"},{"$f":"VLOOKUP(P317,dataExternalFacebook!A:M,13,FALSE)","v":0},0,{"$f":"VLOOKUP(P317,dataExternalFacebook!A:M,10,FALSE)","v":0}]
[{"$f":"dataExtract!A318","v":"2019-09-13"},{"$f":"IF(dataExtract!B318=0,NA(),IF(A318>=todayDate,NA(),dataExtract!B318))","v":{"$error":"#N/A"}},null,null,null,null,null,null,null,null,null,null,null,null,null,{"$f":"dataExtract!A318","v":"2019-09-13"},{"$f":"VLOOKUP(P318,dataExternalFacebook!A:M,13,FALSE)","v":0},0,{"$f":"VLOOKUP(P318,dataExternalFacebook!A:M,10,FALSE)","v":0}]
[{"$f":"dataExtract!A319","v":"2019-09-14"},{"$f":"IF(dataExtract!B319=0,NA(),IF(A319>=todayDate,NA(),dataExtract!B319))","v":{"$error":"#N/A"}},null,null,null,null,null,null,null,null,null,null,null,null,null,{"$f":"dataExtract!A319","v":"2019-09-14"},{"$f":"VLOOKUP(P319,dataExternalFacebook!A:M,13,FALSE)","v":0},0,{"$f":"VLOOKUP(P319,dataExternalFacebook!A:M,10,FALSE)","v":0}]
[{"$f":"dataExtract!A320","v":"2019-09-15"},{"$f":"IF(dataExtract!B320=0,NA(),IF(A320>=todayDate,NA(),dataExtract!B320))","v":{"$error":"#N/A"}},null,null,null,null,null,null,null,null,null,null,null,null,null,{"$f":"dataExtract!A320","v":"2019-09-15"},{"$f":"VLOOKUP(P320,dataExternalFacebook!A:M,13,FALSE)","v":0},0,{"$f":"VLOOKUP(P320,dataExternalFacebook!A:M,10,FALSE)","v":0}]
[{"$f":"dataExtract!A321","v":"2019-09-16"},{"$f":"IF(dataExtract!B321=0,NA(),IF(A321>=todayDate,NA(),dataExtract!B321))","v":{"$error":"#N/A"}},null,null,null,null,null,null,null,null,null,null,null,null,null,{"$f":"dataExtract!A321","v":"2019-09-16"},{"$f":"VLOOKUP(P321,dataExternalFacebook!A:M,13,FALSE)","v":0},0,{"$f":"VLOOKUP(P321,dataExternalFacebook!A:M,10,FALSE)","v":0}]
[{"$f":"dataExtract!A322","v":"2019-09-17"},{"$f":"IF(dataExtract!B322=0,NA(),IF(A322>=todayDate,NA(),dataExtract!B322))","v":{"$error":"#N/A"}},null,null,null,null,null,null,null,null,null,null,null,null,null,{"$f":"dataExtract!A322","v":"2019-09-17"},{"$f":"VLOOKUP(P322,dataExternalFacebook!A:M,13,FALSE)","v":0},0,{"$f":"VLOOKUP(P322,dataExternalFacebook!A:M,10,FALSE)","v":0}]
[{"$f":"dataExtract!A323","v":"2019-09-18"},{"$f":"IF(dataExtract!B323=0,NA(),IF(A323>=todayDate,NA(),dataExtract!B323))","v":{"$error":"#N/A"}},null,null,null,null,null,null,null,null,null,null,null,null,null,{"$f":"dataExtract!A323","v":"2019-09-18"},{"$f":"VLOOKUP(P323,dataExternalFacebook!A:M,13,FALSE)","v":0},{"$f":"S323-Q323","v":0},{"$f":"VLOOKUP(P323,dataExternalFacebook!A:M,10,FALSE)","v":0}]
[{"$f":"dataExtract!A324","v":"2019-09-19"},{"$f":"IF(dataExtract!B324=0,NA(),IF(A324>=todayDate,NA(),dataExtract!B324))","v":{"$error":"#N/A"}},null,null,null,null,null,null,null,null,null,null,null,null,null,{"$f":"dataExtract!A324","v":"2019-09-19"},{"$f":"VLOOKUP(P324,dataExternalFacebook!A:M,13,FALSE)","v":0},0,{"$f":"VLOOKUP(P324,dataExternalFacebook!A:M,10,FALSE)","v":0}]
[{"$f":"dataExtract!A325","v":"2019-09-20"},{"$f":"IF(dataExtract!B325=0,NA(),IF(A325>=todayDate,NA(),dataExtract!B325))","v":{"$error":"#N/A"}},null,null,null,null,null,null,null,null,null,null,null,null,null,{"$f":"dataExtract!A325","v":"2019-09-20"},{"$f":"VLOOKUP(P325,dataExternalFacebook!A:M,13,FALSE)","v":0},0,{"$f":"VLOOKUP(P325,dataExternalFacebook!A:M,10,FALSE)","v":0}]
[{"$f":"dataExtract!A326","v":"2019-09-21"},{"$f":"IF(dataExtract!B326=0,NA(),IF(A326>=todayDate,NA(),dataExtract!B326))","v":{"$error":"#N/A"}},null,null,null,null,null,null,null,null,null,null,null,null,null,{"$f":"dataExtract!A326","v":"2019-09-21"},{"$f":"VLOOKUP(P326,dataExternalFacebook!A:M,13,FALSE)","v":0},0,{"$f":"VLOOKUP(P326,dataExternalFacebook!A:M,10,FALSE)","v":0}]
[{"$f":"dataExtract!A327","v":"2019-09-22"},{"$f":"IF(dataExtract!B327=0,NA(),IF(A327>=todayDate,NA(),dataExtract!B327))","v":{"$error":"#N/A"}},null,null,null,null,null,null,null,null,null,null,null,null,null,{"$f":"dataExtract!A327","v":"2019-09-22"},{"$f":"VLOOKUP(P327,dataExternalFacebook!A:M,13,FALSE)","v":0},0,{"$f":"VLOOKUP(P327,dataExternalFacebook!A:M,10,FALSE)","v":0}]
[{"$f":"dataExtract!A328","v":"2019-09-23"},{"$f":"IF(dataExtract!B328=0,NA(),IF(A328>=todayDate,NA(),dataExtract!B328))","v":{"$error":"#N/A"}},null,null,null,null,null,null,null,null,null,null,null,null,null,{"$f":"dataExtract!A328","v":"2019-09-23"},{"$f":"VLOOKUP(P328,dataExternalFacebook!A:M,13,FALSE)","v":0},0,{"$f":"VLOOKUP(P328,dataExternalFacebook!A:M,10,FALSE)","v":0}]
[{"$f":"dataExtract!A329","v":"2019-09-24"},{"$f":"IF(dataExtract!B329=0,NA(),IF(A329>=todayDate,NA(),dataExtract!B329))","v":{"$error":"#N/A"}},null,null,null,null,null,null,null,null,null,null,null,null,null,{"$f":"dataExtract!A329","v":"2019-09-24"},{"$f":"VLOOKUP(P329,dataExternalFacebook!A:M,13,FALSE)","v":0},0,{"$f":"VLOOKUP(P329,dataExternalFacebook!A:M,10,FALSE)","v":0}]
[{"$f":"dataExtract!A330","v":"2019-09-25"},{"$f":"IF(dataExtract!B330=0,NA(),IF(A330>=todayDate,NA(),dataExtract!B330))","v":{"$error":"#N/A"}},null,null,null,null,null,null,null,null,null,null,null,null,null,{"$f":"dataExtract!A330","v":"2019-09-25"},{"$f":"VLOOKUP(P330,dataExternalFacebook!A:M,13,FALSE)","v":0},0,{"$f":"VLOOKUP(P330,dataExternalFacebook!A:M,10,FALSE)","v":0}]
[{"$f":"dataExtract!A331","v":"2019-09-26"},{"$f":"IF(dataExtract!B331=0,NA(),IF(A331>=todayDate,NA(),dataExtract!B331))","v":{"$error":"#N/A"}},null,null,null,null,null,null,null,null,null,null,null,null,null,{"$f":"dataExtract!A331","v":"2019-09-26"},{"$f":"VLOOKUP(P331,dataExternalFacebook!A:M,13,FALSE)","v":0},0,{"$f":"VLOOKUP(P331,dataExternalFacebook!A:M,10,FALSE)","v":0}]
[{"$f":"dataExtract!A332","v":"2019-09-27"},{"$f":"IF(dataExtract!B332=0,NA(),IF(A332>=todayDate,NA(),dataExtract!B332))","v":{"$error":"#N/A"}},null,null,null,null,null,null,null,null,null,null,null,null,null,{"$f":"dataExtract!A332","v":"2019-09-27"},{"$f":"VLOOKUP(P332,dataExternalFacebook!A:M,13,FALSE)","v":0},0,{"$f":"VLOOKUP(P332,dataExternalFacebook!A:M,10,FALSE)","v":0}]
[{"$f":"dataExtract!A333","v":"2019-09-28"},{"$f":"IF(dataExtract!B333=0,NA(),IF(A333>=todayDate,NA(),dataExtract!B333))","v":{"$error":"#N/A"}},null,null,null,null,null,null,null,null,null,null,null,null,null,{"$f":"dataExtract!A333","v":"2019-09-28"},{"$f":"VLOOKUP(P333,dataExternalFacebook!A:M,13,FALSE)","v":0},0,{"$f":"VLOOKUP(P333,dataExternalFacebook!A:M,10,FALSE)","v":0}]
[{"$f":"dataExtract!A334","v":"2019-09-29"},{"$f":"IF(dataExtract!B334=0,NA(),IF(A334>=todayDate,NA(),dataExtract!B334))","v":{"$error":"#N/A"}},null,null,null,null,null,null,null,null,null,null,null,null,null,{"$f":"dataExtract!A334","v":"2019-09-29"},{"$f":"VLOOKUP(P334,dataExternalFacebook!A:M,13,FALSE)","v":0},0,{"$f":"VLOOKUP(P334,dataExternalFacebook!A:M,10,FALSE)","v":0}]
[{"$f":"dataExtract!A335","v":"2019-09-30"},{"$f":"IF(dataExtract!B335=0,NA(),IF(A335>=todayDate,NA(),dataExtract!B335))","v":{"$error":"#N/A"}},null,null,null,null,null,null,null,null,null,null,null,null,null,{"$f":"dataExtract!A335","v":"2019-09-30"},{"$f":"VLOOKUP(P335,dataExternalFacebook!A:M,13,FALSE)","v":0},0,{"$f":"VLOOKUP(P335,dataExternalFacebook!A:M,10,FALSE)","v":0}]
[{"$f":"dataExtract!A336","v":"2019-10-01"},{"$f":"IF(dataExtract!B336=0,NA(),IF(A336>=todayDate,NA(),dataExtract!B336))","v":{"$error":"#N/A"}},null,null,null,null,null,null,null,null,null,null,null,null,null,{"$f":"dataExtract!A336","v":"2019-10-01"},{"$f":"VLOOKUP(P336,dataExternalFacebook!A:M,13,FALSE)","v":0},0,{"$f":"VLOOKUP(P336,dataExternalFacebook!A:M,10,FALSE)","v":0}]
[{"$f":"dataExtract!A337","v":"2019-10-02"},{"$f":"IF(dataExtract!B337=0,NA(),IF(A337>=todayDate,NA(),dataExtract!B337))","v":{"$error":"#N/A"}},null,null,null,null,null,null,null,null,null,null,null,null,null,{"$f":"dataExtract!A337","v":"2019-10-02"},{"$f":"VLOOKUP(P337,dataExternalFacebook!A:M,13,FALSE)","v":0},0,{"$f":"VLOOKUP(P337,dataExternalFacebook!A:M,10,FALSE)","v":0}]
[{"$f":"dataExtract!A338","v":"2019-10-03"},{"$f":"IF(dataExtract!B338=0,NA(),IF(A338>=todayDate,NA(),dataExtract!B338))","v":{"$error":"#N/A"}},null,null,null,null,null,null,null,null,null,null,null,null,null,{"$f":"dataExtract!A338","v":"2019-10-03"},{"$f":"VLOOKUP(P338,dataExternalFacebook!A:M,13,FALSE)","v":0},0,{"$f":"VLOOKUP(P338,dataExternalFacebook!A:M,10,FALSE)","v":0}]
[{"$f":"dataExtract!A339","v":"2019-10-04"},{"$f":"IF(dataExtract!B339=0,NA(),IF(A339>=todayDate,NA(),dataExtract!B339))","v":{"$error":"#N/A"}},null,null,null,null,null,null,null,null,null,null,null,null,null,{"$f":"dataExtract!A339","v":"2019-10-04"},{"$f":"VLOOKUP(P339,dataExternalFacebook!A:M,13,FALSE)","v":0},0,{"$f":"VLOOKUP(P339,dataExternalFacebook!A:M,10,FALSE)","v":0}]
[{"$f":"dataExtract!A340","v":"2019-10-05"},{"$f":"IF(dataExtract!B340=0,NA(),IF(A340>=todayDate,NA(),dataExtract!B340))","v":{"$error":"#N/A"}},null,null,null,null,null,null,null,null,null,null,null,null,null,{"$f":"dataExtract!A340","v":"2019-10-05"},{"$f":"VLOOKUP(P340,dataExternalFacebook!A:M,13,FALSE)","v":0},0,{"$f":"VLOOKUP(P340,dataExternalFacebook!A:M,10,FALSE)","v":0}]
[{"$f":"dataExtract!A341","v":"2019-10-06"},{"$f":"IF(dataExtract!B341=0,NA(),IF(A341>=todayDate,NA(),dataExtract!B341))","v":{"$error":"#N/A"}},null,null,null,null,null,null,null,null,null,null,null,null,null,{"$f":"dataExtract!A341","v":"2019-10-06"},{"$f":"VLOOKUP(P341,dataExternalFacebook!A:M,13,FALSE)","v":0},0,{"$f":"VLOOKUP(P341,dataExternalFacebook!A:M,10,FALSE)","v":0}]
[{"$f":"dataExtract!A342","v":"2019-10-07"},{"$f":"IF(dataExtract!B342=0,NA(),IF(A342>=todayDate,NA(),dataExtract!B342))","v":{"$error":"#N/A"}},null,null,null,null,null,null,null,null,null,null,null,null,null,{"$f":"dataExtract!A342","v":"2019-10-07"},{"$f":"VLOOKUP(P342,dataExternalFacebook!A:M,13,FALSE)","v":0},0,{"$f":"VLOOKUP(P342,dataExternalFacebook!A:M,10,FALSE)","v":0}]
[{"$f":"dataExtract!A343","v":"2019-10-08"},{"$f":"IF(dataExtract!B343=0,NA(),IF(A343>=todayDate,NA(),dataExtract!B343))","v":{"$error":"#N/A"}},null,null,null,null,null,null,null,null,null,null,null,null,null,{"$f":"dataExtract!A343","v":"2019-10-08"},{"$f":"VLOOKUP(P343,dataExternalFacebook!A:M,13,FALSE)","v":0},0,{"$f":"VLOOKUP(P343,dataExternalFacebook!A:M,10,FALSE)","v":0}]
[{"$f":"dataExtract!A344","v":"2019-10-09"},{"$f":"IF(dataExtract!B344=0,NA(),IF(A344>=todayDate,NA(),dataExtract!B344))","v":{"$error":"#N/A"}},null,null,null,null,null,null,null,null,null,null,null,null,null,{"$f":"dataExtract!A344","v":"2019-10-09"},{"$f":"VLOOKUP(P344,dataExternalFacebook!A:M,13,FALSE)","v":0},0,{"$f":"VLOOKUP(P344,dataExternalFacebook!A:M,10,FALSE)","v":0}]
[{"$f":"dataExtract!A345","v":"2019-10-10"},{"$f":"IF(dataExtract!B345=0,NA(),IF(A345>=todayDate,NA(),dataExtract!B345))","v":{"$error":"#N/A"}},null,null,null,null,null,null,null,null,null,null,null,null,null,{"$f":"dataExtract!A345","v":"2019-10-10"},{"$f":"VLOOKUP(P345,dataExternalFacebook!A:M,13,FALSE)","v":0},0,{"$f":"VLOOKUP(P345,dataExternalFacebook!A:M,10,FALSE)","v":0}]
[{"$f":"dataExtract!A346","v":"2019-10-11"},{"$f":"IF(dataExtract!B346=0,NA(),IF(A346>=todayDate,NA(),dataExtract!B346))","v":{"$error":"#N/A"}},null,null,null,null,null,null,null,null,null,null,null,null,null,{"$f":"dataExtract!A346","v":"2019-10-11"},{"$f":"VLOOKUP(P346,dataExternalFacebook!A:M,13,FALSE)","v":0},0,{"$f":"VLOOKUP(P346,dataExternalFacebook!A:M,10,FALSE)","v":0}]
[{"$f":"dataExtract!A347","v":"2019-10-12"},{"$f":"IF(dataExtract!B347=0,NA(),IF(A347>=todayDate,NA(),dataExtract!B347))","v":{"$error":"#N/A"}},null,null,null,null,null,null,null,null,null,null,null,null,null,{"$f":"dataExtract!A347","v":"2019-10-12"},{"$f":"VLOOKUP(P347,dataExternalFacebook!A:M,13,FALSE)","v":0},0,{"$f":"VLOOKUP(P347,dataExternalFacebook!A:M,10,FALSE)","v":0}]
[{"$f":"dataExtract!A348","v":"2019-10-13"},{"$f":"IF(dataExtract!B348=0,NA(),IF(A348>=todayDate,NA(),dataExtract!B348))","v":{"$error":"#N/A"}},null,null,null,null,null,null,null,null,null,null,null,null,null,{"$f":"dataExtract!A348","v":"2019-10-13"},{"$f":"VLOOKUP(P348,dataExternalFacebook!A:M,13,FALSE)","v":0},0,{"$f":"VLOOKUP(P348,dataExternalFacebook!A:M,10,FALSE)","v":0}]
[{"$f":"dataExtract!A349","v":"2019-10-14"},{"$f":"IF(dataExtract!B349=0,NA(),IF(A349>=todayDate,NA(),dataExtract!B349))","v":{"$error":"#N/A"}},null,null,null,null,null,null,null,null,null,null,null,null,null,{"$f":"dataExtract!A349","v":"2019-10-14"},{"$f":"VLOOKUP(P349,dataExternalFacebook!A:M,13,FALSE)","v":0},0,{"$f":"VLOOKUP(P349,dataExternalFacebook!A:M,10,FALSE)","v":0}]
[{"$f":"dataExtract!A350","v":"2019-10-15"},{"$f":"IF(dataExtract!B350=0,NA(),IF(A350>=todayDate,NA(),dataExtract!B350))","v":{"$error":"#N/A"}},null,null,null,null,null,null,null,null,null,null,null,null,null,{"$f":"dataExtract!A350","v":"2019-10-15"},{"$f":"VLOOKUP(P350,dataExternalFacebook!A:M,13,FALSE)","v":0},0,{"$f":"VLOOKUP(P350,dataExternalFacebook!A:M,10,FALSE)","v":0}]
[{"$f":"dataExtract!A351","v":"2019-10-16"},{"$f":"IF(dataExtract!B351=0,NA(),IF(A351>=todayDate,NA(),dataExtract!B351))","v":{"$error":"#N/A"}},null,null,null,null,null,null,null,null,null,null,null,null,null,{"$f":"dataExtract!A351","v":"2019-10-16"},{"$f":"VLOOKUP(P351,dataExternalFacebook!A:M,13,FALSE)","v":0},0,{"$f":"VLOOKUP(P351,dataExternalFacebook!A:M,10,FALSE)","v":0}]
[{"$f":"dataExtract!A352","v":"2019-10-17"},{"$f":"IF(dataExtract!B352=0,NA(),IF(A352>=todayDate,NA(),dataExtract!B352))","v":{"$error":"#N/A"}},null,null,null,null,null,null,null,null,null,null,null,null,null,{"$f":"dataExtract!A352","v":"2019-10-17"},{"$f":"VLOOKUP(P352,dataExternalFacebook!A:M,13,FALSE)","v":0},0,{"$f":"VLOOKUP(P352,dataExternalFacebook!A:M,10,FALSE)","v":0}]
[{"$f":"dataExtract!A353","v":"2019-10-18"},{"$f":"IF(dataExtract!B353=0,NA(),IF(A353>=todayDate,NA(),dataExtract!B353))","v":{"$error":"#N/A"}},null,null,null,null,null,null,null,null,null,null,null,null,null,{"$f":"dataExtract!A353","v":"2019-10-18"},{"$f":"VLOOKUP(P353,dataExternalFacebook!A:M,13,FALSE)","v":0},0,{"$f":"VLOOKUP(P353,dataExternalFacebook!A:M,10,FALSE)","v":0}]
[{"$f":"dataExtract!A354","v":"2019-10-19"},{"$f":"IF(dataExtract!B354=0,NA(),IF(A354>=todayDate,NA(),dataExtract!B354))","v":{"$error":"#N/A"}},null,null,null,null,null,null,null,null,null,null,null,null,null,{"$f":"dataExtract!A354","v":"2019-10-19"},{"$f":"VLOOKUP(P354,dataExternalFacebook!A:M,13,FALSE)","v":0},0,{"$f":"VLOOKUP(P354,dataExternalFacebook!A:M,10,FALSE)","v":0}]
[{"$f":"dataExtract!A355","v":"2019-10-20"},{"$f":"IF(dataExtract!B355=0,NA(),IF(A355>=todayDate,NA(),dataExtract!B355))","v":{"$error":"#N/A"}},null,null,null,null,null,null,null,null,null,null,null,null,null,{"$f":"dataExtract!A355","v":"2019-10-20"},{"$f":"VLOOKUP(P355,dataExternalFacebook!A:M,13,FALSE)","v":0},0,{"$f":"VLOOKUP(P355,dataExternalFacebook!A:M,10,FALSE)","v":0}]
[{"$f":"dataExtract!A356","v":"2019-10-21"},{"$f":"IF(dataExtract!B356=0,NA(),IF(A356>=todayDate,NA(),dataExtract!B356))","v":{"$error":"#N/A"}},null,null,null,null,null,null,null,null,null,null,null,null,null,{"$f":"dataExtract!A356","v":"2019-10-21"},{"$f":"VLOOKUP(P356,dataExternalFacebook!A:M,13,FALSE)","v":0},0,{"$f":"VLOOKUP(P356,dataExternalFacebook!A:M,10,FALSE)","v":0}]
[{"$f":"dataExtract!A357","v":"2019-10-22"},{"$f":"IF(dataExtract!B357=0,NA(),IF(A357>=todayDate,NA(),dataExtract!B357))","v":{"$error":"#N/A"}},null,null,null,null,null,null,null,null,null,null,null,null,null,{"$f":"dataExtract!A357","v":"2019-10-22"},{"$f":"VLOOKUP(P357,dataExternalFacebook!A:M,13,FALSE)","v":0},0,{"$f":"VLOOKUP(P357,dataExternalFacebook!A:M,10,FALSE)","v":0}]
[{"$f":"dataExtract!A358","v":"2019-10-23"},{"$f":"IF(dataExtract!B358=0,NA(),IF(A358>=todayDate,NA(),dataExtract!B358))","v":{"$error":"#N/A"}},null,null,null,null,null,null,null,null,null,null,null,null,null,{"$f":"dataExtract!A358","v":"2019-10-23"},{"$f":"VLOOKUP(P358,dataExternalFacebook!A:M,13,FALSE)","v":0},0,{"$f":"VLOOKUP(P358,dataExternalFacebook!A:M,10,FALSE)","v":0}]
[{"$f":"dataExtract!A359","v":"2019-10-24"},{"$f":"IF(dataExtract!B359=0,NA(),IF(A359>=todayDate,NA(),dataExtract!B359))","v":{"$error":"#N/A"}},null,null,null,null,null,null,null,null,null,null,null,null,null,{"$f":"dataExtract!A359","v":"2019-10-24"},{"$f":"VLOOKUP(P359,dataExternalFacebook!A:M,13,FALSE)","v":0},0,{"$f":"VLOOKUP(P359,dataExternalFacebook!A:M,10,FALSE)","v":0}]
[{"$f":"dataExtract!A360","v":"2019-10-25"},{"$f":"IF(dataExtract!B360=0,NA(),IF(A360>=todayDate,NA(),dataExtract!B360))","v":{"$error":"#N/A"}},null,null,null,null,null,null,null,null,null,null,null,null,null,{"$f":"dataExtract!A360","v":"2019-10-25"},{"$f":"VLOOKUP(P360,dataExternalFacebook!A:M,13,FALSE)","v":0},0,{"$f":"VLOOKUP(P360,dataExternalFacebook!A:M,10,FALSE)","v":0}]
[{"$f":"dataExtract!A361","v":"2019-10-26"},{"$f":"IF(dataExtract!B361=0,NA(),IF(A361>=todayDate,NA(),dataExtract!B361))","v":{"$error":"#N/A"}},null,null,null,null,null,null,null,null,null,null,null,null,null,{"$f":"dataExtract!A361","v":"2019-10-26"},{"$f":"VLOOKUP(P361,dataExternalFacebook!A:M,13,FALSE)","v":0},0,{"$f":"VLOOKUP(P361,dataExternalFacebook!A:M,10,FALSE)","v":0}]
[{"$f":"dataExtract!A362","v":"2019-10-27"},{"$f":"IF(dataExtract!B362=0,NA(),IF(A362>=todayDate,NA(),dataExtract!B362))","v":{"$error":"#N/A"}},null,null,null,null,null,null,null,null,null,null,null,null,null,{"$f":"dataExtract!A362","v":"2019-10-27"},{"$f":"VLOOKUP(P362,dataExternalFacebook!A:M,13,FALSE)","v":0},0,{"$f":"VLOOKUP(P362,dataExternalFacebook!A:M,10,FALSE)","v":0}]
[{"$f":"dataExtract!A363","v":"2019-10-28"},{"$f":"IF(dataExtract!B363=0,NA(),IF(A363>=todayDate,NA(),dataExtract!B363))","v":{"$error":"#N/A"}},null,null,null,null,null,null,null,null,null,null,null,null,null,{"$f":"dataExtract!A363","v":"2019-10-28"},{"$f":"VLOOKUP(P363,dataExternalFacebook!A:M,13,FALSE)","v":0},0,{"$f":"VLOOKUP(P363,dataExternalFacebook!A:M,10,FALSE)","v":0}]
[{"$f":"dataExtract!A364","v":"2019-10-29"},{"$f":"IF(dataExtract!B364=0,NA(),IF(A364>=todayDate,NA(),dataExtract!B364))","v":{"$error":"#N/A"}},null,null,null,null,null,null,null,null,null,null,null,null,null,{"$f":"dataExtract!A364","v":"2019-10-29"},{"$f":"VLOOKUP(P364,dataExternalFacebook!A:M,13,FALSE)","v":0},0,{"$f":"VLOOKUP(P364,dataExternalFacebook!A:M,10,FALSE)","v":0}]
[{"$f":"dataExtract!A365","v":"2019-10-30"},{"$f":"IF(dataExtract!B365=0,NA(),IF(A365>=todayDate,NA(),dataExtract!B365))","v":{"$error":"#N/A"}},null,null,null,null,null,null,null,null,null,null,null,null,null,{"$f":"dataExtract!A365","v":"2019-10-30"},{"$f":"VLOOKUP(P365,dataExternalFacebook!A:M,13,FALSE)","v":0},0,{"$f":"VLOOKUP(P365,dataExternalFacebook!A:M,10,FALSE)","v":0}]
[{"$f":"dataExtract!A366","v":"2019-10-31"},{"$f":"IF(dataExtract!B366=0,NA(),IF(A366>=todayDate,NA(),dataExtract!B366))","v":{"$error":"#N/A"}},null,null,null,null,null,null,null,null,null,null,null,null,null,{"$f":"dataExtract!A366","v":"2019-10-31"},{"$f":"VLOOKUP(P366,dataExternalFacebook!A:M,13,FALSE)","v":0},0,{"$f":"VLOOKUP(P366,dataExternalFacebook!A:M,10,FALSE)","v":0}]

{"sheet":"dataExternalFacebook","index":3,"n_rows":366,"n_cols":13,"rows_kept":366,"cut":false,"hidden":true,"merged":[]}
["Date","Lifetime Total Likes","Daily New Likes","Daily Unlikes","Daily Page Engaged Users","Weekly Page Engaged Users","28 Days Page Engaged Users","Daily Total Reach","Weekly Total Reach","28 Days Total Reach","Daily Organic Reach","Weekly Organic Reach","28 Days Organic Reach"]
["2018-11-01",35535,"","",248,10664,13516,1488,65224,97637.6,1488,65224,76756]
["2018-11-02",35650,1,"",248,10664,13516,1240,65720,97795.08,1240,65720,76880]
["2018-11-03",35650,"","",124,10664,13516,372,65596,97795.08,372,65596,76880]
["2018-11-04",35650,"","",56,10664,13392,248,65596,98110.040000000008,248,65596,76880]
["2018-11-05",35650,"","",56,3472,13392,124,34596,98110.040000000008,124,34596,76880]
["2018-11-06",35650,"","",56,1736,13392,124,11780,97795.08,124,11780,76756]
["2018-11-07",35650,"","",56,620,13268,124,3720,97637.6,124,3720,76756]
["2018-11-08",35650,"","",56,372,13268,124,2356,97637.6,124,2356,76756]
["2018-11-09",35765,1,"",6572,6696,16244,30380,31372,103464.36,30380,31372,81344]
["2018-11-10",35765,"","",4092,9424,18228,22692,43152,107873.8,22692,43152,84692]
["2018-11-11",35765,"","",496,9920,18476,4216,44888,108661.2,4092,44888,85436]
["2018-11-12",35765,"","",620,10416,18600,2232,45632,108976.16,2232,45632,85560]
["2018-11-13",35765,"","",null,10416,17980,1612,46128,100787.2,1612,46128,79236]
["2018-11-14",35765,"","",null,10416,17980,372,46004,99842.32,248,46004,78368]
["2018-11-15",35765,"","",null,10416,17236,372,46004,98425,372,46004,77376]
["2018-11-16",35880,1,"",2976,7812,18476,17856,34596,99369.88,17856,34596,78244]
["2018-11-17",35995,1,"",6324,9424,21948,36208,41292,104094.28,36208,41292,81964]
["2018-11-18",35995,1,1,4712,11532,22816,26660,49724,107401.36,26660,49724,84568]
["2018-11-19",35995,"","",744,11656,23064,4588,51460,108031.28,4588,51460,85064]
["2018-11-20",35995,"","",620,12028,23560,3720,53940,111653.32,3720,53940,87916]
["2018-11-21",35995,"","",744,12152,23684,3224,54560,111653.32,3100,54560,87916]
["2018-11-22",35995,"","",null,12152,23312,2356,54932,111968.28,2356,54932,88164]
["2018-11-23",35995,"","",124,10664,23188,124,53940,111968.28,124,53940,88164]
["2018-11-24",35995,"","",null,6448,23188,992,35216,111968.28,992,35216,88164]
["2018-11-25",35995,"","",3720,5704,24428,28148,36952,114960.40000000001,28148,36952,90520]
["2018-11-26",35995,"","",3596,7564,22568,25792,47864,110708.44,25792,47864,87172]
["2018-11-27",35995,"","",1116,7936,22320,12028,49104,100472.24,12028,49104,79112]
["2018-11-28",35995,"","",620,7936,22320,4960,51212,96377.76,4960,51212,75888]
["2018-11-29",35995,"","",2232,8928,22444,21824,54436,98425,21824,54436,77500]
["2018-11-30",35995,"","",744,9176,22568,12896,57040,98739.96,12896,57040,77748]
["2018-12-01",35995,"","",248,9424,22568,2604,57164,98739.96,2604,57164,77748]
["2018-12-02",35995,"","",124,7068,22568,2976,48484,98425,2976,48484,77500]
["2018-12-03",35995,"","",null,4464,22568,1612,39060,98267.520000000004,1488,39060,77376]
["2018-12-04",35995,"","",null,3596,22568,496,35092,98267.520000000004,496,35092,77376]
["2018-12-05",35995,"","",124,3224,22568,2356,33232,98267.520000000004,2356,33232,77376]
["2018-12-06",35995,"","",1240,2480,23064,18972,32736,105669.08,18972,32736,83204]
["2018-12-07",35995,"","",5456,7068,22196,38688,53196,115432.84,38688,53196,90892]
["2018-12-08",36110,1,"",2232,8556,21328,18972,59024,114960.40000000001,18972,59024,90520]
["2018-12-09",36110,"","",496,8680,21204,4836,60760,115905.28,4836,60760,91264]
["2018-12-10",36110,"","",124,8804,21204,3472,61380,115905.28,3472,61380,91264]
["2018-12-11",36110,"","",248,8928,21204,868,61752,115905.28,868,61752,91264]
["2018-12-12",36110,"","",null,8928,21204,248,61380,115905.28,124,61256,91264]
["2018-12-13",36110,"","",248,8060,21328,1116,50468,115905.28,1116,50344,91264]
["2018-12-14",36110,"","",496,3596,20832,16492,33108,116220.24,16492,33108,91512]
["2018-12-15",36110,"","",1736,3100,18352,13640,28520,113543.08,13640,28520,89404]
["2018-12-16",36110,"","",1860,4340,17732,12028,29884,111338.36,12028,29884,87668]
["2018-12-17",36110,"","",248,4340,17484,2604,29388,110865.92,2604,29388,87296]
["2018-12-18",36110,"","",1364,4836,17112,16864,38440,108661.2,16864,38440,85560]
["2018-12-19",36110,"","",620,5332,17236,8556,42408,110078.52,8556,42408,86676]
["2018-12-20",36110,"","",124,5332,17236,1736,42408,109448.6,1736,42408,86180]
["2018-12-21",36110,"","",868,5332,17360,15872,40176,109448.6,15872,40176,86180]
["2018-12-22",36110,"","",null,4092,17360,2604,34472,109448.6,2604,34472,86180]
["2018-12-23",36110,"","",null,2604,15996,620,26908,107243.88,620,26908,84444]
["2018-12-24",36110,"","",null,2356,14508,248,25916,102362,248,25916,80600]
["2018-12-25",36110,"","",null,1612,14012,496,22444,100472.24,496,22444,79112]
["2018-12-26",36225,1,"",3968,4712,15872,16864,25048,99842.32,16864,25048,78616]
["2018-12-27",36340,1,"",2852,7316,17360,8804,29264,98110.040000000008,8804,29264,77252]
["2018-12-28",36340,"","",1612,7688,17360,14260,28892,97007.680000000008,14260,28892,76384]
["2018-12-29",36340,"","",744,8308,17484,7068,30132,97165.16,7068,30132,76508]
["2018-12-30",36455,1,"",248,8432,17608,3224,31000,97795.08,3224,31000,77004]
["2018-12-31",36455,"","",124,8432,17608,744,31124,97795.08,744,31124,77004]
["2019-01-01",36455,"","",null,8432,17608,1736,31248,98267.520000000004,1736,31248,77376]
["2019-01-02",36455,"","",496,5332,17856,4712,27280,98110.040000000008,4588,27156,77004]
["2019-01-03",36455,"","",744,3348,17112,12028,25172,90551,12028,25048,71052]
["2019-01-04",36455,"","",1364,3100,14136,10292,26784,81417.16,10292,26660,63984]
["2019-01-05",36455,"","",620,2728,13144,21824,34720,86299.040000000008,21824,34596,67828]
["2019-01-06",36455,"","",248,2728,13020,5332,35712,86141.56,5332,35588,67704]
["2019-01-07",36455,"","",124,2604,12896,3100,36456,85984.08,3100,36332,67456]
["2019-01-08",36455,"","",1116,3348,13516,3596,37448,87558.88,3596,37324,68820]
["2019-01-09",36570,1,"",1488,4216,14384,1116,37324,87716.36,1116,37324,68944]
["2019-01-10",36570,"","",372,4216,14260,2976,35960,88188.800000000003,2976,35960,69316]
["2019-01-11",36570,"","",2604,5456,15252,17608,37324,84724.24,17608,37324,66588]
["2019-01-12",36570,"","",3596,7564,15996,14260,35712,83936.84,14260,35712,65844]
["2019-01-13",36570,"","",3968,10168,16492,20212,40052,84094.32,20212,40052,66092]
["2019-01-14",36570,"","",992,11036,16864,4092,40424,84251.8,4092,40424,66216]
["2019-01-15",36570,"","",2852,11408,17484,13144,39680,83936.84,13144,39680,65844]
["2019-01-16",36570,"","",744,10912,17360,4960,40176,82519.520000000004,4960,40176,64728]
["2019-01-17",36570,"","",3720,11780,18104,19468,43028,86614,19468,43028,67952]
["2019-01-18",36570,"","",868,10912,18600,10292,43772,88976.2,10292,43772,69936]
["2019-01-19",36570,"","",496,9672,18600,3348,42904,88976.2,3348,42904,69936]
["2019-01-20",36570,"","",124,7688,18724,1488,37820,88818.72,1488,37820,69812]
["2019-01-21",36570,"","",2232,8432,19344,22940,46004,92440.76,22940,46004,72540]
["2019-01-22",36570,"","",1612,8804,20956,8184,50592,96220.28,8184,50592,75764]
["2019-01-23",36570,"","",124,8308,19220,1488,51212,95905.32,1364,51212,75516]
["2019-01-24",36570,"","",1860,6944,17980,16740,41292,95117.92,16740,41044,74896]
["2019-01-25",36570,"","",248,6448,17856,3348,35588,94960.44,3348,35464,74772]
["2019-01-26",36570,"","",248,6200,17980,744,34720,94015.56,744,34596,74028]
["2019-01-27",36570,"","",null,6076,17980,248,34348,93700.6,248,34224,73780]
["2019-01-28",36570,"","",124,4092,18104,248,26040,94015.56,248,25916,74028]
["2019-01-29",36570,"","",null,2604,18104,{"$error":"#VALUE!"},21328,93700.6,{"$error":"#VALUE!"},21204,73780]
["2019-01-30",36570,"","",null,2480,17980,372,20584,93700.6,372,20584,73780]
["2019-01-31",36685,1,"",124,744,17980,744,5208,93700.6,744,5208,73780]
["2019-02-01",36800,1,"",124,620,17856,248,2480,90236.040000000008,124,2356,71052]
["2019-02-02",36800,"","",null,372,17608,248,2108,80472.28,248,1984,63364]
["2019-02-03",36800,"","",null,372,17608,124,1860,77480.160000000003,57000,1736,61008]
["2019-02-04",36800,"","",null,248,17608,248,1736,76377.8,124,1612,60140]
["2019-02-05",36915,1,"",7688,7936,21948,90024,90272,165511.48000000001,89404,89776,129704]
["2019-02-06",36915,"","",2852,10416,23560,55304,139996,221101.92,50592,135780,170128]
["2019-02-07",36800,"","",868,11160,24180,17360,153760,235117.64,11408,144584,177072]
["2019-02-08",36800,"","",620,11532,23560,11160,162564,243621.56,5704,149668,180792]
["2019-02-09",36800,"","",744,12152,22816,11532,168392,247716.04,5456,152644,181040]
["2019-02-10",36800,"","",744,12772,21452,8060,172608,251495.56,2480,153760,181288]
["2019-02-11",36800,"","",5456,16120,23932,28768,182528,260156.96,22816,158968,182776]
["2019-02-12",36915,1,"",1116,11284,23808,17360,126356,268818.36,8184,94488,183272]
["2019-02-13",37030,1,"",1116,9672,23932,11904,84568,275432.52,3720,50964,184140]
["2019-02-14",37145,1,"",496,9424,22816,7440,74772,271338.03999999998,2108,42284,177568]
["2019-02-15",37260,1,"",496,9300,22444,9672,73780,274645.12,620,37324,172856]
["2019-02-16",37260,"","",124,9052,22196,248,66216,273857.72000000003,248,33604,171864]
["2019-02-17",37375,1,"",124,8804,22196,1240,62248,275747.48,1240,32612,173104]
["2019-02-18",37375,"","",124,3472,20832,744,43772,272440.40000000002,620,15252,170376]
["2019-02-19",37375,"","",null,2356,19592,248,30132,268818.36,248,8308,167524]
["2019-02-20",{"$f":"B112*1.03","v":38496.25},null,null,496,9300,22444,9672,73780,274645.12,620,37324,172856]
["2019-02-21",{"$f":"B113*1.03","v":39651.137500000004},null,null,124,9052,22196,248,66216,273857.72000000003,248,33604,171864]
["2019-02-22",40840.671625000003,null,null,124,8804,22196,1240,62248,275747.48,1240,32612,173104]
["2019-02-23",42065.891773750001,null,null,124,3472,20832,744,43772,272440.40000000002,620,15252,170376]
["2019-02-24",43327.868526962506,null,null,null,2356,19592,248,30132,268818.36,248,8308,167524]
["2019-02-25",44627.704582771381,null,null,496,9300,22444,9672,73780,274645.12,620,37324,172856]
["2019-02-26",45966.53572025452,null,null,124,9052,22196,248,66216,273857.72000000003,248,33604,171864]
["2019-02-27",47345.531791862159,null,null,124,8804,22196,1240,62248,275747.48,1240,32612,173104]
["2019-02-28",48765.897745618022,null,null,124,3472,20832,744,43772,272440.40000000002,620,15252,170376]
["2019-03-01",50228.874677986561,null,null,null,2356,19592,248,30132,268818.36,248,8308,167524]
["2019-03-02",51735.740918326163,null,null,7688,7936,21948,90024,90272,165511.48000000001,89404,89776,129704]
["2019-03-03",53287.813145875945,null,null,2852,10416,23560,55304,139996,221101.92,50592,135780,170128]
["2019-03-04",54886.447540252222,null,null,868,11160,24180,17360,153760,235117.64,11408,144584,177072]
["2019-03-05",56533.04096645979,null,null,620,11532,23560,11160,162564,243621.56,5704,149668,180792]
["2019-03-06",58229.032195453583,null,null,744,12152,22816,11532,168392,247716.04,5456,152644,181040]
["2019-03-07",59975.90316131719,null,null,744,12772,21452,8060,172608,251495.56,2480,153760,181288]
["2019-03-08",61775.180256156709,null,null,496,9300,22444,9672,73780,274645.12,620,37324,172856]
["2019-03-09",63628.43566384141,null,null,124,9052,22196,248,66216,273857.72000000003,248,33604,171864]
["2019-03-10",65537.28873375665,null,null,124,8804,22196,1240,62248,275747.48,1240,32612,173104]
["2019-03-11",67503.407395769347,null,null,124,3472,20832,744,43772,272440.40000000002,620,15252,170376]
["2019-03-12",69528.509617642427,null,null,496,9300,22444,9672,73780,274645.12,620,37324,172856]
["2019-03-13",71614.364906171701,null,null,124,9052,22196,248,66216,273857.72000000003,248,33604,171864]
["2019-03-14",73762.79585335686,null,null,124,8804,22196,1240,62248,275747.48,1240,32612,173104]
["2019-03-15",75975.679728957562,null,null,124,3472,20832,744,43772,272440.40000000002,620,15252,170376]
["2019-03-16",78254.950120826295,null,null,496,5332,17856,4712,27280,98110.040000000008,4588,27156,77004]
["2019-03-17",80602.598624451086,null,null,744,3348,17112,12028,25172,90551,12028,25048,71052]
["2019-03-18",83020.676583184628,null,null,1364,3100,14136,10292,26784,81417.16,10292,26660,63984]
["2019-03-19",85511.296880680165,null,null,620,2728,13144,21824,34720,86299.040000000008,21824,34596,67828]
["2019-03-20",88076.635787100575,null,null,248,2728,13020,5332,35712,86141.56,5332,35588,67704]
["2019-03-21",90718.934860713591,null,null,7688,7936,21948,90024,90272,165511.48000000001,89404,89776,129704]
["2019-03-22",93440.502906534995,null,null,2852,10416,23560,55304,139996,221101.92,50592,135780,170128]
["2019-03-23",96243.717993731043,null,null,868,11160,24180,17360,153760,235117.64,11408,144584,177072]
["2019-03-24",99131.029533542984,null,null,620,11532,23560,11160,162564,243621.56,5704,149668,180792]
["2019-03-25",102104.96041954927,null,null,744,12152,22816,11532,168392,247716.04,5456,152644,181040]
["2019-03-26",105168.10923213576,null,null,744,12772,21452,8060,172608,251495.56,2480,153760,181288]
["2019-03-27",108323.15250909983,null,null,5456,16120,23932,28768,182528,260156.96,22816,158968,182776]
["2019-03-28",111572.84708437283,null,null,1116,11284,23808,17360,126356,268818.36,8184,94488,183272]
["2019-03-29",114920.03249690402,null,null,1116,9672,23932,11904,84568,275432.52,3720,50964,184140]
["2019-03-30",118367.63347181115,null,null,1116,9672,23932,11904,84568,275432.52,3720,50964,184140]
["2019-03-31",121918.66247596548]
["2019-04-01"]
["2019-04-02"]
["2019-04-03"]
["2019-04-04"]
["2019-04-05"]
["2019-04-06"]
["2019-04-07"]
["2019-04-08"]
["2019-04-09"]
["2019-04-10"]
["2019-04-11"]
["2019-04-12"]
["2019-04-13"]
["2019-04-14"]
["2019-04-15"]
["2019-04-16"]
["2019-04-17"]
["2019-04-18"]
["2019-04-19"]
["2019-04-20"]
["2019-04-21"]
["2019-04-22"]
["2019-04-23"]
["2019-04-24"]
["2019-04-25"]
["2019-04-26"]
["2019-04-27"]
["2019-04-28"]
["2019-04-29"]
["2019-04-30"]
["2019-05-01"]
["2019-05-02"]
["2019-05-03"]
["2019-05-04"]
["2019-05-05"]
["2019-05-06"]
["2019-05-07"]
["2019-05-08"]
["2019-05-09"]
["2019-05-10"]
["2019-05-11"]
["2019-05-12"]
["2019-05-13"]
["2019-05-14"]
["2019-05-15"]
["2019-05-16"]
["2019-05-17"]
["2019-05-18"]
["2019-05-19"]
["2019-05-20"]
["2019-05-21"]
["2019-05-22"]
["2019-05-23"]
["2019-05-24"]
["2019-05-25"]
["2019-05-26"]
["2019-05-27"]
["2019-05-28"]
["2019-05-29"]
["2019-05-30"]
["2019-05-31"]
["2019-06-01"]
["2019-06-02"]
["2019-06-03"]
["2019-06-04"]
["2019-06-05"]
["2019-06-06"]
["2019-06-07"]
["2019-06-08"]
["2019-06-09"]
["2019-06-10"]
["2019-06-11"]
["2019-06-12"]
["2019-06-13"]
["2019-06-14"]
["2019-06-15"]
["2019-06-16"]
["2019-06-17"]
["2019-06-18"]
["2019-06-19"]
["2019-06-20"]
["2019-06-21"]
["2019-06-22"]
["2019-06-23"]
["2019-06-24"]
["2019-06-25"]
["2019-06-26"]
["2019-06-27"]
["2019-06-28"]
["2019-06-29"]
["2019-06-30"]
["2019-07-01"]
["2019-07-02"]
["2019-07-03"]
["2019-07-04"]
["2019-07-05"]
["2019-07-06"]
["2019-07-07"]
["2019-07-08"]
["2019-07-09"]
["2019-07-10"]
["2019-07-11"]
["2019-07-12"]
["2019-07-13"]
["2019-07-14"]
["2019-07-15"]
["2019-07-16"]
["2019-07-17"]
["2019-07-18"]
["2019-07-19"]
["2019-07-20"]
["2019-07-21"]
["2019-07-22"]
["2019-07-23"]
["2019-07-24"]
["2019-07-25"]
["2019-07-26"]
["2019-07-27"]
["2019-07-28"]
["2019-07-29"]
["2019-07-30"]
["2019-07-31"]
["2019-08-01"]
["2019-08-02"]
["2019-08-03"]
["2019-08-04"]
["2019-08-05"]
["2019-08-06"]
["2019-08-07"]
["2019-08-08"]
["2019-08-09"]
["2019-08-10"]
["2019-08-11"]
["2019-08-12"]
["2019-08-13"]
["2019-08-14"]
["2019-08-15"]
["2019-08-16"]
["2019-08-17"]
["2019-08-18"]
["2019-08-19"]
["2019-08-20"]
["2019-08-21"]
["2019-08-22"]
["2019-08-23"]
["2019-08-24"]
["2019-08-25"]
["2019-08-26"]
["2019-08-27"]
["2019-08-28"]
["2019-08-29"]
["2019-08-30"]
["2019-08-31"]
["2019-09-01"]
["2019-09-02"]
["2019-09-03"]
["2019-09-04"]
["2019-09-05"]
["2019-09-06"]
["2019-09-07"]
["2019-09-08"]
["2019-09-09"]
["2019-09-10"]
["2019-09-11"]
["2019-09-12"]
["2019-09-13"]
["2019-09-14"]
["2019-09-15"]
["2019-09-16"]
["2019-09-17"]
["2019-09-18"]
["2019-09-19"]
["2019-09-20"]
["2019-09-21"]
["2019-09-22"]
["2019-09-23"]
["2019-09-24"]
["2019-09-25"]
["2019-09-26"]
["2019-09-27"]
["2019-09-28"]
["2019-09-29"]
["2019-09-30"]
["2019-10-01"]
["2019-10-02"]
["2019-10-03"]
["2019-10-04"]
["2019-10-05"]
["2019-10-06"]
["2019-10-07"]
["2019-10-08"]
["2019-10-09"]
["2019-10-10"]
["2019-10-11"]
["2019-10-12"]
["2019-10-13"]
["2019-10-14"]
["2019-10-15"]
["2019-10-16"]
["2019-10-17"]
["2019-10-18"]
["2019-10-19"]
["2019-10-20"]
["2019-10-21"]
["2019-10-22"]
["2019-10-23"]
["2019-10-24"]
["2019-10-25"]
["2019-10-26"]
["2019-10-27"]
["2019-10-28"]
["2019-10-29"]
["2019-10-30"]
["2019-10-31"]

{"sheet":"information","index":4,"n_rows":24,"n_cols":3,"rows_kept":24,"cut":false,"hidden":true,"merged":[]}
["Adobe Lab Exercise"]
[]
["Author","Kristi Barrow"]
[]
["Date",{"$f":"TODAY()","v":"2019-03-27"}]
[]
["Report Date",{"$f":"TODAY()","v":"2019-03-27"}]
[]
["Report Week Start Date",{"$f":"+reportWeekEnd-6","v":"2019-03-17"}]
[]
["Report Week End Date",{"$f":"INT((B7-1)/7)*7+0","v":"2019-03-23"}]
[]
["Product",{"$f":"VLOOKUP(B24,B17:C20,2,FALSE)","v":"Basic High Waist Jean"}]
[]
["Chart Title",{"$f":"B13&\" - Orders for last 8 weeks\"","v":"Basic High Waist Jean - Orders for last 8 weeks"}]
[]
["Products",1,"Basic High Waist Jean"]
[null,2,"Bling Belt High Waist Jean"]
[null,3,"Dark Slimmer Jean"]
[null,4,"Baby Blue Low Waist Jean"]
[]
[]
[]
["Product Selection",1]